Workbook

Sheet COVER

Sheet CB and WFG Act 2015
B2: Community Benefits links to Wellbeing Future Generations Goals
B3: Definition of Community Benefits in Wales. Community Benefits refers to the inclusion of ‘community benefit objectives’ or ‘social clauses’ as contract conditions in public sector procurements designed to provide added value / additional benefits over and above those for which the contract has been put in place, that ensuring wider social, economic and environmental issues are taken into account whenever possible when tendering construction, service or supplies contracts’
B4: This version of the Community Benefits Measurement Tool is designed to help public sector bodies in Wales to report outcomes from contracts for which Community Benefit objectives have been planned and to show how these outcomes support delivery of the Wellbeing of Future Generations Act 2015 (WFG Act), Wellbeing Goals. While it is possible to support each of the WFGA Goals through application of the Community Benefits approach the nature / subject matter of your contract will largely determine which Goals are most relevant. In general Community Benefits is particularly focused on delivering outcomes that contribute to the WFGA Goals of A Prosperous Wales, A Healthier Wales and A More Equal Wales. A Prosperous Wales by helping to create opportunities to support the development of skills and grow SMEs in order to positively impact the Welsh economy and by doing so promoting A Healthier Wales, recognising the strong and well established association between worklessness and poor health and conversely employment and better physical and mental health, material well-being and full participation in society for individuals, as well as the broader impact on their families. Families without a working member are much more likely to suffer persistent low income and poverty and in so doing promoting A More Equal Wales by working to provide employment and training opportunities, and also education and community support across all areas of Wales, encouraging a focus on those in 'disadvantaged' groups. A Prosperous Wales by helping to create opportunities to support the development of skills and grow SMEs in order to positively impact the Welsh economy and by doing so promoting To help with the identification of these links and to help reporting against each line of this measurement tool has been colour coded as follows to highlight the Wellbeing Goals to which they relate and may contribute.
B5: 1. A prosperous Wales
B6: An innovative, productive and low carbon society which recognises the limits of the global environment and therefore uses resources efficiently and proportionately (including acting on climate change); and which develops a skilled and well-educated population in an economy which generates wealth and provides employment opportunities, allowing people to take advantage of the wealth generated through securing decent work.
B7: 2. A resilient Wales
B8: A nation which maintains and enhances a biodiverse natural environment with healthy functioning ecosystems that support social, economic and ecological resilience and the capacity to adapt to change (for example climate change).
B9: 3. A healthier Wales
B10: A society in which people’s physical and mental wellbeing is maximised and in which choices and behaviours that benefit future health are understood.
B11: 4. A more equal Wales
B12: A society that enables people to fulfil their potential no matter what their background or circumstances (including their socio economic background and circumstances).
B13: 5. A Wales of cohesive communities
... B18: A nation which, when doing anything to improve the economic, social, environmental and cultural wellbeing of Wales, takes account of whether doing such a thing may make a positive contribution to global wellbeing.

Sheet BACKGROUND
B2: Community Benefits - - Delivering for Future Generations Wellbeing of Future Generations (WFG) Community Benefits Measurement Tool
B3: BACKGROUND
B4: This version of the Community Benefits Measurement Tool is designed to help public sector bodies in Wales to report outcomes from contracts for which Community Benefit objectives have been planned and to show how these outcomes support delivery of the Wellbeing of Future Generations Act 2015 (WFG Act), Wellbeing Goals. The current version of this reporting tool will always be available on Gov.Wales
B5: What information / detail of outcomes do I need to record?
B6: All information recorded in the Community Benefits Measurement Tool should be for contract-related activity only, rather than overall company operations. Mandatory Community Benefits - Key Metrics that must be recorded as a minimum The following is a list of the key metrics that must be recorded as a minimum to allow the calculation of the basic socio-economic benefits of applying the Community Benefits approach to this contract. This information will be supplemented by the outcomes for any additional Community Benefit objectives set by the public sector organisation for this contract. • Breakdown of the contract value between spending on businesses/suppliers vs. people/staff [General worksheet 1] • Amount spent on Wales-based suppliers [Supply Chain worksheet 2] • Amount spent on Wales-based suppliers who are also SMEs [Supply Chain worksheet 2] • Amount spent on Wales-based based suppliers who are also third sector enterprises [Supply Chain worksheet 2] • Amount spent on Wales-based staff employed on this project as either full-time employees or employed as Community Benefit recruits or taken on as trainees or for work experience. (Training and work experience categories are listed on the TRAINING worksheet) [Employment worksheet 3] • Total number of unemployed and disadvantaged people hired [Employment worksheet 3] Optional Community Benefits In addition record any other contract specific Community Benefit objectives that the Public Sector Organisation has set.
B7: How is the information from Measurement Tool submissions used?
B8: Welsh Government - The outcomes from individual measurement tool submissions are aggregated to provide regular headline reports for Ministers on Community Benefits progress. While data on the outcomes reported in measurement tool submission may also be made available to other interested parties, the personal contact details captured by the measurement tool will only be used to clarify data / information in the submission and to validate sign off by the Public Sector Organisation and Lead contractor / supplier of service provider for governance purposes. Public Sector Bodies - It is recommended that public sector bodies subject to the Wellbeing of Future Generations Act should retain copies of complete measurement tools to assist their reporting against the Wellbeing Goals of the Act.
B9: Privacy Notice - How we use your information Personal contact details The personal contact details of the client side project manager for the project and the contractor / client side person who submits the CBMT in the Contract Header Details page of the CBMT submission are only held in this copy of your CB tool submission and used solely for the purpose of clarifying entries at the time of submission. CB outcomes reported Your CBMT submission is held in restricted access files and only made available on a ‘need to know basis’. While Welsh Government officials managing the CB policy may seek clarification of specific data / entries, no judgements are made of the relative merits of the outcomes achieved on a project. It is assumed that the clients and contractors have used their best endeavours and results reported reflect the particular context in which projects have been delivered. The project details and CB outcomes reported in CBMT submissions are transposed into a database to allow analysis of aggregated CB outcomes and to report headline figures to the Minister for Finance and Trefnydd in monthly updates and other Ministers and Welsh Government officials on a ‘need to know basis’. Contacts If you have any queries about this Privacy Notice please email the Welsh Government Commercial Policy & Delivery Team mailbox CommercialPolicy@gov.wales. For further information about the information which the Welsh Government holds and its use, or if you wish to exercise your rights under the GDPR, please see contact details below: Data Protection Officer Welsh Government Cathays Park CARDIFF CF10 3NQ Email: DataProtectionOfficer@gov.wales The contact details for the Information Commissioner’s Office https://ico.org.uk/global/contact-us/postal-addresses/
B10: Who should complete this tool?
B11: The tool may be completed by either the Public Sector Organisation or Service Provider/Supplier. However both parties will need to sign off the submission on the Sign Off Form worksheet. For the Employment, Community and Training worksheets, data from subcontractors is also welcome if appropriate and reasonably practicable for the size of the contract.
B12: What do I need to do and how does the tool work?
B13: Community Benefit objectives need to be planned by the Public Sector Organisation as part of the overall procurement strategy, this Measurement Tool is not designed to guide you through planning of your Community Benefit objectives, it is simply the mechanism for recording and reporting the Community Benefit outcomes. For more detailed guidance on how to plan Community Benefit objectives and how to use this tool please contact the Welsh Government Commercial Policy & Delivery Team - CommercialPolicy@gov.wales The worksheets are self explanatory. Start by completing the GENERAL, SUPPLY CHAIN and EMPLOYMENT worksheets which capture the mandatory information required. Subsequent worksheets 'ENVIRONMENT & RESOURCES, COMMUNITY & EDUCATION', 'CULTURE' and 'TRAINING' are for you to record outcomes related to the Community Benefits KPIs / objectives set by the Public Sector Organisation. The RESULTS worksheet automatically summarises the community benefits achieved based on the information submitted. The COMMENTARY worksheet is for any additional information you may wish to provide relating to the project such as contextual aspects of the procurement / project that may have affected the outcomes e.g. modular offsite construction; use of specialist workers / accredited installers or suppliers from outside Wales which may have restricted Community Benefit opportunities in the area where the contract / project is being delivered.
... B22: Please use the COMMENTARY boxes alongside each row to add a short explanation for the benefits recorded whenever possible. Welsh Government is keen to develop case studies from measurement tool submissions. However figures / numbers without adequate explanatory detail cannot be used. It is particularly important to provide a brief 'commentary' in the cells to the right of any monetary or other figures to explain the detail or context behind figures being reported e.g. on the COMMUNITY & EDUCATION sheet to detail how cash / sponsorships have been distributed and to explain the activities behind the in-kind benefits recorded. There is also a general COMMENTARY worksheet to use to provide any other information you feel is relevant to the submission that isn't captured elsewhere, such as contextual aspects of the procurement / project that may have affected the outcomes e.g. modular offsite construction; use of specialist workers / accredited installers or suppliers from outside Wales which may have restricted Community Benefit opportunities in the area where the contract / project is being delivered. Separate documents may also be submitted along with the CB tool submission providing supporting information e.g. case studies.

Sheet CONTRACT HEADER DETAILS
B1: Please complete the following information about the contract and read the instructions on the BACKGROUND worksheet prior to completing this tool.
B2: CONTRACT / FRAMEWORK INFORMATION | D2: GUIDANCE
B3: NAME OF PUBLIC SECTOR ORGANISATION
B4: SECTOR (Of the Public Sector Organisation) | E4: LOCAL GOVERNMENT (General) | F4: LOCAL GOVERNMENT (Housing) | G4: WELSH GOVERNMENT | H4: WELSH GOVERNMENT SPONSORED BODY | I4: HIGHER EDUCATION | J4: FURTHER EDUCATION | K4: NHS | L4: HOUSING (Housing Association / Registered Social Landlord)
B5: PROJECT MANAGER (Main contact point at Public Sector Organisation) | D5: Please provide the name and contact details of the Project manager / main contact in the Public Sector Organisation. These personal contact details will only be used to clarify data / information in the submission
B6: EMAIL ADDRESS
B7: CONTACT TELEPHONE NUMBER
C8: CONTRACT DETAILS
B9: CONTRACT TITLE | D9: Please use the contract title as it appeared in the Contract Notice
B10: CONTRACT DESCRIPTION | D10: Please provide a brief description of the project or procurement
B11: HOW IS THIS CONTRACT / PROJECT FUNDED? | D11: The purpose of this line is to allow Value Wales to track and report back to Welsh Government Depts funding fully or part funding projects i.e. 21st Century Schools Programme and Housing and Regeneration Division on projects utilising WHQS funding. If 'Other welsh Government Dept Funding' is selected from the drop down menu in column C please provide details in this box | F11: SELF FUNDED (Clients own funds) | G11: 21st CENTURY SCHOOLS PROG. (Match funding) | H11: WELSH HOUSING QUALITY STANDARD (Whether partly or wholly WHQS funding) | I11: OTHER WELSH GOVERNMENT DEPT. (Whether partly or wholly funded)
B12: WHERE WILL THE CONTRACT BE DELIVERED? | D12: Please indicate the geographical area in which the majority of the contract will be delivered. 1) All Wales 2) Regional - SE, SW, NE, NW & Central (Powys) 3) Or by Local Government area NB as the tool only allows one option to be selected, if the submission relates to a contract or project that is being delivered in multiple areas not defined in the drop down menu/list use the Contract Description (cell C10 to explain) | E12: All Wales | F12: Region: North East (Denbighshire; Flintshire; Wrexham) | G12: Region: North West (Anglesey; Conwy; Gwynedd) | H12: Region: South East (Blaenau Gwent; Bridgend;Caerphilly;Cardiff; Merthyr Tydfil;Monmouthshire;Newport;Rhondda Cynon Taf;Torfaen;Vale of Glamorgan) | I12: Region: Central (Powys) | J12: Blaenau Gwent | K12: Bridgend | L12: Caerphilly | M12: Cardiff | N12: Carmarthenshire | O12: Ceredigion | P12: Conwy | Q12: Denbighshire | R12: Flintshire | S12: Gwynedd | T12: Isle of Anglesey | U12: Merthyr Tydfil | V12: Monmouthshire | W12: Neath Port Talbot | X12: Newport | Y12: Pembrokeshire | Z12: Powys | AA12: Rhondda Cynon Taf | AB12: Swansea | AC12: Torfaen | AD12: Vale of Glamorgan | AE12: Wrexham
B13: TOTAL ESTIMATED CONTRACT VALUE | D13: For contracts of longer than 12 months this is the estimated expenditure over the whole period of the contract.
B14: CONTRACT DURATION | F14: LESS THAN 1 YEAR | G14: 1 TO 2 YEARS | H14: OVER 3 YEARS
B15: CONTRACT START DATE (Month/Year)
B16: CONTRACT END DATE (DD/MM/YY)
B17: IS THIS CONTRACT VIA A FRAMEWORK? | F17: YES | G17: NO
B18: IF THIS CONTRACT HAS BEEN AWARDED AS PART OF A FRAMEWORK, PLEASE PROVIDE DETAILS OF THE FRAMEWORK | D18: Please include the title of the Framework AND duration of the framework (e.g. 3 years with an option for an additional year) as stated in the OJEU / Contract notice | F18: YES | G18: NO
C19: SUBMISSION DETAILS
B20: WHAT PERIOD DOES THIS SUBMISSION COVER? | D20: Community Benefits Measurement Tools should be submitted annually on the anniversary of the start of the project or at the end of the contract for contracts of less than 2 years/24 months. Please confirm the start and end dates for the period covered by this submission.
B21: IF THIS SUBMISSION IS FOR 1 YEAR OF A MULTI YEAR CONTRACT WHICH YEAR DOES THIS SUBMISSION COVER? (e.g. Year 1 of 1, Year 1 of 2, Year 2 of 2 ) | D21: If the submission covers the whole period of the contract please state Year 1 of 1. For submissions that are part of multi year contracts enter the year the submission covers e.g. Year 1 of 2; Year 2 of 2 etc. For submissions covering multiple years please state the years covered by the submission e.g. Years 1 to 3 or years 1,2,3 | F21: Year 1 of a 1 year contract / framework | G21: Year 1 of a 2 year contract / framework | H21: Year 2 of a 2 year contract / framework | I21: Year 1 of a 3 year contract / framework | J21: Year 2 of a 3 year contract / framework | K21: Year 3 of a 3 year contract / framework | L21: Year 1 of a 4 year contract / framework | M21: Year 2 of a 4 year contract / framework | N21: Year 3 of a 4 year contract / framework | O21: Year 4 of a 4 year contract / framework
C22: CONTACT DETAILS
B23: DATE THIS TOOL WAS COMPLETED (DD/MM/YYYY)
B24: NAME OF PERSON SUBMITTING THIS TOOL | D24: Please PRINT the name of the person submitting this measurement tool. (If You have a digital signature this can be inserted into the signature box) These personal contact details will only be used to clarify data / information in the submission it required.
B25: EMAIL ADDRESS
B26: CONTACT TELEPHONE NUMBER
B27: ENQUIRIES & SUBMISSIONS
B28: Completed Measurement Tool submissions should be sent to: | C28: Welsh Government Commercial Policy & Delivery Team CommercialPolicy@gov.wales
B29: Enquires on the Measurement Tool or any aspect of Community Benefits Policy please contact
B30: VERSION CONTROL | C30: VERSION 10.2 - 29/06/2023

Sheet 1. GENERAL
B2: 1: GENERAL CONTRACT INFORMATION | J2: GUIDANCE
B3: 1.1 | C3: Select from the dropdown menu the category best describing the nature of the contract. | I3: CONSTRUCTION | J3: This version of the Community Benefits Measurement Tool is designed • To help public sector bodies in Wales to report outcomes from contracts for Works (Construction or Infrastructure) Services or Supply of Goods in which Community Benefit objectives have been planned and • To show how these outcomes support delivery of the Wellbeing of Future Generations Act 2015 (WFG Act), Wellbeing Goals. See the CB and WFG Act 2015 sheet for details | N3: CONSTRUCTION (Buildings) | O3: INFRASTRUCTURE (Civil engineering) | P3: SUPPLY OF GOODS | Q3: SERVICES
A4: 1. A prosperous Wales | B4: 1.2 | C4: Is the Contractor based in Wales? | I4: NO | J4: A Contractor is considered to be based in Wales if delivering the majority of the goods, services or works relating to this contract from an office or offices based in postcodes prefixed CF, CH LD, LL, NP, SA and SY. | L4: YES | M4: NO | O4: =SUMIF(I4, "YES",I7) -> 0
B5: 1.3 | C5: Insert the value of the expenditure that relates to goods, services and overheads for the period covered by this submission. | J5: This figure should include costs associated not only with Suppliers and sub-contractors but also overheads associated with the project or contract, such as operational costs, for example, Finance, Insurance or IT.
B6: 1.4 | C6: Insert the value of the expenditure that relates to staff and labour for the period covered by this submission. | J6: Costs associated with employees, consultants, and other personnel. Where you are unsure, please estimate using the most readily available data.
B7: 1.5 | C7: TOTAL expenditure for the period covered by this submission. (Expenditure on goods, services and overheads plus on staff and labour) | I7: =SUM(I5:I6) -> 0 | J7: This is the total expenditure over the previous 12 month period which is the sum of the value of goods, service and overheads and staff and labour entered above.
B8: INSTRUCTION: Once you have completed the above worksheet, please proceed to the SUPPLY CHAIN worksheet.

Sheet 2. SUPPLY CHAIN
B2: 2: SUPPLY CHAIN | J2: GUIDANCE | K2: COMMENTARY
A3: 1. A prosperous Wales | B3: 2.1 | C3: This is the amount of the contract that you have indicated relates to goods, services, and overheads for the period covered by this submission. | I3: ='1. GENERAL'!I5 -> 0
B4: 2.2 | C4: From the value above (2.1), how much was spent with businesses based in Wales providing goods, services, or overheads during the period covered by this submission. | J4: Please consider businesses based in Wales to be businesses delivering the majority of the goods, services or works relating to this contract from an office or offices based in postcodes prefixed CF, CH, LD, LL, NP, SA and SY.
C5: Percentage spent on businesses based in Wales during the period covered by this submission? | I5: =I4/I3 -> #DIV/0! | J5: Where the % is not 100%, please use the text field to the right to provide a brief summary of how you create opportunities for businesses based in Wales
B6: 2.3 | C6: From the value identified in 2.2, what value was spent with small and medium-size enterprises (SMEs) based in Wales during the period covered by this submission? | J6: SMEs are organisations that comply with EU regulations regarding partnerships & links to other organisations, have a headcount of less than 250 employees and have an annual turnover of less than €50 million or balance sheet total less than €43 million.
C7: Percentage of money spent on businesses based in Wales spent on SMEs based in Wales, during the period covered by this submission? | I7: =I6/I4 -> #DIV/0! | J7: Where the % is not 100%, please use the text field to the right to provide a brief summary of how you create opportunities for SMEs based in Wales
B8: 2.4 | C8: From the value identified in 2.2, what value was spent with Third Sector Enterprises (TSEs) based in Wales during the period covered by this submission? | J8: TSEs are for-profit or not-for-profit businesses trading for social or environmental purposes. For-profit TSEs tend to be social enterprises or supported enterprises/factories. Not-for-profit TSEs tend to be community and voluntary sector organisations.
C9: Percentage of money spent on businesses based in Wales spent on TSEs based in Wales during the period covered by this submission? | I9: =I8/I4 -> #DIV/0! | J9: Where the % is not 100%, please use the text field to the right to provide a brief summary of how you create opportunities for TSEs based in Wales
B10: 2.5 | C10: If you used sub-contractors on this contract what percentage were paid within 30 days during the period covered by this submission? | I10: 0 | J10: Given the high proportion of Small and Medium sized Enterprises (SMEs) in Wales and the detrimental impact of slow or delayed payment to the viability of such businesses when they support procurement projects as sub-contractors, it is essential that public sector bodies in Wales ensure fair and prompt payments throughout supply chains linked to their contracts. As a minimum public sector bodies should ensure payment within 30 days to sub-contractors in line with public sector payment terms. If you do not use sub-contractors on this contract, please leave this blank
B11: 2.6 | C11: Is a Project Bank Account being used on this project? | I11: NO | J11: Project Bank Accounts (PBAs) are a payment mechanism that ensures supply chain partners signed up to the account are paid within 30 days. For more information on PBAs contact the Welsh Government Commercial Policy & Delivery Team CommercialPolicy@gov.wales | M11: YES | N11: NO

Sheet 3. EMPLOYMENT
B2: 3: EMPLOYMENT | J2: GUIDANCE | K2: COMMENTARY
A3: 1. A prosperous Wales | B3: 3.1 | C3: This is the amount of the contract that you have indicated relates to staff and labour for the period covered by this submission? | I3: ='1. GENERAL'!I6 -> 0
B4: 3.2 | C4: From the value above (3.1), how much was spent on people living in Wales who are/were employed as a result of this contract during the period covered by this submission? | J4: Please consider people living in Wales based on their known residential location, invoice address, or payroll address. Postcodes starting with the following codes qualify as Wales: CF, CH LD, LL, NP, SA and SY. Please consider only those people that are employed in relation to the project or contract and not the overall company operations. | AS4: YES | AT4: NO
C5: Percentage spent on salaries and wages to people living in Wales | I5: =I4/I3 -> #DIV/0!
B6: 3.3 | C6: Has this contract allowed the Contractor or subcontractors to retain staff who would have been made redundant without the work provided by this contract for the period covered by this submission? | I6: NO | J6: Retained staff are, 'Staff who would have been made redundant without the work provided by this contract for the period covered by this submission' Public Sector Organisation should satisfy themselves that this is the case.
B7: 3.4 | C7: How many staff, at 3.3 where retained because of this contract who also live in Wales? | I7: 0
A8: 4. A more equal Wales | B8: 3.5 | C8: How many people has the Contractor and/or subcontractors employed, living in Wales, that were previously unemployed during the period covered by this submission? | I8: 0 | J8: Please insert the number of people, living in Wales, who have been employed during the period covered by this submission, and who were previously unemployed.
B9: INSTRUCTION - Based on your answer to 3.5 above, please complete a row for each individual living in Wales who was unemployed prior to gaining employment as a result of this contract. Please select from the dropdown menu the length of time (in weeks) for which the individual was previously unemployed prior to being hired by the Service Provider/Supplier and/or subcontractors. Finally, please indicate if the Service Provider/Supplier and/or subcontractors intends to continue to employ the individual after contract completion. Definitions of Disabled, Disadvantaged, Severely Disadvantaged Workers is provided in the comment boxes at cells H14 to J14, the source of these definitions are the Commission Regulation (EU) No 651/2014 of 17 June 2014 and Article 2 Definition of a severely disadvantaged worker Article 2.19 of the Regulation (EC) 800/2008. | O9: YES | P9: NO | R9: 3 | S9: 4 | T9: 5 | U9: 6 | V9: 7 | W9: 8 | X9: 9 | Y9: 10 | Z9: 11 | AA9: 12 | AB9: 13 | AC9: 14 | AD9: 15 | AE9: 16 | AF9: 17 | AG9: 18 | AH9: 19 | AI9: 20 | AJ9: 21 | AK9: 22 | AL9: 23 | AM9: 24 | AN9: 25 | AO9: 26
B10: 3.6 | C10: Employment of unemployed people (contract-term and long-term) Do not record the names of those employed below but ensure that your records can cross reference 'individuals 1, 2 3 etc.' to ensure personal information is kept secure but may be appropriately audited. | F10: Was this individual UNEMPLOYED for up to 6 months immediately prior to being taken on? | I10: Would this individual have been considered a DISADVANTAGED worker prior to being taken on for this contract? i.e. unemployed for 6 months or more but less than 24 months or falls into one of the categories in the definition of disadvantaged workers | J10: Would this individual have been considered a SEVERELY DISADVANTAGED worker prior to being taken on for this contract? i.e. unemployed for 24 months or more | K10: Is this individual considered to be a DISABLED worker? | L10: Will the contractor and/or subcontractors continue to employ this individual after the current contract?
C11: 1 | L11: NO | Q11: YES | R11: NO | S11: NOT KNOWN | AQ11: =IF(F11>0,(AR$11-F11)*AR$12,) -> 0 | AR11: 26
C12: 2 | AQ12: =IF(H12>0,(AR$11-H12)*AR$12,) -> 0 | AR12: ='VARIABLES '!#REF! -> #REF!
C13: 3 | AQ13: =IF(H13>0,(AR$11-H13)*AR$12,) -> 0
C14: 4 | AQ14: =IF(H14>0,(AR$11-H14)*AR$12,) -> 0
C15: 5 | AQ15: =IF(H15>0,(AR$11-H15)*AR$12,) -> 0
C16: 6 | AQ16: =IF(H16>0,(AR$11-H16)*AR$12,) -> 0
C17: 7 | AQ17: =IF(H17>0,(AR$11-H17)*AR$12,) -> 0
C18: 8 | AQ18: =IF(H18>0,(AR$11-H18)*AR$12,) -> 0
C19: 9 | AQ19: =IF(H19>0,(AR$11-H19)*AR$12,) -> 0
C20: 10 | AQ20: =IF(H20>0,(AR$11-H20)*AR$12,) -> 0
C21: 11 | AQ21: =IF(H21>0,(AR$11-H21)*AR$12,) -> 0
C22: 12 | AQ22: =IF(H22>0,(AR$11-H22)*AR$12,) -> 0
C23: 13 | AQ23: =IF(H23>0,(AR$11-H23)*AR$12,) -> 0
C24: 14 | AQ24: =IF(H24>0,(AR$11-H24)*AR$12,) -> 0
... C59: 49 | AQ59: =IF(H59>0,(AR$11-H59)*AR$12,) -> 0

Sheet 4. ENVIRONMENT & RESOURCES
B1: INSTRUCTION : Please provide the following information were these were required by the contracting authority / client and have been delivered as a direct result of this contract/project.
B2: 4: ENVIRONMENT & RESOURCES | K2: GUIDANCE | L2: COMMENTARY
A3: 1. A prosperous Wales | B3: 4.1 | C3: How many tonnes of waste have been generated during the period covered by this submission? | K3: This is the Total tonnage of waste arising due to the contract during the period covered by this submission.
B4: 4.2 | C4: How many tonnes of LOWER rate QUALIFYING MATERIAL has the Service Provider/Supplier diverted from landfill for re-use or recycling as part of this contract during the period covered by this submission? | K4: Please consider any 'waste' arising from the contract as material that could be diverted from landfill for re-use or recycling. QUALIFYING MATERIALS are those listed in the Landfill Disposals Tax (Wales)Act 2017 SCHEDULE 1 : SPECIFIED MATERIALS AND CONDITIONS and which are charged at the LOWER RATE when sent to landfill
B5: 4.3 | C5: How many tonnes of STANDARD rate Material waste has the Service Provider/Supplier diverted from landfill for re-use or recycling as part of this contract during the period covered by this submission? | K5: Please consider any 'waste' arising from the contract as material that could be diverted from landfill for re-use or recycling. STANDARD MATERIALS are those that do not meet the specifications for Qualifying Materials and Conditions as set out in Schedule 1 of The Landfill Disposals Tax (Wales) Act 2017 listed in SCHEDULE 1 of the Landfill Disposals Tax (Wales)Act 2017: SPECIFIED MATERIALS AND CONDITIONS and which are charged at the STANDARD RATE when sent to landfill
B6: 4.4 | C6: What is the percentage of waste arising has the Contractor / Supplier / Service Provider diverted from landfill as part of this contract during the period covered by this submission? | I6: =(I4+I5)/I3 -> #DIV/0! | K6: This figure will be the percentage, you will need to calculate or estimate the total tonnes of waste that are produced as part of this contract and what % of this has been diverted from landfill Total waste arising during the period covered by this submission
B7: 4.5 | C7: In total, how many cubic metres of water have been saved through initiatives to reduce water consumption as part of this contract during the period covered by this submission? | K7: Water reduction measures may include for example, use of water butts, water efficient components or other sustainable measures. This figure must be submitted in cubic metres. 1 cubic metre = 1000 litres.

Sheet  5. COMMUNITY & EDUCAT
B1: INSTRUCTION : Please provide the following information were these were required by the Public Sector Organisation that have been delivered as a direct result of this contract/project.
B2: 5: COMMUNITY AND EDUCATIONAL INITIATIVES | J2: GUIDANCE | K2: COMMENTARY
A3: 5. A Wales of cohesive communities | B3: 5.1 | C3: How much in cash contributions or sponsorships did the contractor and/or subcontractors donate to community or educational organisations or projects based in Wales during the period covered by this submission? NB Cash contributions or sponsorships supporting cultural or sporting activities should be recorded on the CULTURE sheet | J3: Please consider cash donations and sponsorships only for this question. This may include cash donations or sponsorships from other organisations made as a result of the contractor's and/or subcontractors efforts. Donations of in-kind resources are covered separately. Please use the field to the right to provide detail of how the cash contributions were distributed and used.
B4: 5.2 | C4: What is the estimated value of in-kind labour; the time spent by personnel / staff during the period covered by this submission supporting activities such as community work, contributions to education (e.g activities supporting STEM subjects SEE 5.6 BELOW; classroom sessions or site visits) and other volunteering activities. NB The estimated value of in-kind labour supporting cultural or sporting activities should be recorded on the CULTURE sheet | J4: Please insert a monetary figure based on the number of hours contributed. This should include any additional in-kind labour resources that have been drawn in as a result of the Service Provider/Supplier and/or subcontractors community engagement. This figure should be based on the hourly or annual wage for staff involved. To calculate an hourly rate for salaried staff, please divide the annual salary by 1,950. This represents a 37.5-hour week inclusive of paid holiday. Please use the field to the right to provide information regarding the activities supported.
B5: 5.3 | C5: What is the estimated value of other in-kind contributions during the period covered by this submission supporting activities such as community work, contributions to education (e.g activities supporting STEM subjects SEE 5.6 BELOW; classroom sessions or site visits) and other volunteering activities.? NB The estimated value of other in-kind contributions supporting cultural or sporting activities should be recorded on the Culture sheet | J5: Examples include free use of plant and machinery, donations of redundant or surplus equipment, unsold consumer products, and free use of corporate facilities. This may include in-kind donations of any kind from other organisations made as a result of the Contractor and/or subcontractors efforts. Please use the field to the right to provide any available evidence which supports the estimation of the market value of the other in-kind contributions. | K5: Please provide any available evidence which supports the estimation of the market value of the other in-kind contributions.
A6: 1. A prosperous Wales | B6: 5.4 | C6: Were educational activities linked to STEM subjects (Science, Technology, Engineering and Mathematics) supported during the period covered by this submission? These may be linked to either the in-kind labour or other in-kind Community or Educational contributions reported at 5.1 or 5.2 above? | J6: If 'YES' please complete the relevant lines below for STEM subject activities to report; a) the number of sessions by subject and b) the number of pupils / students who benefitted from these sessions during the period covered by this submission | M6: YES | N6: NO
B7: 5.5 | C7: Number of Science lessons / activities supported | J7: Please detail the science activities supported in the Commentary box =========>
B8: 5.6 | C8: Number of pupils / students who benefitted from Science lessons / activities supported | J8: Please detail the science activities supported in the Commentary box =========>
B9: 5.7 | C9: Number of Technology lessons / activities supported | J9: Please detail the science activities supported in the Commentary box =========>
B10: 5.8 | C10: Number of pupils / students who benefitted from Technology lessons / activities supported | J10: Please detail the science activities supported in the Commentary box =========>
B11: 5.9 | C11: Number of Engineering lessons / activities lessons / activities supported | J11: Please detail the science activities supported in the Commentary box =========>
B12: 5.1 | C12: Number of pupils / students who benefitted from Engineering lessons / activities supported | J12: Please detail the science activities supported in the Commentary box =========>
B13: 5.11 | C13: Number of Mathematics lessons / activities supported | J13: Please detail the science activities supported in the Commentary box =========>
B14: 5.12 | C14: Number of pupils / students who benefitted from Mathematics lessons / activities supported | J14: Please detail the science activities supported in the Commentary box =========>

Sheet 6. CULTURE
B1: INSTRUCTION : Please provide the following information were these were required by the Public Sector Organisation that have been delivered as a direct result of this contract/project.
B2: 6: CULTURE (Language, culture and sport) | J2: GUIDANCE | K2: COMMENTARY
B3: LANGUAGE
A4: 6. A Wales of vibrant culture and thriving Welsh language | B4: 6.1 | C4: What is the minimum number of Welsh speaking / writing staff required or recommended, to service this contract? | J4: This number; ability to speak, write or both speak and write and level of proficiency that is required will either be specified by the Public Sector Organisation or agreed by the Public Sector Organisation and contractor based on an assessment of the current and or projected future service user requirement to communicate through the medium of Welsh for this contract. | K4: Level 3 - Intermediate (GCSE equivalent) Speaking Welsh to level 3 = 'Can converse in some work-related conversations' Writing Welsh to level 3 = 'Can prepare routine work-related material with checking' Level 4 - Advanced (A level equivalent) Speaking Welsh to level 4 = 'Can converse in most work related conversations'? Writing Welsh to level 4 - 'Can prepare most written work in Welsh'? | L4: Is this too subjective? Do we need an objective measure, NVQ level ? for example? The proficiency levels in the Commentary box are based on the advice in the embedded Word doc Welsh Language Skill Levels from Fiona Marston (Fiona.Marston@gov.wales) | R4: ADDITIONAL GUIDANCE Any requirement for proficiency in speaking and / or writing Welsh should be determined and justified as part of the procurement strategy for the contract in question.
B5: 6.2 | C5: How many customer / public facing staff proficient in Welsh to the required standard worked on this contract for the period covered by this submission? | J5: This metric should be used to monitor the number of Welsh speaking / writing staff if a minimum number of Welsh speakers is to be required or recommended based on an assessment of the current and or projected future service user requirement to communicate through the medium of Welsh. | L5: What is the minimum number of staff required or recommended, to service this contract who are able to speak Welsh to level 4 - 'Can converse in most work related conversations'?
B6: 6.3 | C6: What was the percentage of customer / public facing staff proficient in Welsh to the required standard working on this contract for the period covered by this submission? | I6: =I5/I4 -> #DIV/0! | J6: This is the percentage of customer / public facing staff able to speak and/or write in Welsh against the requirement at 6.1 above
B7: CULTURE
B8: 6.4 | C8: Has the contract supported cultural activities in Wales? | J8: Please list any Cultural activities supported in the Commentary box to the right ------------------>>>>>>>>>>> How are cultural activities in Wales defined? These will be activities that have been designed to: • Protect - heritage assets e.g. landscapes, buildings, monuments, parks, gardens etc • Promote - use / attendance at / appreciation / access to Heritage assets e.g. landscapes, buildings, monuments, parks, gardens inc. CADW and National Trust sites, industrial heritage - historic railways, canals etc, Museums, archives & libraries Arts (attendance) e.g. theatre, performance, dance, music, galleries Sport (attendance) e.g. local and or national sporting events • Participation - encourage or increase participation in Arts (participation) e.g. theatre, performance, dance, music, galleries Sport (participation) e.g. elite sport to general outdoor leisure and recreation e.g. walking, hiking, cycling | M8: YES | N8: NO
B9: 6.5 | C9: How much in cash contributions or sponsorships did the contractor and/or subcontractors donate to support cultural activities organisations or projects based in Wales during the period covered by this submission? NB Cash contributions or sponsorships supporting community or educational activities should be recorded on the Community or Educational Initiatives sheet | J9: Please enter the sum total of the value of cash contributions or sponsorships support for all the cultural activities supported and where a number of activities have been supported please provide a breakdown of the financial contribution by activity in the Commentary field to the right ---------------->>>>>>>>>>>
B10: 6.6 | C10: What is the estimated value of in-kind labour; the time spent by personnel / staff during the period covered by this submission supporting cultural activities based in Wales during the period covered by this submission? NB The value of In-kind labour supporting community or educational activities should be recorded on the Community & Education sheet | J10: Please insert a monetary figure based on the number of hours contributed. This should include any additional in-kind labour resources that have been drawn in as a result of the Service Provider/Supplier and/or subcontractors community engagement. This figure should be based on the hourly or annual wage for staff involved. To calculate an hourly rate for salaried staff, please divide the annual salary by 1,950. This represents a 37.5-hour week inclusive of paid holiday. • Please use the field to the right to provide information regarding the activities supported.
B11: 6.7 | C11: What is the estimated value of other in-kind contributions supporting cultural activities during the period covered by this submission? NB The value of other In-kind support for community or educational activities should be recorded on the Community & Education sheet | J11: Examples include free use of plant and machinery, donations of redundant or surplus equipment, unsold consumer products, and free use of corporate facilities. This may include in-kind donations of any kind from other organisations made as a result of the Contractor and/or subcontractors efforts. • Please use the field to the right to provide any available evidence which supports the estimation of the market value of the other in-kind contributions.
B12: SPORT
A13: 3. A healthier Wales | B13: 6.8 | C13: Has the contract supported sporting activities in the community? | J13: Please list any Sporting activities in the community supported in the Commentary box to the right ------------------>>>>>>>>>>> These may be sporting activities with objectives to encourage participation and or to improve health outcomes e.g. to improve mobility, increase levels of physical activity, address obesity, social exclusion
B14: 6.9 | C14: How much in cash contributions or sponsorships did the contractor and/or subcontractors donate to support sporting activities organisations or projects based in Wales during the period covered by this submission? | J14: Please enter the sum total of the value of cash contributions or sponsorships support for all the sporting activities supported and where a number of activities have been supported • Please provide a breakdown of the financial contribution by activity in the Commentary field to the right ---------------->>>>>>>>>>>
B15: 6.10 | C15: What is the estimated value of in-kind labour; the time spent by personnel / staff during the period covered by this submission supporting sporting activities based in Wales during the period covered by this submission? NB The value of In-kind labour supporting community or educational activities should be recorded on the Community & Education sheet | J15: Please insert a monetary figure based on the number of hours of in-kind labour contributed. This should include any additional in-kind labour resources that have been drawn in as a result of the Service Provider/Supplier and/or subcontractors community engagement. This figure should be based on the hourly or annual wage for staff involved. To calculate an hourly rate for salaried staff, please divide the annual salary by 1,950. This represents a 37.5-hour week inclusive of paid holiday. • Please use the field to the right to provide information regarding the sporting activities supported ---->>>>>>.
B16: 6.11 | C16: What is the estimated value of other in-kind contributions supporting sporting activities during the period covered by this submission? NB The value of other In-kind contributions for community or educational activities should be recorded on the Community & Education sheet | J16: Please insert a monetary figure based on the estimated value of other in-kind contributions. Examples include free use of plant and machinery, donations of redundant or surplus equipment, unsold consumer products, and free use of corporate facilities. This may include in-kind donations of any kind from other organisations made as a result of the Contractor and/or subcontractors efforts. • Please use the field to the right to provide information regarding the sporting activities supported --->>>>. And • Please use the field to the right to provide any available evidence which supports the estimation of the market value of the other in-kind contributions --->>>>.

Sheet 7. TRAINING
B1: INSTRUCTION : Please provide the following information were these were required by the Public Sector Organisation that have been delivered as a direct result of this contract/project.
B2: NOTE: 'WEEKS' are 5 day working weeks. If you have recorded 'training' types, listed here, in numbers of days please convert to weeks on this basis. Where the number of days is less than a week please add a note in the relevant Commentary box.
B3: 7: TRAINING | J3: GUIDANCE | K3: COMMENTARY
A4: 1. A prosperous Wales | B4: 7.1 | C4: How many apprenticeship opportunities were started by people living in Wales as part of this contract during the period covered by this submission? | J4: An Apprenticeship is a formal arrangement between a person aged 16+ to earn a wage and work alongside experienced staff to gain job-specific skills. It involves both on the job experience as well as off the job training towards a nationally recognised qualification within a wide range of sectors. The question asks about apprenticeships started rather than started & completed or just completed as from a CB point of view the creation of opportunities and or the provision of work experience weeks that support apprenticeships underway is important. This approach to recording apprenticeship opportunities also recognises that as apprenticeships last at least 18 months in many cases it may not be possible to start and complete in your contract term. Apprenticeships starts of weeks linked to Shared Apprenticeship Schemes should also be included. Please use the field to the right to provide information, where possible, that supports this figure. | K4: Notes: There are four levels of Apprenticeship available, depending on applicants’ skills and qualifications: 1. Intermediate Apprenticeships (level 2) 2. Advanced Apprenticeship (level 3) 3. Higher Apprenticeship (level 4-5) 4. Degree Apprenticeships (level 6-7) - 'bachelors degree' (level 6); Master's Degree (level 7). https://www.gov.uk/government/publications/higher-and-degree-apprenticeships --------------------------------
B5: 7.2 | C5: How many apprenticeship weeks were completed by people living in Wales as part of this contract during the period covered by this submission? | J5: Please insert the total number of apprenticeship weeks completed during the period covered by this submission. Please use the commentary box alongside to provide information, where possible, that supports this figure. | M5: DON'T KNOW | N5: NONE | O5: 1 | P5: 2 | Q5: 3 | R5: 4 | S5: 5 | T5: 6 | U5: 7 | V5: 8 | W5: 9 | X5: 10 | Y5: 11 | Z5: 12 | AA5: 13 | AB5: 14 | AC5: 15 | AD5: 16 | AE5: 17 | AF5: 18 | AG5: 19 | AH5: 20
A6: 4. A more equal Wales | B6: 7.3 | C6: How many traineeship opportunities by people living in Wales were started and completed as part of this contract during the period covered by this submission? | J6: A Traineeship is designed to support 16-18 year olds who are Not in Education Employment or Training (NEET). A Traineeship is designed to support young people who want to work, but who may need additional support to gain the skills and experience required to progress onto an apprenticeship, job or further education. Traineeships last between 12 weeks and 12 months dependant on an individuals need.
B7: 7.4 | C7: How many traineeship weeks in total have been completed as part of this contract during the period covered by this submission? | J7: Please insert the total number of traineeship weeks completed as part of this contract Please use the field to the right to provide information, where possible, that supports this figure.
B8: 7.5 | C8: How many work experience / internship opportunities for people living in Wales were started and completed as part of this contract during the period covered by this submission? | J8: A work experience or internship placement can be a formal or informal arrangement to give a person, usually a student, on the job work experience which may be paid or unpaid. Please include details of any work experience you have provided to students studying a Further Education pathway.
B9: 7.6 | C9: How many work experience / internship weeks in total have been completed as part of this contract during the period covered by this submission? | J9: Please insert the total number of work experience / internship weeks completed as part of this contract. Please use the field to the right to provide information, where possible, that supports this figure.
A10: 1. A prosperous Wales | B10: 7.7 | C10: How many graduate placements for people living in Wales were started and completed as part of this contract during the period covered by this submission? | J10: A graduate placement is employment targeted at recent graduates from college or University. Opportunities for under-graduates supporting their studies with practical experience should be recorded under work experience or internships at 6.7 above Please use the field to the right to provide information, where possible, that supports this figure.
B11: 7.8 | C11: How many graduate placement weeks in total have been completed as part of this contract during the period covered by this submission? | J11: Please insert the total number of graduate placement weeks completed as part of this contract. Please use the field to the right to provide information, where possible, that supports this figure.
A12: 4. A more equal Wales | B12: 7.9 | C12: How many work trials for people living in Wales have been completed as part of this contract during the period covered by this submission? | J12: Work trials enable employers to try out unemployed people in a particular job for up to 30 working days whilst the person remains entitled to benefits through the UK Department of Work and Pensions (DWP). Please use the field to the right to provide information, where possible, that supports this figure.
B13: 7.10 | C13: How many work trial weeks in total have been completed as part of this contract during the period covered by this submission? | J13: Please insert the total number of work trial weeks completed as part of this contract. Please use the field to the right to provide information, where possible, that supports this figure.
B14: 7.11 | C14: How many voluntary work opportunities have been completed as part of this contract during the period covered by this submission? | J14: Voluntary work opportunities can be a number of hours or days per week. This flexibility is a useful way to gain experience and /or update knowledge and skills for people finding it difficult to find employment. Volunteering opportunities are also useful as entry level opportunities for people who have complex barriers to work who would benefit from a staged introduction to work. Any voluntary work must be planned to offer useful experience and skills development opportunities. | K14: Please Detail the nature of the work experience and skills developed by the volunteering opportunities
B15: 7.12 | C15: How many voluntary work weeks have been completed as part of this contract during the period covered by this submission? | J15: Please insert the total number of voluntary work weeks completed as part of this contract. Please use the field to the right to provide information, where possible, that supports this figure.
A16: 1. A prosperous Wales | B16: 7.13 | C16: How many accredited training opportunities of any level were completed as part of this contract during the period covered by this submission? NB do not include Apprenticeship training here, this is captured under 7.1 above | J16: ACCREDITED training is any training towards a formal qualification, for example NVQs, Institute of Leadership and Management (ILM), Health and Safety (e.g. NEBOSH, IOSH) qualifications. Attainment of ACCREDITED qualifications by new or existing staff should be considered, provided that the course was started and completed as a result of this contract. Please use the field to the right to provide information, where possible, that supports this figure.
B17: 7.14 | C17: How many accredited training weeks of any level have been completed as part of this contract during the period covered by this submission? | J17: Please insert the total number of accredited training weeks completed as part of this contract. Please use the field to the right to provide information, where possible, that supports this figure.
B18: 7.15 | C18: How many non-accredited training opportunities were completed as part of this contract during the period covered by this submission? | J18: NON-ACCREDITED training is any training that does not lead to a formal qualification but may be recognised as a valuable experience or skill, for example product specific installation or operation training. Attainment of valuable work experience or skills by new or existing staff through NON-ACCREDITED training may be recorded provided that the course was started and completed as a result of this contract. Please use the field to the right to provide information, where possible, that supports this figure.
B19: 7.16 | C19: How many non-accredited training weeks have been provided during the period covered by this submission? | J19: Please insert the total number of non-accredited training weeks completed as part of this contract. Please use the field to the right to provide information, where possible, that supports this figure.

Sheet SIGN OFF FORM
B2: THE WELLBEING OF FUTURE GENERATIONS COMMUNITY BENEFITS MEASUREMENT TOOL
B3: In order to ensure the integrity of the data captured by the Community Benefits Measurement Tool as far as possible, submissions need to be signed off by representatives of both the public sector organisation and main contractor or supplier managing the delivery of the Community Benefits which are the subject of this submission.
B4: Public Sector organisation signatory
B5: I confirm that to the best of my knowledge this is an accurate reflection of the Community Benefits delivered during the period covered by this submission. I also confirm that I am authorised to sign off this submission on behalf of Public Sector Organisation managing the delivery of the Community Benefits for this contract.
B6: NAME OF AUTHORISED PERSON
B7: NAME OF PUBLIC SECTOR ORGANISATION
B9: Contractor signatory
B10: I confirm that to the best of my knowledge this is an accurate reflection of the Community Benefits delivered during the period covered by this submission. I also confirm that I am authorised to sign off this submission on behalf of the Contractor managing the delivery of the Community Benefits for this contract.
B11: NAME OF AUTHORISED PERSON
B12: NAME OF CONTRACTOR ORGANISATION

Sheet RESULTS
A1: WFG Goals | B1: This page summarises the community benefits for the contract or project being examined. If you have not been asked to record information for certain CB objectives or have been unable to provide all of the information requested in previous worksheets, some of the results fields below may remain blank. This page also explains the methodology behind the figures presented.
B2: CONTRACT MULTIPLIER | J2: WHAT THIS MEANS
A3: A prosperous Wales | B3: R0 | C3: Contract value | I3: ='1. GENERAL'!I7 -> 0 | J3: This is the value specified in 1.5. | L3: DON'T KNOW | M3: NONE | N3: 1 | O3: 2 | P3: 3 | Q3: 4 | R3: 5 | S3: 6 | T3: 7 | U3: 8 | V3: 9 | W3: 10 | X3: 11 | Y3: 12 | Z3: 13 | AA3: 14 | AB3: 15 | AC3: 16 | AD3: 17 | AE3: 18 | AF3: 19 | AG3: 20
A4: A prosperous Wales | B4: R1 | C4: Welsh local multiplier | I4: =(I6+I7+I9)/I3 -> #DIV/0! | J4: The Welsh local multiplier shows the relative impact of this contract on Wales. For every £1 spent on this contract, the following amount of money has been reinvested in the Welsh economy. This figure is based on whether the contract was spent on a contractor based in Wales (indicated at 1.2) and then how much that contractor, whether based in Wales or not, re-spent the contract income (indicated on the SUPPLY CHAIN & EMPLOYMENT Sheets). The amounts spent with suppliers / sub-contractors or on staff and labour based in Wales are added together and divided by the contract value to create a ratio showing how much was spent on the contract to create the added income for the Welsh Economy. | L4: DON'T KNOW | M4: NONE | N4: 1 | O4: 2 | P4: 3 | Q4: 4 | R4: 5 | S4: 6 | T4: 7 | U4: 8 | V4: 9 | W4: 10 | X4: 11 | Y4: 12 | Z4: 13 | AA4: 14 | AB4: 15 | AC4: 16 | AD4: 17 | AE4: 18 | AF4: 19 | AG4: 20
B5: CASHABLE BENEFITS | J5: WHAT THIS MEANS
A6: A prosperous Wales | B6: R2 | C6: Direct investment | I6: ='1. GENERAL'!O4 -> 0 | J6: This is the value of the contract if going to a Welsh-based contractor. This is the figure entered in 2.2 if the contractor is based in Wales as indicated at 1.2. This figure is 0 if the contractor is based outside of Wales. | L6: DON'T KNOW | M6: NONE | N6: 1 | O6: 2 | P6: 3 | Q6: 4 | R6: 5 | S6: 6 | T6: 7 | U6: 8 | V6: 9 | W6: 10 | X6: 11 | Y6: 12 | Z6: 13 | AA6: 14 | AB6: 15 | AC6: 16 | AD6: 17 | AE6: 18 | AF6: 19 | AG6: 20
A7: A prosperous Wales | B7: R3 | C7: Revenue to businesses based in Wales | I7: ='2. SUPPLY CHAIN'!I4 -> 0 | J7: This is how much the contractor spent with businesses based in Wales during the period covered by this submission entered in 2.2 | L7: DON'T KNOW | M7: NONE | N7: 1 | O7: 2 | P7: 3 | Q7: 4 | R7: 5 | S7: 6 | T7: 7 | U7: 8 | V7: 9 | W7: 10 | X7: 11 | Y7: 12 | Z7: 13 | AA7: 14 | AB7: 15 | AC7: 16 | AD7: 17 | AE7: 18 | AF7: 19 | AG7: 20
A8: A prosperous Wales | C8: Percentage spent on businesses based in Wales during the period covered by this submission? | I8: ='2. SUPPLY CHAIN'!I5 -> #DIV/0! | J8: This percentage represents how much of the total expenditure on businesses at 1.3 was spent with businesses based in Wales as entered at 2.2
A9: A prosperous Wales | B9: R4 | C9: Income to people living in Wales | I9: ='3. EMPLOYMENT'!I4 -> 0 | J9: This is how much the contractor spent on salaries to people living in Wales during the period covered by this submission and is the figure entered in 3.2
A10: A prosperous Wales | C10: Percentage spent on salaries and wages to people living in Wales | I10: ='3. EMPLOYMENT'!I5 -> #DIV/0! | J10: This percentage represents how much of the expenditure on people, as salaries to staff and labour at 1.4 that went to people living in Wales as entered at 3.2
A11: A prosperous Wales | B11: R5 | C11: Water reduction savings | I11: ='4. ENVIRONMENT & RESOURCES'!I7*'VARIABLES '!E5 -> 0 | J11: This is how much money was saved during the period covered by this submission by reducing water consumption as part of this contract at 4.5. This is based on current standard measured charges for water & sewerage rates for Welsh Water/Dwr Cymru. This based on the number of cubic metres saved by water reduction measures during the period covered by this submissions. This may include for example, measures to reduce consumption or leakage, use of water butts, 'grey' water, or other sustainable measures. This figure must be submitted in cubic metres. 1 cubic metre = 1000 litres.
