Workbook

Sheet Summary
D4: Sustainable Farming Scheme (SFS) Universal / Basic Payment Scheme - Indicative Payment Amount Calculator for 2026
D8: This Ready Reckoner tool will calculate an indicative SFS Universal Payment or BPS Taper amounts for 2026, based on the information entered below. To receive the SFS Universal Payment in 2026, you must be eligible to claim, and meet the scheme requirements, as detailed in the published 'Sustainable Farming Scheme 2026: scheme description'.
D13: Customer Land/Entitlement Data | M13: Estimated Indicative Payment Amount
D15: Sustainable Farming Scheme (SFS) | M15: Sustainable Farming Scheme (SFS) | P15: 2026
D17: Whole Farm Area (Including common land, excluding SFS ineligible features) | K17: ha | M17: Whole Farm Payment: | P17: =Calculation!H10 -> 0 | R17: Indicative payment amounts have been calculated from the information entered and using the payment model and payment rates as set out in Chapter 8: Sustainable Farming Scheme payments section from the published Sustainable Farming Scheme 2026: Scheme Description.
D18: Habitat Maintenance Area - Enclosed Land (Area of land classified as Habitat) | K18: ha | M18: Habitat Maintenance Payment | P18: =Calculation!H12 -> 0
D19: Woodland Maintenance Area (Areas of Woodland over 0.1ha under management control) | K19: ha | M19: Woodland Maintenance Payment: | P19: =Calculation!H13 -> 0
D20: Social Value Area (Same as Whole Farm Area) | J20: =J17 -> 0 | K20: ha | M20: Social Value Payment: | P20: =Calculation!H14 -> 0
D22: Your farm areas can be found on RPW Online: - The Whole Farm Area can be derived from the information on your 2025 Single Application Form Summary document. - Habitat and Woodland areas can be found on your SFS Data Confirmation 2025 form. A 'How to Guide' is available on the Welsh Government website. | M22: Total Amount (Pre-Capping): | P22: =Calculation!H16 -> 0
M24: Total Amount (Post Capping): | P24: =Calculation!H25 -> 0
M26: =IF(J17<=100,"Stability Payment:","") -> Stability Payment: | P26: =Calculation!H27 -> 0
M28: Total Indicative Payment Amount: | P28: =Calculation!F30 -> 0
D31: Basic Payment Scheme (BPS) | M31: Basic Payment Scheme (BPS) | R31: Indicative payment amounts have been calculated from the information entered and using 40% taper percentage as set out in Chapter 11: Basic Payment Scheme section from the published Sustainable Farming Scheme 2026: Scheme Description. Please note: BPS 2024 payment rates have been used for illustrative purposes.
D33: Eligible BPS Area/Activated Entitlements | K33: ha | M33: Basic Payment Scheme Payment: | P33: =Calculation!P13 -> 0
D34: Include Young Farmer Payment in Calculation | J34: No | M34: Redistributive Scheme Payment: | P34: =Calculation!P15 -> 0
D35: Please enter the number of BPS entitlements you expect to activate for 2026. | M35: Young Farmer Payment: | P35: =Calculation!P16 -> 0
D36: The number of BPS entitlements activated in 2024 can be found on your 2025 Single Application Form Summary document.
D37: Only select 'Yes' if you are currently in receipt of Young Farmer Payment under the BPS. | M37: Total Indicative Payment Amount: (Post Capping) | P37: =Calculation!N19 -> 0
D42: Disclaimer/Notes
D44: The SFS Universal Payment is an annual payment that operates within the five-year statutory reporting period of the Agriculture (Wales) Act. Whilst the Act supports the longevity of the SFS framework, the Scheme needs to operate within the allocated Welsh Government budget, which is agreed annually by the Senedd. The information provided is not final, as such you must not rely on the indicative payment amounts provided by the calculator to make business decisions . You should seek advice from qualified professionals regarding your specific business needs and financial circumstances. Welsh Government accept no liability in contract, tort or otherwise arising from or in connection with your use of, or any action or decision taken as a result of using, this Ready Reckoner. Privacy Policy The data controller for the Ready Reckoner is the Welsh Government, Cathays Park, Cardiff, CF10 3NQ. The data protection officer can be contacted at Data Protection Officer, Welsh Government, Cathays Park, Cardiff, CF10 3NQ. Email: DataProtectionOfficer@gov.wales No data, personal or otherwise, is stored, retained or shared from use of this calculator. As a result we will be unable to provide records of the information you enter at a later date.

Sheet Calculation
B2: Sustainable Farming Scheme (SFS)
B4: SFS Universal Payment Calculation | J4: Basic Payment Scheme (BPS) Payment Payment Calculation
B6: Whole Farm Area: | D6: =Summary!J17 -> 0 | F6: Whole Farm Payment Breakdown | J6: Number of Activated Entitlements: | L6: =Summary!J33 -> 0 | N6: BPS Payment Pre-Capping Amount: | P6: =L6*K11 -> 0
B7: Habitat Mainatenance Area: | D7: =Summary!J18 -> 0 | F7: Tiers | G7: Area | H7: Value
B8: Woodland Maintenance Area: | D8: =Summary!J19 -> 0 | F8: <70ha | G8: =IF(D6>C14,C14,D6) -> 0 | H8: =G8*D14 -> 0 | J8: Include Young FarmerPayment: | L8: =Summary!J34 -> No | N8: Capping 90k-120k | P8: =ROUND(-IF($P$6>$K$17,IF($P$6>$K$18,$K$18-$K$17,$P$6-$K$17),0)*$L$18,2) -> 0
B9: Social Value Area: | D9: =D6 -> 0 | F9: >70ha | G9: =IF(D6>C14,D6-C14,0) -> 0 | H9: =G9*D15 -> 0 | N9: Capping 120k-150k | P9: =ROUND(-IF($P$6>$K$18,IF($P$6>$K$19,$K$19-$K$18,$P$6-$K$18),0)*$L$19,2) -> 0
F10: Total | G10: =G8+G9 -> 0 | H10: =SUM(H8+H9) -> 0 | J10: BPS Payment Rates | N10: Capping 150k-180k | P10: =ROUND(-IF($P$6>$K$19,IF($P$6>$K$20,$K$20-$K$19,$P$6-$K$19),0)*$L$20,2) -> 0
J11: Entitlement Value: | K11: 70.28 | N11: Capping 180k> | P11: =ROUND(-IF($P$6>$J$21,SUM($P$6-$J$21,0)),2) -> 0
B12: Whole Farm Payment Rates | F12: Habitat Payment Value: | H12: =D7*D17 -> 0 | J12: Redistributive Rate: | K12: 66.61 | L12: 54
B13: Greater Than (ha) | C13: Less Than (ha) | D13: Rate (£) | F13: Woodland Payment Value: | H13: =D8*D18 -> 0 | J13: Young Farmer Rate: | K13: 10.25 | L13: 25 | N13: BPS Payment Post Capping Amount: | P13: =P6+P8+P9+P10+P11 -> 0
B14: - | C14: 70 | D14: 70 | F14: Social Value Payment Value: | H14: =D9*D19 -> 0
B15: 70 | C15: - | D15: 2 | J15: BPS Capping Rates | N15: Redistributive Payment Amount: | P15: =IF(L6>L12,L12*K12,L6*K12) -> 0
F16: Total Pre-Capping Amount: | H16: =H10+H12+H13+H14 -> 0 | J16: Greater than | K16: Less Than | L16: % | N16: Young Farmer Payment Amount: | P16: =IF(L8="Yes",IF(L6>L13,L13*K13,L6*K13),0) -> 0
B17: Habitat Maintenance Rate: | D17: 69 | J17: 0 | K17: 90000 | L17: 0
B18: Woodland Maintenance Rate | D18: 62 | F18: =CONCATENATE("£",B24," - £",C24) -> £25000 - £50000 | H18: =ROUND(-IF($H$16>$C$23,IF($H$16>$C$24,$C$24-$B$24,$H$16-$C$23),0)*$D$24,2) -> 0 | J18: 90000 | K18: 120000 | L18: 0.15 | N18: Total Payment Amount
B19: Social Value Rate: | D19: 107 | F19: =CONCATENATE("£",B25," - £",C25) -> £50000 - £150000 | H19: =ROUND(-IF($H$16>$C$24,IF($H$16>$C$25,$C$25-$B$25,$H$16-$C$24),0)*$D$25,2) -> 0 | J19: 120000 | K19: 150000 | L19: 0.3 | N19: =P13+P15+P16 -> 0
F20: =CONCATENATE("£",B26," - £",C26) -> £150000 - £200000 | H20: =ROUND(-IF($H$16>$C$25,IF($H$16>$C$26,$C$26-$B$26,$H$16-$C$25),0)*$D$26,2) -> 0 | J20: 150000 | K20: 180000 | L20: 0.55
B21: Capping Tiers | F21: =CONCATENATE("£",B27," - £",C27) -> £200000 - £250000 | H21: =ROUND(-IF($H$16>$C$26,IF($H$16>$C$27,$C$27-$B$27,$H$16-$C$26),0)*$D$27,2) -> 0 | J21: 180000 | K21: - | L21: 1
B22: Greater than | C22: Less Than | D22: % | F22: =CONCATENATE("£",B28," - £",C28) -> £250000 - £300000 | H22: =ROUND(-IF($H$16>$C$27,IF($H$16>$C$28,$C$28-$B$28,$H$16-$C$27),0)*$D$28,2) -> 0
B23: 0 | C23: 25000 | D23: 0 | F23: =CONCATENATE(">",B29) -> >300000 | H23: =ROUND(-IF($H$16>$B$29,SUM($H$16-$B$29,0)),2) -> 0
B24: 25000 | C24: 50000 | D24: 0.05
B25: 50000 | C25: 150000 | D25: 0.1 | F25: Total Post Capping Amount: | H25: =H16+H18+H19+H20+H21+H22+H23 -> 0
B26: 150000 | C26: 200000 | D26: 0.15
B27: 200000 | C27: 250000 | D27: 0.3 | F27: Stability Payment Amount: | H27: =IF(D6=0,0,IF(D6<=100,1000,0)) -> 0
B28: 250000 | C28: 300000 | D28: 0.55
B29: 300000 | C29: - | D29: 1 | F29: Post Capping Amount
F30: =H25+H27 -> 0
