Workbook

Sheet Guidance Notes
L3: Version Control: v1.43 | O3: 45868
I6: Application Form
C10: Low Carbon Heat Grant | I10: - | J10: Round 3.1
C12: Please complete all section 1-5 as listed below:
C14: 1. Applicant Details | H14: Within sections 1-5 the following colour coding applies:
C15: 2. Project Details | H15: Blue cells | I15: = user input
C16: 3. Eligible Cost Breakdown | H16: Green cells | I16: = automatically calculated
C17: 4. Risks
C18: 5. Summary & Declaration
C20: Please refer to Low Carbon Heat Grant Guidance released alongside this form, for eligibility criteria and grant conditions.
C22: Important Notes
C24: This form can be filled in for up to 10 sites, should there be more sites to your application, please fill out another form for these.
C25: Funding will only be granted to applicants that can assure projects can be installed and commissioned by 31st March 2026.
C26: Applications must be supported by a sponsoring director, a signature will be required upon offer letters being provided.
C27: Note that works cannot start until a formal and signed grant award letter is received.
C29: Application Submissions
C31: Please send completed application forms to lowcarbonheat@energyservice.wales
C32: If you have any queries on the application process or the form itself, please use the address above.
C34: Data Sharing Disclaimer
... C43: enquiries@energyservice.wales

Sheet 1. Applicant Details
C2: 1. APPLICANT DETAILS
B10: 1.1 Project Introduction
B12: The Project
D13: Please give a summary of your projects, this should include: - Names of Buildings - Overview of works for each building including technologies - Any relevant background
D15: How many buildings are you applying for: | E15: Please select
B18: Compliance
H19: Pass / Fail
D20: Please confirm your organisation either owns, long term leases, or reports the carbon emissions for these buildings | E20: FALSE | H20: =IF(E20=TRUE, "Pass", "Fail") -> Fail
D22: Please confirm your organisation is retaining the building / lease for at least 10 years | E22: FALSE | H22: =IF(E22=TRUE, "Pass", "Fail") -> Fail
D24: Please confirm the applicant is a Local Authority | E24: FALSE | H24: =IF(E24=TRUE, "Pass", "Fail") -> Fail
D26: Please confirm the proposed works are yet to start | E26: FALSE | H26: =IF(E26=TRUE, "Pass", "Fail") -> Fail
D28: Please confirm the proposed works will be completed by 31st March 2026 | E28: FALSE | H28: =IF(E28=TRUE, "Pass", "Fail") -> Fail
D30: Are any of the projects in this application related to district heating? | E30: Please select
D32: Are any of the projects in this application dependent on another funding stream? If Yes please give details in 3.1. | E32: Please select | H32: {=_xlfn.SWITCH(E32,"Yes","Please give details in '3.Eligible Cost Breakdown'","No","Independent","Please Select","")}
D34: Are any of the projects in this application dependent on the timing of another separate project? If Yes, please give details in 2.6. | E34: Please select | H34: {=_xlfn.SWITCH(E34,"Yes","Please give details in '2.6 Project Timeline' - other ongoing work","No","Independent","Please Select","")}
B36: Project Readiness
D37: Are you intending on delivering these projects via a Re:fit contract? | E37: Please select
D39: Do you have finalised designs? | E39: Please select
D41: Overall, which stage best describes your procurement position. | E41: Please select
D43: Please indicate which stage of the procurement process you are at. Please include: - Has a full tender process been carried out? If not: - How quotes have been obtained so far - Any framework you are going to utilise for the purposes of this work - Your procurement timeline between funding award to appointing a contractor
B45: 1.2 Applicant Details
B47: Organisation
D48: Applicant Organisation
D50: Applicant Address
D52: Applicant Postcode
B54: Key Contact / Applicant
D55: Key Contact Name
D57: Key Contact Job Title
D59: Key Contact Email Address
D61: Key Contact Phone Number
B63: Finance Contact
D64: Finance Contact Name
D66: Finance Contact Job Title
D68: Finance Contact Email Address
D70: Finance Contact Phone Number
B72: Sponsoring Director
D73: Sponsoring Director Name
D75: Sponsoring Director Job Title
D77: Sponsoring Director Email Address
D79: Sponsoring Director Phone Number
...

Sheet 2. Project Details
D1: FALSE
C2: 2. PROJECT DETAILS | D2: =IF('1. Applicant Details'!E15="Please select","Please specify number of buildings on the '1. Application Details' tab","") -> Please specify number of buildings on the '1. Application Details' tab
C3: =IF('1. Applicant Details'!E15="Please select","Please specify number of buildings on the '1. Applicant Details' tab","") -> Please specify number of buildings on the '1. Applicant Details' tab
C4: 2.1 PLEASE INPUT IN YOUR PRIORITY ORDER >>> | D4: BUILDING ONE | F4: BUILDING TWO | H4: BUILDING THREE | J4: BUILDING FOUR | L4: BUILDING FIVE | N4: BUILDING SIX | P4: BUILDING SEVEN | R4: BUILDING EIGHT | T4: BUILDING NINE | V4: BUILDING TEN | Y4: Hidden for assessment
C6: Building Name
C8: Building Address
C10: Building Postcode
C12: Type of building | D12: Please select | F12: Please select | H12: Please select | J12: Please select | L12: Please select | N12: Please select | P12: Please select | R12: Please select | T12: Please select | V12: Please select
C14: Gross Internal Floor Area of Building (m2)
C16: Confirm you are retaining ownership / lease of this building for at least 10 years | D16: Please select | F16: Please select | H16: Please select | J16: Please select | L16: Please select | N16: Please select | P16: Please select | R16: Please select | T16: Please select | V16: Please select
C18: Is the building in the vicinity of an existing or planned heat network? | D18: Please select | F18: Please select | H18: Please select | J18: Please select | L18: Please select | N18: Please select | P18: Please select | R18: Please select | T18: Please select | V18: Please select
C20: Description of Project: Please include details such as: - The chosen low carbon technology and how this was selected over alternatives - Energy efficiency measures that support a whole building approach
C22: Please detail any future planned upgrade works at the building (include details of electrical works such as onsite generation or EV charging).
B25: 2.2 Existing Heat Technology & Consumption
C27: Is top-up heat (secondary) generation needed for heating? | D27: FALSE | F27: FALSE | H27: FALSE | J27: FALSE | L27: FALSE | N27: FALSE | P27: FALSE | R27: FALSE | T27: FALSE | V27: FALSE
C29: Is further heat generation needed for domestic hot water or other heat use? | D29: FALSE | F29: FALSE | H29: FALSE | J29: FALSE | L29: FALSE | N29: FALSE | P29: FALSE | R29: FALSE | T29: FALSE | V29: FALSE
B31: Existing main heat generation
C33: Existing main heat source in building | D33: Please select | F33: Please select | H33: Please select | J33: Please select | L33: Please select | N33: Please select | P33: Please select | R33: Please select | T33: Please select | V33: Please select
C35: Existing fuel type | D35: Please select | F35: Please select | H35: Please select | J35: Please select | L35: Please select | N35: Please select | P35: Please select | R35: Please select | T35: Please select | V35: Please select
C37: Age of main equipment (years)
C39: Capacity installed (kW heat)
C41: Annual energy use input (kWh) | Y41: =SUM(D41:V41) -> 0
C43: Estimated efficiency of existing heat generation (%)
C45: Estimated annual heat demand output (kWh) | D45: =IF(D43>0,D43*D41,"") | F45: =IF(F43>0,F43*F41,"") | H45: =IF(H43>0,H43*H41,"") | J45: =IF(J43>0,J43*J41,"") | L45: =IF(L43>0,L43*L41,"") | N45: =IF(N43>0,N43*N41,"") | P45: =IF(P43>0,P43*P41,"") | R45: =IF(R43>0,R43*R41,"") | T45: =IF(T43>0,T43*T41,"") | V45: =IF(V43>0,V43*V41,"") | Y45: =SUM(D45:V45) -> 0
C47: Carbon Emissions (kgCO2e) | D47: =D41*_xlfn.XLOOKUP(D35,Calculation_factors!$H$6:$H$13,Calculation_factors!$I$6:$I$13) -> #N/A | F47: =F41*_xlfn.XLOOKUP(F35,Calculation_factors!$H$6:$H$13,Calculation_factors!$I$6:$I$13) -> #N/A | H47: =H41*_xlfn.XLOOKUP(H35,Calculation_factors!$H$6:$H$13,Calculation_factors!$I$6:$I$13) -> #N/A | J47: =J41*_xlfn.XLOOKUP(J35,Calculation_factors!$H$6:$H$13,Calculation_factors!$I$6:$I$13) -> #N/A | L47: =L41*_xlfn.XLOOKUP(L35,Calculation_factors!$H$6:$H$13,Calculation_factors!$I$6:$I$13) -> #N/A | N47: =N41*_xlfn.XLOOKUP(N35,Calculation_factors!$H$6:$H$13,Calculation_factors!$I$6:$I$13) -> #N/A | P47: =P41*_xlfn.XLOOKUP(P35,Calculation_factors!$H$6:$H$13,Calculation_factors!$I$6:$I$13) -> #N/A | R47: =R41*_xlfn.XLOOKUP(R35,Calculation_factors!$H$6:$H$13,Calculation_factors!$I$6:$I$13) -> #N/A | T47: =T41*_xlfn.XLOOKUP(T35,Calculation_factors!$H$6:$H$13,Calculation_factors!$I$6:$I$13) -> #N/A | V47: =V41*_xlfn.XLOOKUP(V35,Calculation_factors!$H$6:$H$13,Calculation_factors!$I$6:$I$13) -> #N/A
C49: Lifetime Carbon Emissions (kgCO2e) | D49: =D41*_xlfn.XLOOKUP(D35,Calculation_factors!$E$6:$E$13,Calculation_factors!$F$6:$F$13) -> #N/A | F49: =F41*_xlfn.XLOOKUP(F35,Calculation_factors!$E$6:$E$13,Calculation_factors!$F$6:$F$13) -> #N/A | H49: =H41*_xlfn.XLOOKUP(H35,Calculation_factors!$E$6:$E$13,Calculation_factors!$F$6:$F$13) -> #N/A | J49: =J41*_xlfn.XLOOKUP(J35,Calculation_factors!$E$6:$E$13,Calculation_factors!$F$6:$F$13) -> #N/A | L49: =L41*_xlfn.XLOOKUP(L35,Calculation_factors!$E$6:$E$13,Calculation_factors!$F$6:$F$13) -> #N/A | N49: =N41*_xlfn.XLOOKUP(N35,Calculation_factors!$E$6:$E$13,Calculation_factors!$F$6:$F$13) -> #N/A | P49: =P41*_xlfn.XLOOKUP(P35,Calculation_factors!$E$6:$E$13,Calculation_factors!$F$6:$F$13) -> #N/A | R49: =R41*_xlfn.XLOOKUP(R35,Calculation_factors!$E$6:$E$13,Calculation_factors!$F$6:$F$13) -> #N/A | T49: =T41*_xlfn.XLOOKUP(T35,Calculation_factors!$E$6:$E$13,Calculation_factors!$F$6:$F$13) -> #N/A | V49: =V41*_xlfn.XLOOKUP(V35,Calculation_factors!$E$6:$E$13,Calculation_factors!$F$6:$F$13) -> #N/A
B51: Secondary heat generation
C53: Type of use for heat | D53: Please select | F53: Please select | H53: Please select | J53: Please select | L53: Please select | V53: Please select
C55: Existing heat source | D55: Please select | F55: Please select | H55: Please select | J55: Please select | L55: Please select | V55: Please select
C57: Existing fuel type | D57: Please select | F57: Please select | H57: Please select | J57: Please select | L57: Please select | V57: Please select
C59: Capacity installed (kW heat)
C61: Annual energy use input (kWh) | Y61: =SUM(D61:V61) -> 0
C63: Estimated efficiency of existing heat generation (%)
C65: Estimated annual heat demand output (kWh) | D65: =IF(D63>0,D63*D61,0) -> 0 | F65: =IF(F63>0,F63*F61,0) -> 0 | H65: =IF(H63>0,H63*H61,0) -> 0 | J65: =IF(J63>0,J63*J61,0) -> 0 | L65: =IF(L63>0,L63*L61,0) -> 0 | N65: =IF(N63>0,N63*N61,0) -> 0 | P65: =IF(P63>0,P63*P61,0) -> 0 | R65: =IF(R63>0,R63*R61,0) -> 0 | T65: =IF(T63>0,T63*T61,0) -> 0 | V65: =IF(V63>0,V63*V61,0) -> 0 | Y65: =SUM(D65:V65) -> 0
C67: Carbon Emissions (kgCO2e) | D67: =D61*_xlfn.XLOOKUP(D57,Calculation_factors!$H$6:$H$13,Calculation_factors!$I$6:$I$13) -> #N/A | F67: =F61*_xlfn.XLOOKUP(F57,Calculation_factors!$H$6:$H$13,Calculation_factors!$I$6:$I$13) -> #N/A | H67: =H61*_xlfn.XLOOKUP(H57,Calculation_factors!$H$6:$H$13,Calculation_factors!$I$6:$I$13) -> #N/A | J67: =J61*_xlfn.XLOOKUP(J57,Calculation_factors!$H$6:$H$13,Calculation_factors!$I$6:$I$13) -> #N/A | L67: =L61*_xlfn.XLOOKUP(L57,Calculation_factors!$H$6:$H$13,Calculation_factors!$I$6:$I$13) -> #N/A | N67: =N61*_xlfn.XLOOKUP(N57,Calculation_factors!$H$6:$H$13,Calculation_factors!$I$6:$I$13) -> #N/A | P67: =P61*_xlfn.XLOOKUP(P57,Calculation_factors!$H$6:$H$13,Calculation_factors!$I$6:$I$13) -> #N/A | R67: =R61*_xlfn.XLOOKUP(R57,Calculation_factors!$H$6:$H$13,Calculation_factors!$I$6:$I$13) -> #N/A | T67: =T61*_xlfn.XLOOKUP(T57,Calculation_factors!$H$6:$H$13,Calculation_factors!$I$6:$I$13) -> #N/A | V67: =V61*_xlfn.XLOOKUP(V57,Calculation_factors!$H$6:$H$13,Calculation_factors!$I$6:$I$13) -> #N/A
C69: Lifetime Carbon Emissions (kgCO2e) | D69: =D61*_xlfn.XLOOKUP(D57,Calculation_factors!$E$6:$E$13,Calculation_factors!$F$6:$F$13) -> #N/A | F69: =F61*_xlfn.XLOOKUP(F57,Calculation_factors!$E$6:$E$13,Calculation_factors!$F$6:$F$13) -> #N/A | H69: =H61*_xlfn.XLOOKUP(H57,Calculation_factors!$E$6:$E$13,Calculation_factors!$F$6:$F$13) -> #N/A | J69: =J61*_xlfn.XLOOKUP(J57,Calculation_factors!$E$6:$E$13,Calculation_factors!$F$6:$F$13) -> #N/A | L69: =L61*_xlfn.XLOOKUP(L57,Calculation_factors!$E$6:$E$13,Calculation_factors!$F$6:$F$13) -> #N/A | N69: =N61*_xlfn.XLOOKUP(N57,Calculation_factors!$E$6:$E$13,Calculation_factors!$F$6:$F$13) -> #N/A | P69: =P61*_xlfn.XLOOKUP(P57,Calculation_factors!$E$6:$E$13,Calculation_factors!$F$6:$F$13) -> #N/A | R69: =R61*_xlfn.XLOOKUP(R57,Calculation_factors!$E$6:$E$13,Calculation_factors!$F$6:$F$13) -> #N/A | T69: =T61*_xlfn.XLOOKUP(T57,Calculation_factors!$E$6:$E$13,Calculation_factors!$F$6:$F$13) -> #N/A | V69: =V61*_xlfn.XLOOKUP(V57,Calculation_factors!$E$6:$E$13,Calculation_factors!$F$6:$F$13) -> #N/A
B71: Further heat generation
C73: Type of use for heat | D73: Please select | F73: Please select | H73: Please select | J73: Please select | L73: Please select | V73: Please select
C75: Existing heat source | D75: Please select | F75: Please select | H75: Please select | J75: Please select | L75: Please select | V75: Please select
C77: Existing fuel type | D77: Please select | F77: Please select | H77: Please select | J77: Please select | L77: Please select | V77: Please select
...

Sheet 3. Eligible Cost Breakdown
C2: 3. ELIGIBLE PROJECT COSTS | K2: =IF('1. Applicant Details'!E15="Please select","Please specify number of buildings on the '1. Application Details' tab","") -> Please specify number of buildings on the '1. Application Details' tab
C3: =IF('1. Applicant Details'!E15="Please select","Please specify number of buildings on the '1. Applicant Details' tab","") -> Please specify number of buildings on the '1. Applicant Details' tab
B4: 3.1 Project Cost Breakdown - PLEASE NOTE COSTS SHOULD NOT INCLUDE RECOVERABLE VAT | I4: TOTAL | K4: BUILDING ONE | M4: BUILDING TWO | O4: BUILDING THREE | Q4: BUILDING FOUR | S4: BUILDING FIVE | U4: BUILDING SIX | W4: BUILDING SEVEN | Y4: BUILDING EIGHT | AA4: BUILDING NINE | AC4: BUILDING TEN
I5: Autofill | K5: =IF(ISBLANK('2. Project Details'!D$6),"",'2. Project Details'!D$6) | L5: =IF(ISBLANK('2. Project Details'!E$6),"",'2. Project Details'!E$6) | M5: =IF(ISBLANK('2. Project Details'!F$6),"",'2. Project Details'!F$6) | N5: =IF(ISBLANK('2. Project Details'!G$6),"",'2. Project Details'!G$6) | O5: =IF(ISBLANK('2. Project Details'!H$6),"",'2. Project Details'!H$6) | P5: =IF(ISBLANK('2. Project Details'!I$6),"",'2. Project Details'!I$6) | Q5: =IF(ISBLANK('2. Project Details'!J$6),"",'2. Project Details'!J$6) | R5: =IF(ISBLANK('2. Project Details'!K$6),"",'2. Project Details'!K$6) | ... AC5: =IF(ISBLANK('2. Project Details'!V$6),"",'2. Project Details'!V$6) | AF5: Total - TO BE HIDDEN
C7: Please outline your organisation's VAT position:
C8: (e.g. what VAT is recoverable, what is not)
C13: Final Design and Project Management (£) | I13: =SUM(K13:AC13) -> 0 | AF13: =SUM(K13,M13,O13,Q13,S13,U13,W13,Y13,AA13,AC13) -> 0
C14: % total cost | I14: =IFERROR(I13/I36,"") | K14: =IFERROR(K13/K36,"") | M14: =IFERROR(M13/M36,"") | O14: =IFERROR(O13/O36,"") | Q14: =IFERROR(Q13/Q36,"") | S14: =IFERROR(S13/S36,"") | U14: =IFERROR(U13/U36,"") | W14: =IFERROR(W13/W36,"") | Y14: =IFERROR(Y13/Y36,"") | AA14: =IFERROR(AA13/AA36,"") | AC14: =IFERROR(AC13/AC36,"") | AF14: =($AF13/$AF$36) -> #DIV/0!
C16: Equipment Costs (£) - Heat Plant Costs | I16: =SUM(K16:AC16) -> 0 | AF16: =SUM(K16,M16,O16,Q16,S16,U16,W16,Y16,AA16,AC16) -> 0
C17: £/kW | I17: =IFERROR(I16/'2. Project Details'!B227,"") | K17: =IFERROR(K16/'2. Project Details'!D227,"") | M17: =IFERROR(M16/'2. Project Details'!F227,"") | O17: =IFERROR(O16/'2. Project Details'!H227,"") | Q17: =IFERROR(Q16/'2. Project Details'!J227,"") | S17: =IFERROR(S16/'2. Project Details'!L227,"") | U17: =IFERROR(U16/'2. Project Details'!N227,"") | W17: =IFERROR(W16/'2. Project Details'!P227,"") | Y17: =IFERROR(Y16/'2. Project Details'!R227,"") | AA17: =IFERROR(AA16/'2. Project Details'!T227,"") | AC17: =IFERROR(AC16/'2. Project Details'!V227,"") | AF17: =SUM(K17,M17,O17,Q17,S17,U17,W17,Y17,AA17,AC17) -> 0
C18: % total cost | I18: =IFERROR(I16/I36,"") | K18: =IFERROR(K16/K36,"") | M18: =IFERROR(M16/M36,"") | O18: =IFERROR(O16/O36,"") | Q18: =IFERROR(Q16/Q36,"") | S18: =IFERROR(S16/S36,"") | U18: =IFERROR(U16/U36,"") | W18: =IFERROR(W16/W36,"") | Y18: =IFERROR(Y16/Y36,"") | AA18: =IFERROR(AA16/AA36,"") | AC18: =IFERROR(AC16/AC36,"") | AF18: =($AF16/$AF$36) -> #DIV/0!
C20: Fabric Works (£) - costs associated with improving heat retention | I20: =SUM(K20:AC20) -> 0 | AF20: =SUM(K20,M20,O20,,Q20,S20,U20,W20,Y20,AA20,AC20) -> 0
C21: % total cost | I21: =IFERROR(I20/I36,"") | K21: =IFERROR(K20/K36,"") | M21: =IFERROR(M20/M36,"") | O21: =IFERROR(O20/O36,"") | Q21: =IFERROR(Q20/Q36,"") | S21: =IFERROR(S20/S36,"") | U21: =IFERROR(U20/U36,"") | W21: =IFERROR(W20/W36,"") | Y21: =IFERROR(Y20/Y36,"") | AA21: =IFERROR(AA20/AA36,"") | AC21: =IFERROR(AC20/AC36,"") | AF21: =($AF20/$AF$36) -> #DIV/0!
C23: Enabling Works (£) - costs associated with improving heat emitters or other work outside the heat plant eg. electricity distribution boards | I23: =SUM(K23:AC23) -> 0 | AF23: =SUM(K23,M23,O23,,Q23,S23,U23,W23,Y23,AA23,AC23) -> 0
C24: % total cost | I24: =IFERROR(I23/I36,"") | K24: =IFERROR(K23/K36,"") | M24: =IFERROR(M23/M36,"") | O24: =IFERROR(O23/O36,"") | Q24: =IFERROR(Q23/Q36,"") | S24: =IFERROR(S23/S36,"") | U24: =IFERROR(U23/U36,"") | W24: =IFERROR(W23/W36,"") | Y24: =IFERROR(Y23/Y36,"") | AA24: =IFERROR(AA23/AA36,"") | AC24: =IFERROR(AC23/AC36,"") | AF24: =($AF23/$AF$36) -> #DIV/0!
C26: Monitoring and Controls (£) - heating smart controls, related BMS upgrades | I26: =SUM(K26:AC26) -> 0 | AF26: =SUM(K26,M26,O26,,Q26,S26,U26,W26,Y26,AA26,AC26) -> 0
C27: % total cost | I27: =IFERROR(I26/I36,"") | K27: =IFERROR(K26/K36,"") | M27: =IFERROR(M26/M36,"") | O27: =IFERROR(O26/O36,"") | Q27: =IFERROR(Q26/Q36,"") | S27: =IFERROR(S26/S36,"") | U27: =IFERROR(U26/U36,"") | W27: =IFERROR(W26/W36,"") | Y27: =IFERROR(Y26/Y36,"") | AA27: =IFERROR(AA26/AA36,"") | AC27: =IFERROR(AC26/AC36,"") | AF27: =($AF26/$AF$36) -> #DIV/0!
C29: DNO Costs (£) | I29: =SUM(K29:AC29) -> 0 | AF29: =SUM(K29,M29,O29,,Q29,S29,U29,W29,Y29,AA29,AC29) -> 0
C30: % total cost | I30: =IFERROR(I29/I36,"") | K30: =IFERROR(K29/K36,"") | M30: =IFERROR(M29/M36,"") | O30: =IFERROR(O29/O36,"") | Q30: =IFERROR(Q29/Q36,"") | S30: =IFERROR(S29/S36,"") | U30: =IFERROR(U29/U36,"") | W30: =IFERROR(W29/W36,"") | Y30: =IFERROR(Y29/Y36,"") | AA30: =IFERROR(AA29/AA36,"") | AC30: =IFERROR(AC29/AC36,"") | AF30: =($AF29/$AF$36) -> #DIV/0!
C32: Installation and Commissioning Costs (£) | I32: =SUM(K32:AC32) -> 0 | AF32: =SUM(K32,M32,O32,,Q32,S32,U32,W32,Y32,AA32,AC32) -> 0
C33: % total cost | I33: =IFERROR(I32/I36,"") | K33: =IFERROR(K32/K36,"") | M33: =IFERROR(M32/M36,"") | O33: =IFERROR(O32/O36,"") | Q33: =IFERROR(Q32/Q36,"") | S33: =IFERROR(S32/S36,"") | U33: =IFERROR(U32/U36,"") | W33: =IFERROR(W32/W36,"") | Y33: =IFERROR(Y32/Y36,"") | AA33: =IFERROR(AA32/AA36,"") | AC33: =IFERROR(AC32/AC36,"") | AF33: =($AF32/$AF$36) -> #DIV/0!
C36: Total Project Costs (£) | I36: =SUM(K36:AC36) -> 0 | K36: =SUM(K13,K16,K20,K23,K26,K29,K32) -> 0 | M36: =SUM(M13,M16,M20,M23,M26,M29,M32) -> 0 | O36: =SUM(O13,O16,O20,O23,O26,O29,O32) -> 0 | Q36: =SUM(Q13,Q16,Q20,Q23,Q26,Q29,Q32) -> 0 | S36: =SUM(S13,S16,S20,S23,S26,S29,S32) -> 0 | U36: =SUM(U13,U16,U20,U23,U26,U29,U32) -> 0 | W36: =SUM(W13,W16,W20,W23,W26,W29,W32) -> 0 | Y36: =SUM(Y13,Y16,Y20,Y23,Y26,Y29,Y32) -> 0 | AA36: =SUM(AA13,AA16,AA20,AA23,AA26,AA29,AA32) -> 0 | AC36: =SUM(AC13,AC16,AC20,AC23,AC26,AC29,AC32) -> 0 | AF36: =SUM(K36,M36,O36,,Q36,S36,U36,W36,Y36,AA36,AC36) -> 0
C37: Ensure this value matches the totals on the submitted quotes
C40: Maximum Eligible Grant Value | I40: =I36*0.9 -> 0 | K40: =K36*0.9 -> 0 | M40: =M36*0.9 -> 0 | O40: =O36*0.9 -> 0 | Q40: =Q36*0.9 -> 0 | S40: =S36*0.9 -> 0 | U40: =U36*0.9 -> 0 | W40: =W36*0.9 -> 0 | Y40: =Y36*0.9 -> 0 | AA40: =AA36*0.9 -> 0 | AC40: =AC36*0.9 -> 0 | AF40: =SUM(K40,M40,O40,,Q40,S40,U40,W40,Y40,AA40,AC40) -> 0
C42: Grant amount requested | I42: =SUM(K42:AC42) -> 0 | AF42: =SUM(K42,M42,O42,,Q42,S42,U42,W42,Y42,AA42,AC42) -> 0
C43: Percentage of total costs requested (Maximum grant is 90%) | I43: =IFERROR(I42/I36,"") | K43: =IFERROR(K42/K36,"") | M43: =IFERROR(M42/M36,"") | O43: =IFERROR(O42/O36,"") | Q43: =IFERROR(Q42/Q36,"") | S43: =IFERROR(S42/S36,"") | U43: =IFERROR(U42/U36,"") | W43: =IFERROR(W42/W36,"") | Y43: =IFERROR(Y42/Y36,"") | AA43: =IFERROR(AA42/AA36,"") | AC43: =IFERROR(AC42/AC36,"") | AF43: =AVERAGE(E43:O43) -> #DIV/0!
C45: Minimum Applicant Contribution | I45: =I36-I42 -> 0 | K45: =K36-K42 -> 0 | M45: =M36-M42 -> 0 | O45: =O36-O42 -> 0 | Q45: =Q36-Q42 -> 0 | S45: =S36-S42 -> 0 | U45: =U36-U42 -> 0 | W45: =W36-W42 -> 0 | Y45: =Y36-Y42 -> 0 | AA45: =AA36-AA42 -> 0 | AC45: =AC36-AC42 -> 0 | AF45: =SUM(K45,M45,O45,Q45,S45,U45,W45,Y45,AA45,AC45) -> 0
C49: Costs funded by other funding sources | I49: =SUM(K49:AC49) -> 0 | K49: =SUM(K52:K54) -> 0 | M49: =SUM(M52:M54) -> 0 | O49: =SUM(O52:O54) -> 0 | Q49: =SUM(Q52:Q54) -> 0 | S49: =SUM(S52:S54) -> 0 | U49: =SUM(U52:U54) -> 0 | W49: =SUM(W52:W54) -> 0 | Y49: =SUM(Y52:Y54) -> 0 | AA49: =SUM(AA52:AA54) -> 0 | AC49: =SUM(AC52:AC54) -> 0 | AF49: =SUM(K49,M49,O49,Q49,S49,U49,W49,Y49,AA49,AC49) -> 0
C51: List other confirmed funding sources & amounts
C52: funding sources | I52: =SUM(K52:AC52) -> 0 | M52: 0 | O52: 0 | Q52: 0 | S52: 0 | U52: 0 | W52: 0 | Y52: 0 | AA52: 0
C53: funding sources | I53: =SUM(K53:AC53) -> 0 | M53: 0 | O53: 0 | Q53: 0 | S53: 0 | U53: 0 | W53: 0 | Y53: 0 | AA53: 0
C54: funding sources | I54: =SUM(K54:AC54) -> 0 | M54: 0 | O54: 0 | Q54: 0 | S54: 0 | U54: 0 | W54: 0 | Y54: 0 | AA54: 0
C57: Please provide commentary on project costs. Include detail such as: - how these costs been derived - how the approach taken is cost effective
B59: 3.2 Yearly breakdown and Retention (of Project Costs)
C61: (i) Project(s) must be completed by the end of the 2025/2026 financial year.
C62: (ii)Funding is committed on a financial year basis and must be spent within the specified financial year. Approved funds cannot be rolled from one financial year to the next.
C65: Please indicate the yearly split of total project costs:
G66: RETENTION | I66: SUBTOTAL
C67: Project spend by 31st March 2026 | G67: Yes | I67: =SUM(K67:AC67) -> 0
C69: Does this include a retention payment which would be paid in the following FY?
...

Sheet 4. Risks
C2: 4. RISK ASSESSMENT
C4: Description of Risk to Project Delivery | D4: Potential Impact (1-5) | E4: Likelihood (1-5) | F4: Risk Rating (unmitigated) | G4: Proposed Mitigation (if any) | H4: Post mitigation Potential Impact (1-5) | I4: Post mitigation Likelihood (1-5) | J4: Risk Rating (mitigated)
F5: =D5*E5 -> 0 | J5: =H5*I5 -> 0
F6: =D6*E6 -> 0 | J6: =H6*I6 -> 0
F7: =D7*E7 -> 0 | J7: =H7*I7 -> 0
F8: =D8*E8 -> 0 | J8: =H8*I8 -> 0
F9: =D9*E9 -> 0 | J9: =H9*I9 -> 0
F10: =D10*E10 -> 0 | J10: =H10*I10 -> 0
F11: =D11*E11 -> 0 | J11: =H11*I11 -> 0
F12: =D12*E12 -> 0 | J12: =H12*I12 -> 0
B19: End of Sheet

Sheet 5. Summary & Declaration
C2: 5. Application Submittal
C10: 5.1 Completeness Check
G12: Complete?
E13: 1. Applicant Details | G13: FALSE | O13: (A1)
E15: 2. Project Details | G15: FALSE | O15: (A2)
E17: 3. Eligible Cost Breakdown | G17: FALSE | O17: (A3)
E19: 4. Risks | G19: FALSE | O19: (A4)
G21: =IF(G13*G15*G17*G19=0,"not all checkboxes checked","") -> not all checkboxes checked
C22: 5.2 Supporting Information
G24: Attached? | I24: Document name including three letter file type
C25: Feasibility study / Investment Grade Proposal demonstrating that project is technically feasible | G25: FALSE | O25: (B1)
C27: Suppliers quote for the works | G27: FALSE | O27: (B2)
C29: Drawings (plan and elevation) illustrating the location of the heat source and the scale (optional) | G29: FALSE | O29: (B3)
C31: Specification sheet for the heat pump / other low carbon heat source proposed | G31: FALSE | O31: (B4)
C33: Evidence of the coefficient of performance of the heat pump (where applicable) | G33: FALSE | O33: (B5)
C35: Evidence that any complementary funding is in place e.g. letters confirming funding | G35: FALSE | O35: (B6)
C37: A RAG assessment of the major risks to project delivery | G37: FALSE | O37: (B7)
C39: 5.3 Financial Summary and Declaration
F41: Financial Year 25/26 | I41: Financial Year 26/27
C42: Grant Application Request | G42: ='3. Eligible Cost Breakdown'!D94 -> 0 | J42: ='3. Eligible Cost Breakdown'!D103 -> 0
C44: Expected drawdown: | F44: =IF('3. Eligible Cost Breakdown'!C89="","",'3. Eligible Cost Breakdown'!C89) | G44: ='3. Eligible Cost Breakdown'!D89 -> 0 | I44: =IF('3. Eligible Cost Breakdown'!C98="","",'3. Eligible Cost Breakdown'!C98) | J44: ='3. Eligible Cost Breakdown'!D98 -> 0
F45: =IF('3. Eligible Cost Breakdown'!C90="","",'3. Eligible Cost Breakdown'!C90) | G45: ='3. Eligible Cost Breakdown'!D90 -> 0 | I45: =IF('3. Eligible Cost Breakdown'!C99="","",'3. Eligible Cost Breakdown'!C99) | J45: ='3. Eligible Cost Breakdown'!D99 -> 0
F46: =IF('3. Eligible Cost Breakdown'!C91="","",'3. Eligible Cost Breakdown'!C91) | G46: ='3. Eligible Cost Breakdown'!D91 -> 0 | I46: =IF('3. Eligible Cost Breakdown'!C100="","",'3. Eligible Cost Breakdown'!C100) | J46: ='3. Eligible Cost Breakdown'!D100 -> 0
F47: =IF('3. Eligible Cost Breakdown'!C92="","",'3. Eligible Cost Breakdown'!C92) | G47: ='3. Eligible Cost Breakdown'!D92 -> 0 | I47: =IF('3. Eligible Cost Breakdown'!C101="","",'3. Eligible Cost Breakdown'!C101) | J47: ='3. Eligible Cost Breakdown'!D101 -> 0
C50: If you are applying for a phased or part spend of a project, please confirm that you are committed to completing the project with other funding as required. (note; accepting this term will not preclude you from applying for any future rounds of the Local Authority Low Carbon Heat Grant, including for future spend on this project.) | G50: FALSE | O50: (C0)
C52: We confirm that we understand that the project value is not flexible between financial years | G52: FALSE | O52: (C1)
C54: We confirm that our contribution of funding (10%+) is secured and will be available against each drawdown of funding | G54: FALSE | O54: (C2)
C56: We confirm that we understand drawdown of funding will be in arrears | G56: FALSE | O56: (C3)
C58: We confirm that our multiple sites are listed in our priority order, and that grant offers may be made for a reduced number of sites to ensure reasonable and fair distribution of funding | G58: FALSE | O58: (C4)
C60: We confirm that recoverable VAT has not been included in project costs applied for (or as part of our contribution) | G60: FALSE | O60: (C5)
C62: We understand that low carbon heat solutions may lead to a increase in energy costs, and that these costs can be covered | G62: FALSE | O62: (C6)
C64: We confirm that we will be ready to go into contract soon after grant award | G64: FALSE | O64: (C7)
C66: We confirm that we have senior commitment for the project | G66: FALSE | O66: (C8)
C68: I understand the requirement for a periodic update report with accurate updates to drawdown profiles. | G68: FALSE | O68: (C9)
C70: By ticking this checkbox I hereby confirm that to the best of my knowledge the application is complete and correct, and that I have the authority to apply for the organisation. Please Print Name | G70: FALSE | K70: Please print name | O70: (C10)
G74: =IF(G50*G52*G54*G56*G58*G60*G62*G64*G66*G68*G70=0,"not all checkboxes checked","") -> not all checkboxes checked
B75: 5.4 Grant Offer Letter
C77: Preferred Grant Offer Letter and other document language: | G77: Please select | O77: (C11)
C79: Will the Sponsoring Director be signing the Grant Offer Letter? | G79: Please select | O79: (C12)
C80: (If the answer is 'no' and the Sponsoring Director will not be signing the GOL, | I80: =IF(G79="No", "Print Name", "") | L80: =IF(G79="No", "E-mail address", "")
...

Sheet RedFlags
D1: 1 | E1: 2 | F1: 3 | G1: 4 | H1: 5 | I1: 6 | J1: 7 | K1: 8 | L1: 9 | M1: 10 | P1: APPLICANT DETAILS
B2: 1. Applicant Details
B4: Compliance | D4: Reponse | E4: ='1. Applicant Details'!H19 -> Pass / Fail | P4: Evaluation Response: | R4: Evaluation Commentary:
C5: Please confirm your organisation either owns, long term leases, or reports the carbon emissions for these buildings | D5: ='1. Applicant Details'!E20 -> FALSE | E5: ='1. Applicant Details'!H20 -> Fail
C6: Please confirm your organisation is retaining the building / lease for at least 10 years | D6: ='1. Applicant Details'!E22 -> FALSE | E6: ='1. Applicant Details'!H22 -> Fail
C7: Please confirm the applicant is a Local Authority | D7: ='1. Applicant Details'!E24 -> FALSE | E7: ='1. Applicant Details'!H24 -> Fail
C8: Please confirm the proposed works are yet to start | D8: ='1. Applicant Details'!E26 -> FALSE | E8: ='1. Applicant Details'!H26 -> Fail
C9: ='1. Applicant Details'!D28 -> Please confirm the proposed works will be completed by 31st March 2026 | D9: ='1. Applicant Details'!E28 -> FALSE | E9: ='1. Applicant Details'!H28 -> Fail
C11: Are any of the projects in this application related to district heating? | D11: ='1. Applicant Details'!E30 -> Please select
C12: Are any of the projects in this application dependent on another funding stream? | D12: ='1. Applicant Details'!E32 -> Please select | E12: ='1. Applicant Details'!H32
C13: Are any of the projects in this application dependent on the timing of another project? | D13: ='1. Applicant Details'!E34 -> Please select
B14: Procurement
C15: Are you intending on delivering these projects via a Re:fit contract? | D15: ='1. Applicant Details'!E37 -> Please select
C16: Do you have a detailed design or investment grade proposal in place? | D16: ='1. Applicant Details'!E39 -> Please select
C17: Please indicate which stage of the procurement process you are at. | D17: ='1. Applicant Details'!E41 -> Please select
B19: 2. Project Details | P19: PROJECT DETAILS
B21: Building details | P21: Evaluation Response: | R21: Evaluation Commentary:
C22: ='2. Project Details'!C12 -> Type of building | D22: ='2. Project Details'!D12 -> Please select | E22: ='2. Project Details'!F12 -> Please select | F22: ='2. Project Details'!H12 -> Please select | G22: ='2. Project Details'!J12 -> Please select | H22: ='2. Project Details'!L12 -> Please select | I22: ='2. Project Details'!N12 -> Please select | J22: ='2. Project Details'!P12 -> Please select | K22: ='2. Project Details'!R12 -> Please select | L22: ='2. Project Details'!T12 -> Please select | M22: ='2. Project Details'!V12 -> Please select
C23: ='2. Project Details'!C14 -> Gross Internal Floor Area of Building (m2) | D23: ='2. Project Details'!D14 -> 0 | E23: ='2. Project Details'!F14 -> 0 | F23: ='2. Project Details'!H14 -> 0 | G23: ='2. Project Details'!J14 -> 0 | H23: ='2. Project Details'!L14 -> 0 | I23: ='2. Project Details'!N14 -> 0 | J23: ='2. Project Details'!P14 -> 0 | K23: ='2. Project Details'!R14 -> 0 | L23: ='2. Project Details'!T14 -> 0 | M23: ='2. Project Details'!V14 -> 0
C24: ='2. Project Details'!C16 -> Confirm you are retaining ownership / lease of this building for at least 10 years | D24: ='2. Project Details'!D16 -> Please select | E24: ='2. Project Details'!F16 -> Please select | F24: ='2. Project Details'!H16 -> Please select | G24: ='2. Project Details'!J16 -> Please select | H24: ='2. Project Details'!L16 -> Please select | I24: ='2. Project Details'!N16 -> Please select | J24: ='2. Project Details'!P16 -> Please select | K24: ='2. Project Details'!R16 -> Please select | L24: ='2. Project Details'!T16 -> Please select | M24: ='2. Project Details'!V16 -> Please select
C25: ='2. Project Details'!C18 -> Is the building in the vicinity of an existing or planned heat network? | D25: ='2. Project Details'!D18 -> Please select | E25: ='2. Project Details'!F18 -> Please select | F25: ='2. Project Details'!H18 -> Please select | G25: ='2. Project Details'!J18 -> Please select | H25: ='2. Project Details'!L18 -> Please select | I25: ='2. Project Details'!N18 -> Please select | J25: ='2. Project Details'!P18 -> Please select | K25: ='2. Project Details'!R18 -> Please select | L25: ='2. Project Details'!T18 -> Please select | M25: ='2. Project Details'!V18 -> Please select
B27: Existing
C28: ='2. Project Details'!C33 -> Existing main heat source in building | D28: ='2. Project Details'!D33 -> Please select | E28: ='2. Project Details'!F33 -> Please select | F28: ='2. Project Details'!H33 -> Please select | G28: ='2. Project Details'!J33 -> Please select | H28: ='2. Project Details'!L33 -> Please select | I28: ='2. Project Details'!N33 -> Please select | J28: ='2. Project Details'!P33 -> Please select | K28: ='2. Project Details'!R33 -> Please select | L28: ='2. Project Details'!T33 -> Please select | M28: ='2. Project Details'!V33 -> Please select
C29: ='2. Project Details'!C35 -> Existing fuel type | D29: ='2. Project Details'!D35 -> Please select | E29: ='2. Project Details'!F35 -> Please select | F29: ='2. Project Details'!H35 -> Please select | G29: ='2. Project Details'!J35 -> Please select | H29: ='2. Project Details'!L35 -> Please select | I29: ='2. Project Details'!N35 -> Please select | J29: ='2. Project Details'!P35 -> Please select | K29: ='2. Project Details'!R35 -> Please select | L29: ='2. Project Details'!T35 -> Please select | M29: ='2. Project Details'!V35 -> Please select
C30: ='2. Project Details'!C37 -> Age of main equipment (years) | D30: ='2. Project Details'!D37 -> 0 | E30: ='2. Project Details'!F37 -> 0 | F30: ='2. Project Details'!H37 -> 0 | G30: ='2. Project Details'!J37 -> 0 | H30: ='2. Project Details'!L37 -> 0 | I30: ='2. Project Details'!N37 -> 0 | J30: ='2. Project Details'!P37 -> 0 | K30: ='2. Project Details'!R37 -> 0 | L30: ='2. Project Details'!T37 -> 0 | M30: ='2. Project Details'!V37 -> 0
C31: ='2. Project Details'!C94 -> Total annual heat demand output (kWh) | D31: ='2. Project Details'!D94 -> 0 | E31: ='2. Project Details'!F94 -> 0 | F31: ='2. Project Details'!H94 -> 0 | G31: ='2. Project Details'!J94 -> 0 | H31: ='2. Project Details'!L94 -> 0 | I31: ='2. Project Details'!N94 -> 0 | J31: ='2. Project Details'!P94 -> 0 | K31: ='2. Project Details'!R94 -> 0 | L31: ='2. Project Details'!T94 -> 0 | M31: ='2. Project Details'!V94 -> 0
C32: ='2. Project Details'!C100 -> Percent heat served by main heat generation | D32: ='2. Project Details'!D100 | E32: ='2. Project Details'!F100 | F32: ='2. Project Details'!H100 | G32: ='2. Project Details'!J100 | H32: ='2. Project Details'!L100 | I32: ='2. Project Details'!N100 | J32: ='2. Project Details'!P100 | K32: ='2. Project Details'!R100 | L32: ='2. Project Details'!T100 | M32: ='2. Project Details'!V100
C33: ='2. Project Details'!C101 -> Percent heat served by secondary heat generation | D33: ='2. Project Details'!D101 -> 0 | E33: ='2. Project Details'!F101 -> 0 | F33: ='2. Project Details'!H101 -> 0 | G33: ='2. Project Details'!J101 -> 0 | H33: ='2. Project Details'!L101 -> 0 | I33: ='2. Project Details'!N101 -> 0 | J33: ='2. Project Details'!P101 -> 0 | K33: ='2. Project Details'!R101 -> 0 | L33: ='2. Project Details'!T101 -> 0 | M33: ='2. Project Details'!V101 -> 0
C34: ='2. Project Details'!C102 -> Percent heat served by further heat generation | D34: ='2. Project Details'!D102 -> 0 | E34: ='2. Project Details'!F102 -> 0 | F34: ='2. Project Details'!H102 -> 0 | G34: ='2. Project Details'!J102 -> 0 | H34: ='2. Project Details'!L102 -> 0 | I34: ='2. Project Details'!N102 -> 0 | J34: ='2. Project Details'!P102 -> 0 | K34: ='2. Project Details'!R102 -> 0 | L34: ='2. Project Details'!T102 -> 0 | M34: ='2. Project Details'!V102 -> 0
B36: Enabling & Energy Efficiency
C37: ='2. Project Details'!C111 -> Please indicate the design temperature for the project:
C38: ='2. Project Details'!C112 -> Heating output flow temperature | D38: ='2. Project Details'!D112 -> 0 | E38: ='2. Project Details'!F112 -> 0 | F38: ='2. Project Details'!H112 -> 0 | G38: ='2. Project Details'!J112 -> 0 | H38: ='2. Project Details'!L112 -> 0 | I38: ='2. Project Details'!N112 -> 0 | J38: ='2. Project Details'!P112 -> 0 | K38: ='2. Project Details'!R112 -> 0 | L38: ='2. Project Details'!T112 -> 0 | M38: ='2. Project Details'!V112 -> 0
C39: ='2. Project Details'!C114 -> Domestic hot water temperature | D39: ='2. Project Details'!D114 -> 0 | E39: ='2. Project Details'!F114 -> 0 | F39: ='2. Project Details'!H114 -> 0 | G39: ='2. Project Details'!J114 -> 0 | H39: ='2. Project Details'!L114 -> 0 | I39: ='2. Project Details'!N114 -> 0 | J39: ='2. Project Details'!P114 -> 0 | K39: ='2. Project Details'!R114 -> 0 | L39: ='2. Project Details'!T114 -> 0 | M39: ='2. Project Details'!V114 -> 0
C41: ='2. Project Details'!C117 -> Please indicate if the following measures are included in your project:
C42: ='2. Project Details'!C118 -> Replacing radiators | D42: ='2. Project Details'!D118 -> Please select | E42: ='2. Project Details'!F118 -> Please select | F42: ='2. Project Details'!H118 -> Please select | G42: ='2. Project Details'!J118 -> Please select | H42: ='2. Project Details'!L118 -> Please select | I42: ='2. Project Details'!N118 -> Please select | J42: ='2. Project Details'!P118 -> 0 | K42: ='2. Project Details'!R118 -> 0 | L42: ='2. Project Details'!T118 -> 0 | M42: ='2. Project Details'!V118 -> Please select
C43: ='2. Project Details'!C120 -> Replacing AHU heating coils | D43: ='2. Project Details'!D120 -> Please select | E43: ='2. Project Details'!F120 -> Please select | F43: ='2. Project Details'!H120 -> Please select | G43: ='2. Project Details'!J120 -> Please select | H43: ='2. Project Details'!L120 -> Please select | I43: ='2. Project Details'!N120 -> 0 | J43: ='2. Project Details'!P120 -> 0 | K43: ='2. Project Details'!R120 -> 0 | L43: ='2. Project Details'!T120 -> 0 | M43: ='2. Project Details'!V120 -> Please select
C44: ='2. Project Details'!C122 -> Heating circuit upgrades | D44: ='2. Project Details'!D122 -> Please select | E44: ='2. Project Details'!F122 -> Please select | F44: ='2. Project Details'!H122 -> Please select | G44: ='2. Project Details'!J122 -> Please select | H44: ='2. Project Details'!L122 -> Please select | I44: ='2. Project Details'!N122 -> 0 | J44: ='2. Project Details'!P122 -> 0 | K44: ='2. Project Details'!R122 -> 0 | L44: ='2. Project Details'!T122 -> 0 | M44: ='2. Project Details'!V122 -> Please select
C45: ='2. Project Details'!#REF! -> #REF! | D45: ='2. Project Details'!#REF! -> #REF! | E45: ='2. Project Details'!#REF! -> #REF! | F45: ='2. Project Details'!#REF! -> #REF! | G45: ='2. Project Details'!#REF! -> #REF! | H45: ='2. Project Details'!#REF! -> #REF! | I45: ='2. Project Details'!#REF! -> #REF! | J45: ='2. Project Details'!#REF! -> #REF! | ... M45: ='2. Project Details'!#REF! -> #REF!
C46: ='2. Project Details'!C124 -> Other (please note): | D46: ='2. Project Details'!D124 -> 0 | E46: ='2. Project Details'!F124 -> 0 | F46: ='2. Project Details'!H124 -> 0 | G46: ='2. Project Details'!J124 -> 0 | H46: ='2. Project Details'!L124 -> 0 | I46: ='2. Project Details'!N124 -> 0 | J46: ='2. Project Details'!P124 -> 0 | K46: ='2. Project Details'!R124 -> 0 | L46: ='2. Project Details'!T124 -> 0 | M46: ='2. Project Details'!V124 -> none
C47: ='2. Project Details'!#REF! -> #REF! | D47: ='2. Project Details'!#REF! -> #REF! | E47: ='2. Project Details'!#REF! -> #REF! | F47: ='2. Project Details'!#REF! -> #REF! | G47: ='2. Project Details'!#REF! -> #REF! | H47: ='2. Project Details'!#REF! -> #REF! | I47: ='2. Project Details'!#REF! -> #REF! | J47: ='2. Project Details'!#REF! -> #REF! | ... M47: ='2. Project Details'!#REF! -> #REF!
...

Sheet HP_Value
B2: Summary information and Carbon Cost Effectiveness
B3: INFO | C3: Building Number | D3: 1 | F3: 2 | H3: 3 | J3: 4 | L3: 5 | N3: 6 | P3: 7 | R3: 8 | T3: 9 | V3: 10 | X3: Totals
B4: INFO | C4: Building Name | D4: ='2. Project Details'!D6 -> 0 | F4: ='2. Project Details'!F6 -> 0 | H4: ='2. Project Details'!H6 -> 0 | J4: ='2. Project Details'!J6 -> 0 | L4: ='2. Project Details'!L6 -> 0 | N4: ='2. Project Details'!N6 -> 0 | P4: ='2. Project Details'!P6 -> 0 | R4: ='2. Project Details'!R6 -> 0 | T4: ='2. Project Details'!T6 -> 0 | V4: ='2. Project Details'!V6 -> 0
B5: INFO | C5: Building Type | D5: ='2. Project Details'!D12 -> Please select | F5: ='2. Project Details'!F12 -> Please select | H5: ='2. Project Details'!H12 -> Please select | J5: ='2. Project Details'!J12 -> Please select | L5: ='2. Project Details'!L12 -> Please select | N5: ='2. Project Details'!N12 -> Please select | P5: ='2. Project Details'!P12 -> Please select | R5: ='2. Project Details'!R12 -> Please select | T5: ='2. Project Details'!T12 -> Please select | V5: ='2. Project Details'!V12 -> Please select
B6: INFO | C6: Floor Area | D6: ='2. Project Details'!D14 -> 0 | F6: ='2. Project Details'!F14 -> 0 | H6: ='2. Project Details'!H14 -> 0 | J6: ='2. Project Details'!J14 -> 0 | L6: ='2. Project Details'!L14 -> 0 | N6: ='2. Project Details'!N14 -> 0 | P6: ='2. Project Details'!P14 -> 0 | R6: ='2. Project Details'!R14 -> 0 | T6: ='2. Project Details'!T14 -> 0 | V6: ='2. Project Details'!V14 -> 0
B8: MONEY | C8: Maximum Eligible Grant Value | D8: ='3. Eligible Cost Breakdown'!K40 -> 0 | F8: ='3. Eligible Cost Breakdown'!M40 -> 0 | H8: ='3. Eligible Cost Breakdown'!O40 -> 0 | J8: ='3. Eligible Cost Breakdown'!Q40 -> 0 | L8: ='3. Eligible Cost Breakdown'!S40 -> 0 | N8: ='3. Eligible Cost Breakdown'!U40 -> 0 | P8: ='3. Eligible Cost Breakdown'!W40 -> 0 | R8: ='3. Eligible Cost Breakdown'!Y40 -> 0 | T8: ='3. Eligible Cost Breakdown'!AA40 -> 0 | V8: ='3. Eligible Cost Breakdown'!AC40 -> 0 | X8: =_xlfn.AGGREGATE(9,7,D8,F8,H8,J8,L8,N8,P8,R8,T8,V8) -> 0
B9: MONEY | C9: Percentage Grant Request (%) | D9: ='3. Eligible Cost Breakdown'!K43 | F9: ='3. Eligible Cost Breakdown'!M43 | H9: ='3. Eligible Cost Breakdown'!O43 | J9: ='3. Eligible Cost Breakdown'!Q43 | L9: ='3. Eligible Cost Breakdown'!S43 | N9: ='3. Eligible Cost Breakdown'!U43 | P9: ='3. Eligible Cost Breakdown'!W43 | R9: ='3. Eligible Cost Breakdown'!Y43 | T9: ='3. Eligible Cost Breakdown'!AA43 | V9: ='3. Eligible Cost Breakdown'!AC43 | X9: =_xlfn.AGGREGATE(1,7,D9,F9,H9,J9,L9,N9,P9,R9,T9,V9) -> #DIV/0! | Y9: avera
B10: MONEY | C10: Grant Requested | D10: ='3. Eligible Cost Breakdown'!K42 -> 0 | F10: ='3. Eligible Cost Breakdown'!M42 -> 0 | H10: ='3. Eligible Cost Breakdown'!O42 -> 0 | J10: ='3. Eligible Cost Breakdown'!Q42 -> 0 | L10: ='3. Eligible Cost Breakdown'!S42 -> 0 | N10: ='3. Eligible Cost Breakdown'!U42 -> 0 | P10: ='3. Eligible Cost Breakdown'!W42 -> 0 | R10: ='3. Eligible Cost Breakdown'!Y42 -> 0 | T10: ='3. Eligible Cost Breakdown'!AA42 -> 0 | V10: ='3. Eligible Cost Breakdown'!AC42 -> 0 | X10: =_xlfn.AGGREGATE(9,7,D10,F10,H10,J10,L10,N10,P10,R10,T10,V10) -> 0 | Y10: =X10/$X$10 -> #DIV/0!
B11: MONEY | C11: Yr 1. | D11: ='3. Eligible Cost Breakdown'!K67 -> 0 | F11: ='3. Eligible Cost Breakdown'!M67 -> 0 | H11: ='3. Eligible Cost Breakdown'!O67 -> 0 | J11: ='3. Eligible Cost Breakdown'!Q67 -> 0 | L11: ='3. Eligible Cost Breakdown'!S67 -> 0 | N11: ='3. Eligible Cost Breakdown'!U67 -> 0 | P11: ='3. Eligible Cost Breakdown'!W67 -> 0 | R11: ='3. Eligible Cost Breakdown'!Y67 -> 0 | T11: ='3. Eligible Cost Breakdown'!AA67 -> 0 | V11: ='3. Eligible Cost Breakdown'!AC67 -> 0 | X11: ='3. Eligible Cost Breakdown'!K84 -> 0 | Y11: =X11/$X$10 -> #DIV/0!
B12: MONEY | C12: Yr. 2 | D12: ='3. Eligible Cost Breakdown'!K72 -> 0 | F12: ='3. Eligible Cost Breakdown'!M72 -> 0 | H12: ='3. Eligible Cost Breakdown'!O72 -> 0 | J12: ='3. Eligible Cost Breakdown'!Q72 -> 0 | L12: ='3. Eligible Cost Breakdown'!S72 -> 0 | N12: ='3. Eligible Cost Breakdown'!U72 -> 0 | P12: ='3. Eligible Cost Breakdown'!W72 -> 0 | R12: ='3. Eligible Cost Breakdown'!Y72 -> 0 | T12: ='3. Eligible Cost Breakdown'!AA72 -> 0 | V12: ='3. Eligible Cost Breakdown'!AC72 -> 0 | X12: ='3. Eligible Cost Breakdown'!K85 -> 0 | Y12: =X12/$X$10 -> #DIV/0!
B14: Current | D14: ='2. Project Details'!D35 &" - " & '2. Project Details'!D33 -> Please select - Please select | F14: ='2. Project Details'!F35 &" - " & '2. Project Details'!F33 -> Please select - Please select | H14: ='2. Project Details'!H35 &" - " & '2. Project Details'!H33 -> Please select - Please select | J14: ='2. Project Details'!J35 &" - " & '2. Project Details'!J33 -> Please select - Please select | L14: ='2. Project Details'!L35 &" - " & '2. Project Details'!L33 -> Please select - Please select | N14: ='2. Project Details'!N35 &" - " & '2. Project Details'!N33 -> Please select - Please select | P14: ='2. Project Details'!P35 &" - " & '2. Project Details'!P33 -> Please select - Please select | R14: ='2. Project Details'!R35 &" - " & '2. Project Details'!R33 -> Please select - Please select | T14: ='2. Project Details'!T35 &" - " & '2. Project Details'!T33 -> Please select - Please select | V14: ='2. Project Details'!V35 &" - " & '2. Project Details'!V33 -> Please select - Please select
B15: New | D15: ='2. Project Details'!D160 -> Please select | F15: ='2. Project Details'!F160 -> Please select | H15: ='2. Project Details'!H160 -> Please select | J15: ='2. Project Details'!J160 -> Please select | L15: ='2. Project Details'!L160 -> Please select | N15: ='2. Project Details'!N160 -> Please select | P15: ='2. Project Details'!P160 -> Please select | R15: ='2. Project Details'!R160 -> Please select | T15: ='2. Project Details'!T160 -> Please select | V15: ='2. Project Details'!V160 -> Please select
B17: PRICES | C17: Heat Pump Capacity (kW) | D17: ='2. Project Details'!D227 -> 0 | F17: ='2. Project Details'!F227 -> 0 | H17: ='2. Project Details'!H227 -> 0 | J17: ='2. Project Details'!J227 -> 0 | L17: ='2. Project Details'!L227 -> 0 | N17: ='2. Project Details'!N227 -> 0 | P17: ='2. Project Details'!P227 -> 0 | R17: ='2. Project Details'!R227 -> 0 | T17: ='2. Project Details'!T227 -> 0 | V17: ='2. Project Details'!V227 -> 0 | X17: =_xlfn.AGGREGATE(9,7,D17,F17,H17,J17,L17,N17,P17,R17,T17,V17) -> 0
B18: PRICES | C18: Design costs | D18: ='3. Eligible Cost Breakdown'!K13 -> 0 | F18: ='3. Eligible Cost Breakdown'!M13 -> 0 | H18: ='3. Eligible Cost Breakdown'!O13 -> 0 | J18: ='3. Eligible Cost Breakdown'!Q13 -> 0 | L18: ='3. Eligible Cost Breakdown'!S13 -> 0 | N18: ='3. Eligible Cost Breakdown'!U13 -> 0 | P18: ='3. Eligible Cost Breakdown'!W13 -> 0 | R18: ='3. Eligible Cost Breakdown'!Y13 -> 0 | T18: ='3. Eligible Cost Breakdown'!AA13 -> 0 | V18: ='3. Eligible Cost Breakdown'!AC13 -> 0 | X18: =_xlfn.AGGREGATE(9,7,D18,F18,H18,J18,L18,N18,P18,R18,T18,V18) -> 0
B19: PRICES | C19: Design Costs per KW | D19: =D18/D17 -> #DIV/0! | F19: =F18/F17 -> #DIV/0! | H19: =H18/H17 -> #DIV/0! | J19: =J18/J17 -> #DIV/0! | L19: =L18/L17 -> #DIV/0! | N19: =N18/N17 -> #DIV/0! | P19: =P18/P17 -> #DIV/0! | R19: =R18/R17 -> #DIV/0! | T19: =T18/T17 -> #DIV/0! | V19: =V18/V17 -> #DIV/0! | X19: =_xlfn.AGGREGATE(1,7,D19,F19,H19,J19,L19,N19,P19,R19,T19,V19) -> #DIV/0! | Y19: ave
B20: PRICES | C20: Equipment Costs as proxy for Heat Pump Cost (£) | D20: ='3. Eligible Cost Breakdown'!K16 -> 0 | F20: ='3. Eligible Cost Breakdown'!M16 -> 0 | H20: ='3. Eligible Cost Breakdown'!O16 -> 0 | J20: ='3. Eligible Cost Breakdown'!Q16 -> 0 | L20: ='3. Eligible Cost Breakdown'!S16 -> 0 | N20: ='3. Eligible Cost Breakdown'!U16 -> 0 | P20: ='3. Eligible Cost Breakdown'!W16 -> 0 | R20: ='3. Eligible Cost Breakdown'!Y16 -> 0 | T20: ='3. Eligible Cost Breakdown'!AA16 -> 0 | V20: ='3. Eligible Cost Breakdown'!AC16 -> 0 | X20: =_xlfn.AGGREGATE(9,7,D20,F20,H20,J20,L20,N20,P20,R20,T20,V20) -> 0
B21: PRICES | C21: Heat Pump Cost (£/kW) | D21: =D20/D17 -> #DIV/0! | F21: =F20/F17 -> #DIV/0! | H21: =H20/H17 -> #DIV/0! | J21: =J20/J17 -> #DIV/0! | L21: =L20/L17 -> #DIV/0! | N21: =N20/N17 -> #DIV/0! | P21: =P20/P17 -> #DIV/0! | R21: =R20/R17 -> #DIV/0! | T21: =T20/T17 -> #DIV/0! | V21: =V20/V17 -> #DIV/0! | X21: =_xlfn.AGGREGATE(1,7,D21,F21,H21,J21,L21,N21,P21,R21,T21,V21) -> #DIV/0! | Y21: ave
B22: PRICES | C22: Fabric Costs | D22: ='3. Eligible Cost Breakdown'!K20 -> 0 | F22: ='3. Eligible Cost Breakdown'!M20 -> 0 | H22: ='3. Eligible Cost Breakdown'!O20 -> 0 | J22: ='3. Eligible Cost Breakdown'!Q20 -> 0 | L22: ='3. Eligible Cost Breakdown'!S20 -> 0 | N22: ='3. Eligible Cost Breakdown'!U20 -> 0 | P22: ='3. Eligible Cost Breakdown'!W20 -> 0 | R22: ='3. Eligible Cost Breakdown'!Y20 -> 0 | T22: ='3. Eligible Cost Breakdown'!AA20 -> 0 | V22: ='3. Eligible Cost Breakdown'!AC20 -> 0 | X22: =_xlfn.AGGREGATE(9,7,D22,F22,H22,J22,L22,N22,P22,R22,T22,V22) -> 0
B23: PRICES | C23: Fabric Costs /KW | D23: =D22/D$17 -> #DIV/0! | F23: =F22/F$17 -> #DIV/0! | H23: =H22/H$17 -> #DIV/0! | J23: =J22/J$17 -> #DIV/0! | L23: =L22/L$17 -> #DIV/0! | N23: =N22/N$17 -> #DIV/0! | P23: =P22/P$17 -> #DIV/0! | R23: =R22/R$17 -> #DIV/0! | T23: =T22/T$17 -> #DIV/0! | V23: =V22/V$17 -> #DIV/0! | X23: =_xlfn.AGGREGATE(1,7,D23,F23,H23,J23,L23,N23,P23,R23,T23,V23) -> #DIV/0! | Y23: ave
B24: PRICES | C24: Enabling Costs | D24: ='3. Eligible Cost Breakdown'!K23 -> 0 | F24: ='3. Eligible Cost Breakdown'!M23 -> 0 | H24: ='3. Eligible Cost Breakdown'!O23 -> 0 | J24: ='3. Eligible Cost Breakdown'!Q23 -> 0 | L24: ='3. Eligible Cost Breakdown'!S23 -> 0 | N24: ='3. Eligible Cost Breakdown'!U23 -> 0 | P24: ='3. Eligible Cost Breakdown'!W23 -> 0 | R24: ='3. Eligible Cost Breakdown'!Y23 -> 0 | T24: ='3. Eligible Cost Breakdown'!AA23 -> 0 | V24: ='3. Eligible Cost Breakdown'!AC23 -> 0 | X24: =_xlfn.AGGREGATE(9,7,D24,F24,H24,J24,L24,N24,P24,R24,T24,V24) -> 0
B25: PRICES | C25: Enabling Costs /KW | D25: =D24/D$17 -> #DIV/0! | F25: =F24/F$17 -> #DIV/0! | H25: =H24/H$17 -> #DIV/0! | J25: =J24/J$17 -> #DIV/0! | L25: =L24/L$17 -> #DIV/0! | N25: =N24/N$17 -> #DIV/0! | P25: =P24/P$17 -> #DIV/0! | R25: =R24/R$17 -> #DIV/0! | T25: =T24/T$17 -> #DIV/0! | V25: =V24/V$17 -> #DIV/0! | X25: =_xlfn.AGGREGATE(1,7,D25,F25,H25,J25,L25,N25,P25,R25,T25,V25) -> #DIV/0! | Y25: ave
B26: PRICES | C26: Monitoring and Controls | D26: ='3. Eligible Cost Breakdown'!K26 -> 0 | F26: ='3. Eligible Cost Breakdown'!M26 -> 0 | H26: ='3. Eligible Cost Breakdown'!O26 -> 0 | J26: ='3. Eligible Cost Breakdown'!Q26 -> 0 | L26: ='3. Eligible Cost Breakdown'!S26 -> 0 | N26: ='3. Eligible Cost Breakdown'!U26 -> 0 | P26: ='3. Eligible Cost Breakdown'!W26 -> 0 | R26: ='3. Eligible Cost Breakdown'!Y26 -> 0 | T26: ='3. Eligible Cost Breakdown'!AA26 -> 0 | V26: ='3. Eligible Cost Breakdown'!AC26 -> 0 | X26: =_xlfn.AGGREGATE(9,7,D26,F26,H26,J26,L26,N26,P26,R26,T26,V26) -> 0
B27: PRICES | C27: MC Costs /KW | D27: =D26/D$17 -> #DIV/0! | F27: =F26/F$17 -> #DIV/0! | H27: =H26/H$17 -> #DIV/0! | J27: =J26/J$17 -> #DIV/0! | L27: =L26/L$17 -> #DIV/0! | N27: =N26/N$17 -> #DIV/0! | P27: =P26/P$17 -> #DIV/0! | R27: =R26/R$17 -> #DIV/0! | T27: =T26/T$17 -> #DIV/0! | V27: =V26/V$17 -> #DIV/0! | X27: =_xlfn.AGGREGATE(1,7,D27,F27,H27,J27,L27,N27,P27,R27,T27,V27) -> #DIV/0! | Y27: ave
B28: PRICES | C28: DNO Costs | D28: ='3. Eligible Cost Breakdown'!K29 -> 0 | F28: ='3. Eligible Cost Breakdown'!M29 -> 0 | H28: ='3. Eligible Cost Breakdown'!O29 -> 0 | J28: ='3. Eligible Cost Breakdown'!Q29 -> 0 | L28: ='3. Eligible Cost Breakdown'!S29 -> 0 | N28: ='3. Eligible Cost Breakdown'!U29 -> 0 | P28: ='3. Eligible Cost Breakdown'!W29 -> 0 | R28: ='3. Eligible Cost Breakdown'!Y29 -> 0 | T28: ='3. Eligible Cost Breakdown'!AA29 -> 0 | V28: ='3. Eligible Cost Breakdown'!AC29 -> 0 | X28: =_xlfn.AGGREGATE(9,7,D28,F28,H28,J28,L28,N28,P28,R28,T28,V28) -> 0
B29: PRICES | C29: DNO Costs per KW | D29: =D28/D$17 -> #DIV/0! | F29: =F28/F$17 -> #DIV/0! | H29: =H28/H$17 -> #DIV/0! | J29: =J28/J$17 -> #DIV/0! | L29: =L28/L$17 -> #DIV/0! | N29: =N28/N$17 -> #DIV/0! | P29: =P28/P$17 -> #DIV/0! | R29: =R28/R$17 -> #DIV/0! | T29: =T28/T$17 -> #DIV/0! | V29: =V28/V$17 -> #DIV/0! | X29: =_xlfn.AGGREGATE(1,7,D29,F29,H29,J29,L29,N29,P29,R29,T29,V29) -> #DIV/0! | Y29: ave
B30: PRICES | C30: Install Commissioning Costs | D30: ='3. Eligible Cost Breakdown'!K32 -> 0 | F30: ='3. Eligible Cost Breakdown'!M32 -> 0 | H30: ='3. Eligible Cost Breakdown'!O32 -> 0 | J30: ='3. Eligible Cost Breakdown'!Q32 -> 0 | L30: ='3. Eligible Cost Breakdown'!S32 -> 0 | N30: ='3. Eligible Cost Breakdown'!U32 -> 0 | P30: ='3. Eligible Cost Breakdown'!W32 -> 0 | R30: ='3. Eligible Cost Breakdown'!Y32 -> 0 | T30: ='3. Eligible Cost Breakdown'!AA32 -> 0 | V30: ='3. Eligible Cost Breakdown'!AC32 -> 0 | X30: =_xlfn.AGGREGATE(9,7,D30,F30,H30,J30,L30,N30,P30,R30,T30,V30) -> 0
B31: PRICES | C31: Install Commissioning Costs/KW | D31: =D30/D$17 -> #DIV/0! | F31: =F30/F$17 -> #DIV/0! | H31: =H30/H$17 -> #DIV/0! | J31: =J30/J$17 -> #DIV/0! | L31: =L30/L$17 -> #DIV/0! | N31: =N30/N$17 -> #DIV/0! | P31: =P30/P$17 -> #DIV/0! | R31: =R30/R$17 -> #DIV/0! | T31: =T30/T$17 -> #DIV/0! | V31: =V30/V$17 -> #DIV/0! | X31: =_xlfn.AGGREGATE(1,7,D31,F31,H31,J31,L31,N31,P31,R31,T31,V31) -> #DIV/0! | Y31: ave
B32: PRICES | C32: Total | D32: =SUM(D18,D20,D22,D24,D26,D28,D30) -> 0 | F32: =SUM(F18,F20,F22,F24,F26,F28,F30) -> 0 | H32: =SUM(H18,H20,H22,H24,H26,H28,H30) -> 0 | J32: =SUM(J18,J20,J22,J24,J26,J28,J30) -> 0 | L32: =SUM(L18,L20,L22,L24,L26,L28,L30) -> 0 | N32: =SUM(N18,N20,N22,N24,N26,N28,N30) -> 0 | P32: =SUM(P18,P20,P22,P24,P26,P28,P30) -> 0 | R32: =SUM(R18,R20,R22,R24,R26,R28,R30) -> 0 | T32: =SUM(T18,T20,T22,T24,T26,T28,T30) -> 0 | V32: =SUM(V18,V20,V22,V24,V26,V28,V30) -> 0 | X32: =_xlfn.AGGREGATE(9,7,D32,F32,H32,J32,L32,N32,P32,R32,T32,V32) -> 0
X33: =_xlfn.AGGREGATE(9,7,D33,F33,H33,J33,L33,N33,P33,R33,T33,V33) -> 0
B34: ENABLING | C34: Existing Heat Demand | D34: ='2. Project Details'!D94 -> 0 | F34: ='2. Project Details'!F94 -> 0 | H34: ='2. Project Details'!H94 -> 0 | J34: ='2. Project Details'!J94 -> 0 | L34: ='2. Project Details'!L94 -> 0 | N34: ='2. Project Details'!N94 -> 0 | P34: ='2. Project Details'!P94 -> 0 | R34: ='2. Project Details'!R94 -> 0 | T34: ='2. Project Details'!T94 -> 0 | V34: ='2. Project Details'!V94 -> 0 | X34: =_xlfn.AGGREGATE(9,7,D34,F34,H34,J34,L34,N34,P34,R34,T34,V34) -> 0
B35: ENABLING | C35: Post Enabling Measures reduced heat demand | D35: ='2. Project Details'!D140 -> 0 | F35: ='2. Project Details'!F140 -> 0 | H35: ='2. Project Details'!H140 -> 0 | J35: ='2. Project Details'!J140 -> 0 | L35: ='2. Project Details'!L140 -> 0 | N35: ='2. Project Details'!N140 -> 0 | P35: ='2. Project Details'!P140 -> 0 | R35: ='2. Project Details'!R140 -> 0 | T35: ='2. Project Details'!T140 -> 0 | V35: ='2. Project Details'!V140 -> 0 | X35: =_xlfn.AGGREGATE(9,7,D35,F35,H35,J35,L35,N35,P35,R35,T35,V35) -> 0
B36: ENABLING | C36: Cost of Enabling Measures | D36: ='3. Eligible Cost Breakdown'!K23 -> 0 | F36: ='3. Eligible Cost Breakdown'!M23 -> 0 | H36: ='3. Eligible Cost Breakdown'!O23 -> 0 | J36: ='3. Eligible Cost Breakdown'!Q23 -> 0 | L36: ='3. Eligible Cost Breakdown'!S23 -> 0 | N36: ='3. Eligible Cost Breakdown'!U23 -> 0 | P36: ='3. Eligible Cost Breakdown'!W23 -> 0 | R36: ='3. Eligible Cost Breakdown'!Y23 -> 0 | T36: ='3. Eligible Cost Breakdown'!AA23 -> 0 | V36: ='3. Eligible Cost Breakdown'!AC23 -> 0 | X36: =_xlfn.AGGREGATE(1,7,D36,F36,H36,J36,L36,N36,P36,R36,T36,V36) -> 0 | Y36: average
B37: ENABLING | C37: Cost per KWh decrease | D37: =IFERROR(D36/(D34-D35),"") | F37: =IFERROR(F36/(F34-F35),"") | H37: =IFERROR(H36/(H34-H35),"") | J37: =IFERROR(J36/(J34-J35),"") | L37: =IFERROR(L36/(L34-L35),"") | N37: =IFERROR(N36/(N34-N35),"") | P37: =IFERROR(P36/(P34-P35),"") | R37: =IFERROR(R36/(R34-R35),"") | T37: =IFERROR(T36/(T34-T35),"") | V37: =IFERROR(V36/(V34-V35),"") | X37: =_xlfn.AGGREGATE(1,7,D37,F37,H37,J37,L37,N37,P37,R37,T37,V37) -> #DIV/0! | Y37: average
B39: HEAT | C39: Main heat Source % service | D39: ='2. Project Details'!D223 | F39: ='2. Project Details'!F223 | H39: ='2. Project Details'!H223 | J39: ='2. Project Details'!J223 | L39: ='2. Project Details'!L223 | N39: ='2. Project Details'!N223 | P39: ='2. Project Details'!P223 | R39: ='2. Project Details'!R223 | T39: ='2. Project Details'!T223 | V39: ='2. Project Details'!V223
B40: HEAT | C40: Secondary Heat source % service | D40: ='2. Project Details'!D224 -> 0 | F40: ='2. Project Details'!F224 -> 0 | H40: ='2. Project Details'!H224 -> 0 | J40: ='2. Project Details'!J224 -> 0 | L40: ='2. Project Details'!L224 -> 0 | N40: ='2. Project Details'!N224 -> 0 | P40: ='2. Project Details'!P224 -> 0 | R40: ='2. Project Details'!R224 -> 0 | T40: ='2. Project Details'!T224 -> 0 | V40: ='2. Project Details'!V224 -> 0
B41: HEAT | C41: Further heat source % service | D41: ='2. Project Details'!D225 -> 0 | F41: ='2. Project Details'!F225 -> 0 | H41: ='2. Project Details'!H225 -> 0 | J41: ='2. Project Details'!J225 -> 0 | L41: ='2. Project Details'!L225 -> 0 | N41: ='2. Project Details'!N225 -> 0 | P41: ='2. Project Details'!P225 -> 0 | R41: ='2. Project Details'!R225 -> 0 | T41: ='2. Project Details'!T225 -> 0 | V41: ='2. Project Details'!V225 -> 0
B42: HEAT | C42: Proposed heat output (total) | D42: ='2. Project Details'!D219 -> 0 | F42: ='2. Project Details'!F168 -> 0 | H42: ='2. Project Details'!H168 -> 0 | J42: ='2. Project Details'!J168 -> 0 | L42: ='2. Project Details'!L168 -> 0 | N42: ='2. Project Details'!N168 -> 0 | P42: ='2. Project Details'!P168 -> 0 | R42: ='2. Project Details'!R168 -> 0 | T42: ='2. Project Details'!T168 -> 0 | V42: ='2. Project Details'!V168 -> 0 | X42: =_xlfn.AGGREGATE(9,7,D42,F42,H42,J42,L42,N42,P42,R42,T42,V42) -> 0
B43: HEAT | C43: % of 'reduced heat demand' | D43: ='2. Project Details'!D221 | F43: ='2. Project Details'!F221 | H43: ='2. Project Details'!H221 | J43: ='2. Project Details'!J221 | L43: ='2. Project Details'!L221 | N43: ='2. Project Details'!N221 | P43: ='2. Project Details'!P221 | R43: ='2. Project Details'!R221 | T43: ='2. Project Details'!T221 | V43: ='2. Project Details'!V221 | X43: =_xlfn.AGGREGATE(1,7,D43,F43,H43,J43,L43,N43,P43,R43,T43,V43) -> #DIV/0! | Y43: average
B44: HEAT | C44: heat demand/KW installed | D44: =D42/D17 -> #DIV/0! | E44: KWH/KW | F44: =F42/F17 -> #DIV/0! | G44: KWH/KW | H44: =H42/H17 -> #DIV/0! | I44: KWH/KW | J44: =J42/J17 -> #DIV/0! | K44: KWH/KW | L44: =L42/L17 -> #DIV/0! | M44: KWH/KW | N44: =N42/N17 -> #DIV/0! | O44: KWH/KW | P44: =P42/P17 -> #DIV/0! | Q44: KWH/KW | R44: =R42/R17 -> #DIV/0! | S44: KWH/KW | T44: =T42/T17 -> #DIV/0! | U44: KWH/KW | V44: =V42/V17 -> #DIV/0! | X44: =_xlfn.AGGREGATE(1,7,D44,F44,H44,J44,L44,N44,P44,R44,T44,V44) -> #DIV/0! | Y44: average
B45: HEAT | C45: FTE (% of year running to supply heat demand) | D45: =(D42/D17)/(365*24) -> #DIV/0! | F45: =(F42/F17)/(365*24) -> #DIV/0! | H45: =(H42/H17)/(365*24) -> #DIV/0! | J45: =(J42/J17)/(365*24) -> #DIV/0! | L45: =(L42/L17)/(365*24) -> #DIV/0! | N45: =(N42/N17)/(365*24) -> #DIV/0! | P45: =(P42/P17)/(365*24) -> #DIV/0! | R45: =(R42/R17)/(365*24) -> #DIV/0! | T45: =(T42/T17)/(365*24) -> #DIV/0! | V45: =(V42/V17)/(365*24) -> #DIV/0! | X45: =_xlfn.AGGREGATE(1,7,D45,F45,H45,J45,L45,N45,P45,R45,T45,V45) -> #DIV/0! | Y45: average
...

Sheet TechnicalDeskReview
A2: LCHG Application Review | D2: Scoring Guidelines
D3: 5 | E3: Excellent - evidence, confidence, efficient, value
A4: Applicant | B4: ='1. Applicant Details'!E48 -> 0 | D4: 4 | E4: Good -
A5: Ref | D5: 3 | E5: Average -
A6: Reviewed By | D6: 2 | E6: Poor -
A7: Date | D7: 1 | E7: Weak - unsupported claims or contrary facts between outputs wanted and design plans , concern about delivery/maturity to spec and to deadline, poor design efficiency, poor value for money, unnecessary complications or high risk
A9: Summary
A11: Ref | B11: Building Name | C11: Grant Value | D11: Not Eligible? | E11: Score | F11: Notes:
