Workbook
Name Slicer_hider: #N/A
Name Slicer_hider1: #N/A
Name Slicer_hider2: #N/A

Sheet Guidance Notes
L3: Version Control: v1.0 | O3: 46042
I6: Application Form
C10: Local Authority Low Carbon Heat Grant
C12: Please complete all section 1-6 as listed below:
C14: 1. Questions | H14: Within sections 1-6 the following colour coding applies:
C15: 2. Technical Details | H15: Blue cells | I15: = user input
C16: 3. Deliverability Details | H16: Green cells | I16: = automatically generated (calculated detail) - do NOT edit
C17: 4.Financial Detail | H17: Orange cells | I17: = automatically generated (check values) - do NOT edit
C18: 5.Risks
C19: 6. Summary & Declaration
C21: Please refer to Local Authority Low Carbon Heat Grant Guidance released alongside this form, for eligibility criteria and grant conditions.
C23: Important Notes
C25: This form can be filled in for up to 10 sites, should there be more sites to your application, please fill out another form for these.
C26: Funding will only be granted to applicants that can assure projects can be installed and commissioned by 31st March 2027.
C27: Applications must be supported by a sponsoring director, a signature will be required upon offer letters being provided.
C28: Note that works cannot start until a formal and signed grant award letter is received.
C30: Application Submissions
C32: Please send completed application forms to lowcarbonheat@energyservice.wales
C33: If you have any queries on the application process or the form itself, please use the address above.
C35: Data Sharing Disclaimer
... C44: enquiries@energyservice.wales

Sheet Lookups
B2: Please translate highlighted text | T2: Design & Planning | X2: Procurement and contracting | AD2: Operation
T3: Please indicate the project position on designs | U3: Please indicate the project position on planning permission | V3: Please indicate the project position on supplier costs | W3: Please indicate the project position on DNO upgrades / engagement | X3: Principal contractor: approach | Y3: Principal contractor: status | Z3: Equipment supply status | AA3: Install subcontractors status | AB3: DNO upgrade / grid connection status | AC3: Client Engineer: status | AD3: O&M contractor approach
B4: OK | C4: Manual input request | D4: Not all checkboxes checked | E4: Hide un-named buildings (CTRL + Click) | F4: Please select | G4: Please select | H4: Please select | I4: Please select | J4: Please select | K4: Please select | L4: Please select | M4: Please select | N4: Please select | O4: Please select | P4: Electricity | Q4: Date Dropdown | T4: Initial feasibility | U4: Planning unknown | V4: In contract - costs finalised based on design | W4: Not engaged | X4: Framework | Y4: Specification stage | Z4: N/A (Principal Contractor makes own equipment) | AA4: N/A (Principal Contractor supplies all tradespeople) | AB4: N/A - Not required | AC4: Not required | AD4: No O&M planned
B5: Drawdowns do not equal grant request | D5: Section incomplete | E5: Keep selected (CTRL + Click) | F5: Yes | G5: Pass | H5: Confirm | I5: Welsh | J5: Care Home | K5: Boilers | L5: Natural gas | M5: Retained as existing | N5: Retained as existing | O5: Heat pump - air source | P5: Biomass | Q5: 46137 | T5: Concept design - sizing, concept drawings | U5: Permitted development - deemed | V5: In contract - but final design and sub-supply cost uncertain | W5: DNO engaged, no works required | X5: Open market competition | Y5: Out to tender | Z5: Identified but supplier not engaged | AA5: Identified but not secured | AB5: Initial cost estimate only | AC5: Identified but not secured | AD5: Own current contractors
D6: Not all sections complete | F6: No | G6: Fail | H6: Cannot Confirm | I6: English | J6: Community Centre | K6: Direct-fired hot water heater | L6: LPG | M6: Zoning removed | N6: Heat thermal store removed | O6: Heat pump - ground source | P6: Biogas | Q6: 46167 | T6: Developed design - detailed feasibility and consideration of access / structural / planning / DNO | U6: Permitted development - confirmed with planning department | V6: Tender complete - preferred bidder costs used | W6: DNO upgrade works required - not yet planned | X6: Invite only competition | Y6: Preferred supplier | Z6: Identified, priced, & available | AA6: Identified, priced, & available | AB6: Firm costed quote | AC6: Identified, priced, & available | AD6: Principal contractor providing O&M also
G7: Clarifications Needed | J7: Depot | K7: Combined heat & power | L7: Kerosene | M7: Zoning control added / repaired / extended | N7: Heat thermal store added | O7: Heat pump - groundwater source | P7: District Heat | Q7: 46198 | T7: Technical design - full equipment specification and M&E drawings | U7: Planning application being developed (e.g. studies underway) | V7: Softmarket test quote based on a design | W7: DNO upgrade works required, and timeline agreed | X7: Direct award | Y7: Contract signed | Z7: Supply aggreement signed | AA7: Sub-contract signed | AB7: Contracted | AC7: Contract signed | AD7: Future procurement required
J8: Exhibition Venue | K8: Electric heater (direct for space heating) | L8: Gas oil | O8: Heat pump - water source | Q8: 46228 | T8: Final design agreed with Principal Contractor & Client Engineer | U8: Planning permission applied | V8: Feasibility study estimate of costs only | X8: Existing in contract contractors
J9: Historic | K9: Other | L9: Electricity | O9: Heat pump - dual staged - air then water | Q9: 46259 | U9: Planning permission obtained | V9: Internal estimate of costs only | X9: Existing Energy Performance Contract
J10: Leisure Centre (with pool) | O10: Heat pump - high-temp air source | Q10: 46290
J11: Leisure Centre (without pool) | O11: Electric boiler | Q11: 46320
J12: Library | O12: Direct electric heaters | Q12: 46351
J13: Offices | O13: Biomass | Q13: 46357
J14: Primary School | O14: Biogas | Q14: 46388
J15: Secondary School | O15: Connection to existing district heat network | Q15: 46419
J16: Secondary School with pool | Q16: 46447
J17: Other | Q17: 46478
B22: Word counts:
B23: 455
B24: 960
B25: 720
B26: 1833
B27: 480
B28: 667
B29: 84
B30: 1768
B31: =SUM(B23:B30) -> 6967

Sheet 1. Questions 
C2: 1. Questions
C7: 1.1 Project Questions
C9: Project Details
D11: Please provide information on:
D12: • Summary of overall programme
D13: • Summary of selected low carbon heat solution and why
D14: • Rationale for sites selected
D15: • Project development activity to date
D16: • Please provide unique or differeing information on a building by building basis as applicable
D18: • Alt+Enter for new lines • Alt+7 for bullet points (numeric keypad with NumLk on ONLY)
C20: Design
D22: Please provide information on:
D23: • Design approach, current design stage and maturity
D24: • How is design optimised for the site
D25: • Enabling and fabric measures to support a whole building approach
D26: • Design specification - including how will you avoid overheating or wasteful heating (e.g., area occupancy, zoning plans and controls)
D27: • Please provide unique or differeing information on a building by building basis as applicable
D29: • Alt+Enter for new lines • Alt+7 for bullet points
C31: Performance
D33: Please provide information on:
D34: • Operations and maintenance plans and contracted support
D35: • Performance monitoring and management
D36: • Metering data captured, availability and use
D37: • Performance Monitoring and Management Process
D39: • Alt+Enter for new lines • Alt+7 for bullet points
C41: Costs
D43: Please provide information on:
D45: • Your approach to ensure value for money
D46: • Procurement status and confidence in costs
D47: • Cost accuracy in reflection of design stage and supply chain engagement to date
D48: • Match funding sources and approval status
D49: • Your approach to contingency costs
D50: • If not all VAT cannot be recovered, and you are including this non-recoverable VAT in your project costs, please detail and explain
D52: • Alt+Enter for new lines • Alt+7 for bullet points
C54: Deliverability
D56: Please provide information (per building where appropriate) on:
D57: • Procurement and contracting - status and approach
D58: • Planning and DNO - status and approach
D59: • Deliverability critical team members
D60: • Key deliverability risks identified
...

Sheet 2. Technical Details
D2: 2. Technical Details
E3: Please list sites in your order of priority. | G3: Filter button to hide unused rows (i.e. un-named buildings) > >
D5: 2.1 Building details and existing heat provision
E7: Building details | M7: EXISTING - Main heat generation plant | T7: EXISTING - Secondary heat generation (optional) | AA7: EXISTING - Further heat generation (e.g., hot water production, kitchen use etc.) (optional) | AH7: Total of existing
A8: hider | D8: Building Name | E8: Building Address | F8: Building Postcode | G8: Type of building | H8: Gross internal floor area of building (m2) | I8: Confirm ownership or lease of building for at least 10 years | J8: Confirm part of the Public Sector Net Zero Reporting to Welsh Government | K8: Is the building in the vicinity of an existing or planned heat network? | L8: Part of a construction or major refurbishment project? If 'yes', ticked, detail in '1. Questions' | M8: Main heat source in building | N8: Fuel type | O8: Age of main equipment (years) | P8: Capacity installed (kW heat) | Q8: Energy use input (kWh/year) | R8: Estimated efficiency of existing heat generation (%) | S8: Estimated heat demand output (kWh/year) | T8: Secondary existing heat generation input required? | U8: Existing heat source | V8: Existing fuel type | W8: Capacity installed (kW heat) | X8: Energy use input (kWh/year) | Y8: Estimated efficiency of existing heat generation (%) | Z8: Estimated heat demand output (kWh/year) | AA8: Further existing heat generation input required? | AB8: Heat source | AC8: Fuel type | AD8: Capacity installed (kW heat) | AE8: Energy use input (kWh/year) | AF8: Estimated efficiency of heat generation (%) | AG8: Estimated heat demand output (kWh/year) | AH8: Total of heat demand (kWh per year) | AI8: Total installed capacity of heat generation (kW) | AJ8: Carbon Emissions (kgCO2e/year) | AK8: Lifetime Carbon Emissions (kgCO2e)
A9: =IF(D9="",Lookups!$E$4,Lookups!$E$5) -> Hide un-named buildings (CTRL + Click) | G9: Please select | I9: FALSE | J9: FALSE | K9: FALSE | L9: FALSE | T9: FALSE | AA9: FALSE | AH9: =SUM(S9,IF(Z9>0,Z9,0),IF(AG9>0,AG9,0)) -> 0 | AI9: =SUM(P9,W9,AD9) -> 0 | AJ9: =IFERROR(Q9*_xlfn.XLOOKUP(N9,Calculation_factors!$H$6:$H$13,Calculation_factors!$I$6:$I$13),)+IFERROR(X9*_xlfn.XLOOKUP(V9,Calculation_factors!$H$6:$H$13,Calculation_factors!$I$6:$I$13),0)+IFERROR(AE9*_xlfn.XLOOKUP(AC9,Calculation_factors!$H$6:$H$13,Calculation_factors!$I$6:$I$13),0) -> 0 | AK9: =IFERROR(Q9*_xlfn.XLOOKUP(N9,Calculation_factors!$E$6:$E$13,Calculation_factors!$F$6:$F$13),)+IFERROR(X9*_xlfn.XLOOKUP(V9,Calculation_factors!$E$6:$E$13,Calculation_factors!$F$6:$F$13),0)+IFERROR(AE9*_xlfn.XLOOKUP(AC9,Calculation_factors!$E$6:$E$13,Calculation_factors!$F$6:$F$13),0) -> 0 | AL9: Scroll down for the next section
A10: =IF(D10="",Lookups!$E$4,Lookups!$E$5) -> Hide un-named buildings (CTRL + Click) | G10: Please select | I10: FALSE | J10: FALSE | K10: FALSE | L10: FALSE | T10: FALSE | AA10: FALSE | AH10: =SUM(S10,IF(Z10>0,Z10,0),IF(AG10>0,AG10,0)) -> 0 | AI10: =SUM(P10,W10,AD10) -> 0 | AJ10: =IFERROR(Q10*_xlfn.XLOOKUP(N10,Calculation_factors!$H$6:$H$13,Calculation_factors!$I$6:$I$13),)+IFERROR(X10*_xlfn.XLOOKUP(V10,Calculation_factors!$H$6:$H$13,Calculation_factors!$I$6:$I$13),0)+IFERROR(AE10*_xlfn.XLOOKUP(AC10,Calculation_factors!$H$6:$H$13,Calculation_factors!$I$6:$I$13),0) -> 0 | AK10: =IFERROR(Q10*_xlfn.XLOOKUP(N10,Calculation_factors!$E$6:$E$13,Calculation_factors!$F$6:$F$13),)+IFERROR(X10*_xlfn.XLOOKUP(V10,Calculation_factors!$E$6:$E$13,Calculation_factors!$F$6:$F$13),0)+IFERROR(AE10*_xlfn.XLOOKUP(AC10,Calculation_factors!$E$6:$E$13,Calculation_factors!$F$6:$F$13),0) -> 0 | AL10: ↓
A11: =IF(D11="",Lookups!$E$4,Lookups!$E$5) -> Hide un-named buildings (CTRL + Click) | G11: Please select | I11: FALSE | J11: FALSE | K11: FALSE | L11: FALSE | T11: FALSE | AA11: FALSE | AH11: =SUM(S11,IF(Z11>0,Z11,0),IF(AG11>0,AG11,0)) -> 0 | AI11: =SUM(P11,W11,AD11) -> 0 | AJ11: =IFERROR(Q11*_xlfn.XLOOKUP(N11,Calculation_factors!$H$6:$H$13,Calculation_factors!$I$6:$I$13),)+IFERROR(X11*_xlfn.XLOOKUP(V11,Calculation_factors!$H$6:$H$13,Calculation_factors!$I$6:$I$13),0)+IFERROR(AE11*_xlfn.XLOOKUP(AC11,Calculation_factors!$H$6:$H$13,Calculation_factors!$I$6:$I$13),0) -> 0 | AK11: =IFERROR(Q11*_xlfn.XLOOKUP(N11,Calculation_factors!$E$6:$E$13,Calculation_factors!$F$6:$F$13),)+IFERROR(X11*_xlfn.XLOOKUP(V11,Calculation_factors!$E$6:$E$13,Calculation_factors!$F$6:$F$13),0)+IFERROR(AE11*_xlfn.XLOOKUP(AC11,Calculation_factors!$E$6:$E$13,Calculation_factors!$F$6:$F$13),0) -> 0 | AL11: ↙
A12: =IF(D12="",Lookups!$E$4,Lookups!$E$5) -> Hide un-named buildings (CTRL + Click) | G12: Please select | I12: FALSE | J12: FALSE | K12: FALSE | L12: FALSE | T12: FALSE | AA12: FALSE | AH12: =SUM(S12,IF(Z12>0,Z12,0),IF(AG12>0,AG12,0)) -> 0 | AI12: =SUM(P12,W12,AD12) -> 0 | AJ12: =IFERROR(Q12*_xlfn.XLOOKUP(N12,Calculation_factors!$H$6:$H$13,Calculation_factors!$I$6:$I$13),)+IFERROR(X12*_xlfn.XLOOKUP(V12,Calculation_factors!$H$6:$H$13,Calculation_factors!$I$6:$I$13),0)+IFERROR(AE12*_xlfn.XLOOKUP(AC12,Calculation_factors!$H$6:$H$13,Calculation_factors!$I$6:$I$13),0) -> 0 | AK12: =IFERROR(Q12*_xlfn.XLOOKUP(N12,Calculation_factors!$E$6:$E$13,Calculation_factors!$F$6:$F$13),)+IFERROR(X12*_xlfn.XLOOKUP(V12,Calculation_factors!$E$6:$E$13,Calculation_factors!$F$6:$F$13),0)+IFERROR(AE12*_xlfn.XLOOKUP(AC12,Calculation_factors!$E$6:$E$13,Calculation_factors!$F$6:$F$13),0) -> 0
A13: =IF(D13="",Lookups!$E$4,Lookups!$E$5) -> Hide un-named buildings (CTRL + Click) | G13: Please select | I13: FALSE | J13: FALSE | K13: FALSE | L13: FALSE | T13: FALSE | AA13: FALSE | AH13: =SUM(S13,IF(Z13>0,Z13,0),IF(AG13>0,AG13,0)) -> 0 | AI13: =SUM(P13,W13,AD13) -> 0 | AJ13: =IFERROR(Q13*_xlfn.XLOOKUP(N13,Calculation_factors!$H$6:$H$13,Calculation_factors!$I$6:$I$13),)+IFERROR(X13*_xlfn.XLOOKUP(V13,Calculation_factors!$H$6:$H$13,Calculation_factors!$I$6:$I$13),0)+IFERROR(AE13*_xlfn.XLOOKUP(AC13,Calculation_factors!$H$6:$H$13,Calculation_factors!$I$6:$I$13),0) -> 0 | AK13: =IFERROR(Q13*_xlfn.XLOOKUP(N13,Calculation_factors!$E$6:$E$13,Calculation_factors!$F$6:$F$13),)+IFERROR(X13*_xlfn.XLOOKUP(V13,Calculation_factors!$E$6:$E$13,Calculation_factors!$F$6:$F$13),0)+IFERROR(AE13*_xlfn.XLOOKUP(AC13,Calculation_factors!$E$6:$E$13,Calculation_factors!$F$6:$F$13),0) -> 0
A14: =IF(D14="",Lookups!$E$4,Lookups!$E$5) -> Hide un-named buildings (CTRL + Click) | G14: Please select | I14: FALSE | J14: FALSE | K14: FALSE | L14: FALSE | T14: FALSE | AA14: FALSE | AH14: =SUM(S14,IF(Z14>0,Z14,0),IF(AG14>0,AG14,0)) -> 0 | AI14: =SUM(P14,W14,AD14) -> 0 | AJ14: =IFERROR(Q14*_xlfn.XLOOKUP(N14,Calculation_factors!$H$6:$H$13,Calculation_factors!$I$6:$I$13),)+IFERROR(X14*_xlfn.XLOOKUP(V14,Calculation_factors!$H$6:$H$13,Calculation_factors!$I$6:$I$13),0)+IFERROR(AE14*_xlfn.XLOOKUP(AC14,Calculation_factors!$H$6:$H$13,Calculation_factors!$I$6:$I$13),0) -> 0 | AK14: =IFERROR(Q14*_xlfn.XLOOKUP(N14,Calculation_factors!$E$6:$E$13,Calculation_factors!$F$6:$F$13),)+IFERROR(X14*_xlfn.XLOOKUP(V14,Calculation_factors!$E$6:$E$13,Calculation_factors!$F$6:$F$13),0)+IFERROR(AE14*_xlfn.XLOOKUP(AC14,Calculation_factors!$E$6:$E$13,Calculation_factors!$F$6:$F$13),0) -> 0
A15: =IF(D15="",Lookups!$E$4,Lookups!$E$5) -> Hide un-named buildings (CTRL + Click) | G15: Please select | I15: FALSE | J15: FALSE | K15: FALSE | L15: FALSE | T15: FALSE | AA15: FALSE | AH15: =SUM(S15,IF(Z15>0,Z15,0),IF(AG15>0,AG15,0)) -> 0 | AI15: =SUM(P15,W15,AD15) -> 0 | AJ15: =IFERROR(Q15*_xlfn.XLOOKUP(N15,Calculation_factors!$H$6:$H$13,Calculation_factors!$I$6:$I$13),)+IFERROR(X15*_xlfn.XLOOKUP(V15,Calculation_factors!$H$6:$H$13,Calculation_factors!$I$6:$I$13),0)+IFERROR(AE15*_xlfn.XLOOKUP(AC15,Calculation_factors!$H$6:$H$13,Calculation_factors!$I$6:$I$13),0) -> 0 | AK15: =IFERROR(Q15*_xlfn.XLOOKUP(N15,Calculation_factors!$E$6:$E$13,Calculation_factors!$F$6:$F$13),)+IFERROR(X15*_xlfn.XLOOKUP(V15,Calculation_factors!$E$6:$E$13,Calculation_factors!$F$6:$F$13),0)+IFERROR(AE15*_xlfn.XLOOKUP(AC15,Calculation_factors!$E$6:$E$13,Calculation_factors!$F$6:$F$13),0) -> 0
A16: =IF(D16="",Lookups!$E$4,Lookups!$E$5) -> Hide un-named buildings (CTRL + Click) | G16: Please select | I16: FALSE | J16: FALSE | K16: FALSE | L16: FALSE | T16: FALSE | AA16: FALSE | AH16: =SUM(S16,IF(Z16>0,Z16,0),IF(AG16>0,AG16,0)) -> 0 | AI16: =SUM(P16,W16,AD16) -> 0 | AJ16: =IFERROR(Q16*_xlfn.XLOOKUP(N16,Calculation_factors!$H$6:$H$13,Calculation_factors!$I$6:$I$13),)+IFERROR(X16*_xlfn.XLOOKUP(V16,Calculation_factors!$H$6:$H$13,Calculation_factors!$I$6:$I$13),0)+IFERROR(AE16*_xlfn.XLOOKUP(AC16,Calculation_factors!$H$6:$H$13,Calculation_factors!$I$6:$I$13),0) -> 0 | AK16: =IFERROR(Q16*_xlfn.XLOOKUP(N16,Calculation_factors!$E$6:$E$13,Calculation_factors!$F$6:$F$13),)+IFERROR(X16*_xlfn.XLOOKUP(V16,Calculation_factors!$E$6:$E$13,Calculation_factors!$F$6:$F$13),0)+IFERROR(AE16*_xlfn.XLOOKUP(AC16,Calculation_factors!$E$6:$E$13,Calculation_factors!$F$6:$F$13),0) -> 0
A17: =IF(D17="",Lookups!$E$4,Lookups!$E$5) -> Hide un-named buildings (CTRL + Click) | G17: Please select | I17: FALSE | J17: FALSE | K17: FALSE | L17: FALSE | T17: FALSE | AA17: FALSE | AH17: =SUM(S17,IF(Z17>0,Z17,0),IF(AG17>0,AG17,0)) -> 0 | AI17: =SUM(P17,W17,AD17) -> 0 | AJ17: =IFERROR(Q17*_xlfn.XLOOKUP(N17,Calculation_factors!$H$6:$H$13,Calculation_factors!$I$6:$I$13),)+IFERROR(X17*_xlfn.XLOOKUP(V17,Calculation_factors!$H$6:$H$13,Calculation_factors!$I$6:$I$13),0)+IFERROR(AE17*_xlfn.XLOOKUP(AC17,Calculation_factors!$H$6:$H$13,Calculation_factors!$I$6:$I$13),0) -> 0 | AK17: =IFERROR(Q17*_xlfn.XLOOKUP(N17,Calculation_factors!$E$6:$E$13,Calculation_factors!$F$6:$F$13),)+IFERROR(X17*_xlfn.XLOOKUP(V17,Calculation_factors!$E$6:$E$13,Calculation_factors!$F$6:$F$13),0)+IFERROR(AE17*_xlfn.XLOOKUP(AC17,Calculation_factors!$E$6:$E$13,Calculation_factors!$F$6:$F$13),0) -> 0
A18: =IF(D18="",Lookups!$E$4,Lookups!$E$5) -> Hide un-named buildings (CTRL + Click) | G18: Please select | I18: FALSE | J18: FALSE | K18: FALSE | L18: FALSE | T18: FALSE | AA18: FALSE | AH18: =SUM(S18,IF(Z18>0,Z18,0),IF(AG18>0,AG18,0)) -> 0 | AI18: =SUM(P18,W18,AD18) -> 0 | AJ18: =IFERROR(Q18*_xlfn.XLOOKUP(N18,Calculation_factors!$H$6:$H$13,Calculation_factors!$I$6:$I$13),)+IFERROR(X18*_xlfn.XLOOKUP(V18,Calculation_factors!$H$6:$H$13,Calculation_factors!$I$6:$I$13),0)+IFERROR(AE18*_xlfn.XLOOKUP(AC18,Calculation_factors!$H$6:$H$13,Calculation_factors!$I$6:$I$13),0) -> 0 | AK18: =IFERROR(Q18*_xlfn.XLOOKUP(N18,Calculation_factors!$E$6:$E$13,Calculation_factors!$F$6:$F$13),)+IFERROR(X18*_xlfn.XLOOKUP(V18,Calculation_factors!$E$6:$E$13,Calculation_factors!$F$6:$F$13),0)+IFERROR(AE18*_xlfn.XLOOKUP(AC18,Calculation_factors!$E$6:$E$13,Calculation_factors!$F$6:$F$13),0) -> 0
A19: Keep selected (Cntrl + click)
A20: Keep selected (Cntrl + click)
A21: Keep selected (Cntrl + click) | D21: 2.2 Design temperatures, enabling measures, controls, and fabric upgrades
A22: Keep selected (Cntrl + click)
A23: Keep selected (Cntrl + click) | E23: Flow temperatures | I23: Enabling measures - heat emitters, heat infrastructure, and controls | Q23: Enabling measures - fabric improvement | W23: Summary Totals
A24: Keep selected (Cntrl + click) | D24: Building Name | E24: Existing space heating flow temperature (oC) | F24: Existing domestic hot water temperature (oC) | G24: Proposed space heating flow temperature (oC) | H24: Proposed domestic hot water temperature (oC) | I24: Are you replacing radiators? | J24: Are you replacing air handling unit (AHU) heating coils? | K24: Are you upgrading the heating circuit pipework? | L24: Design approach for heat zoning controls? | M24: Design approach for heat storage ? | N24: Are building management system (BMS) upgrades included in the project? | O24: Is weather compensation control included in the project? | P24: Heat savings from enabling / control measures? (kWh/year) Insert negative if expecting a increase in heat | Q24: Are you installing loft insulation? | R24: Are you installing cavity wall insulation (where suitable)? | S24: Are you installing external cladding insulation (where suitable)? | T24: Are you draught proofing windows/doors? | U24: Are you replacing windows as part of the project | V24: Expected heat savings from fabric measures? (kWh/year) | W24: Total heat savings enabling measures (kWh/year) | X24: Total heat to be served by proposed low carbon heat system
A25: =IF(D25="",Lookups!$E$4,Lookups!$E$5) -> Hide un-named buildings (CTRL + Click) | D25: =IF(D9<>"",D9,"") | I25: FALSE | J25: FALSE | K25: FALSE | L25: Please select | M25: Please select | N25: FALSE | O25: FALSE | Q25: FALSE | R25: FALSE | S25: FALSE | T25: FALSE | U25: FALSE | W25: =P25+V25 -> 0 | X25: =AH9-W25 -> 0 | Y25: Scroll down for the next section
A26: =IF(D26="",Lookups!$E$4,Lookups!$E$5) -> Hide un-named buildings (CTRL + Click) | D26: =IF(D10<>"",D10,"") | I26: FALSE | J26: FALSE | K26: FALSE | L26: Please select | M26: Please select | N26: FALSE | O26: FALSE | Q26: FALSE | R26: FALSE | S26: FALSE | T26: FALSE | U26: FALSE | W26: =P26+V26 -> 0 | X26: =AH10-W26 -> 0 | Y26: ↓
A27: =IF(D27="",Lookups!$E$4,Lookups!$E$5) -> Hide un-named buildings (CTRL + Click) | D27: =IF(D11<>"",D11,"") | I27: FALSE | J27: FALSE | K27: FALSE | L27: Please select | M27: Please select | N27: FALSE | O27: FALSE | Q27: FALSE | R27: FALSE | S27: FALSE | T27: FALSE | U27: FALSE | W27: =P27+V27 -> 0 | X27: =AH11-W27 -> 0 | Y27: ↙
A28: =IF(D28="",Lookups!$E$4,Lookups!$E$5) -> Hide un-named buildings (CTRL + Click) | D28: =IF(D12<>"",D12,"") | I28: FALSE | J28: FALSE | K28: FALSE | L28: Please select | M28: Please select | N28: FALSE | O28: FALSE | Q28: FALSE | R28: FALSE | S28: FALSE | T28: FALSE | U28: FALSE | W28: =P28+V28 -> 0 | X28: =AH12-W28 -> 0
A29: =IF(D29="",Lookups!$E$4,Lookups!$E$5) -> Hide un-named buildings (CTRL + Click) | D29: =IF(D13<>"",D13,"") | I29: FALSE | J29: FALSE | K29: FALSE | L29: Please select | M29: Please select | N29: FALSE | O29: FALSE | Q29: FALSE | R29: FALSE | S29: FALSE | T29: FALSE | U29: FALSE | W29: =P29+V29 -> 0 | X29: =AH13-W29 -> 0
A30: =IF(D30="",Lookups!$E$4,Lookups!$E$5) -> Hide un-named buildings (CTRL + Click) | D30: =IF(D14<>"",D14,"") | I30: FALSE | J30: FALSE | K30: FALSE | L30: Please select | M30: Please select | N30: FALSE | O30: FALSE | Q30: FALSE | R30: FALSE | S30: FALSE | T30: FALSE | U30: FALSE | W30: =P30+V30 -> 0 | X30: =AH14-W30 -> 0
A31: =IF(D31="",Lookups!$E$4,Lookups!$E$5) -> Hide un-named buildings (CTRL + Click) | D31: =IF(D15<>"",D15,"") | I31: FALSE | J31: FALSE | K31: FALSE | L31: Please select | M31: Please select | N31: FALSE | O31: FALSE | Q31: FALSE | R31: FALSE | S31: FALSE | T31: FALSE | U31: FALSE | W31: =P31+V31 -> 0 | X31: =AH15-W31 -> 0
A32: =IF(D32="",Lookups!$E$4,Lookups!$E$5) -> Hide un-named buildings (CTRL + Click) | D32: =IF(D16<>"",D16,"") | I32: FALSE | J32: FALSE | K32: FALSE | L32: Please select | M32: Please select | N32: FALSE | O32: FALSE | Q32: FALSE | R32: FALSE | S32: FALSE | T32: FALSE | U32: FALSE | W32: =P32+V32 -> 0 | X32: =AH16-W32 -> 0
A33: =IF(D33="",Lookups!$E$4,Lookups!$E$5) -> Hide un-named buildings (CTRL + Click) | D33: =IF(D17<>"",D17,"") | I33: FALSE | J33: FALSE | K33: FALSE | L33: Please select | M33: Please select | N33: FALSE | O33: FALSE | Q33: FALSE | R33: FALSE | S33: FALSE | T33: FALSE | U33: FALSE | W33: =P33+V33 -> 0 | X33: =AH17-W33 -> 0
A34: =IF(D34="",Lookups!$E$4,Lookups!$E$5) -> Hide un-named buildings (CTRL + Click) | D34: =IF(D18<>"",D18,"") | I34: FALSE | J34: FALSE | K34: FALSE | L34: Please select | M34: Please select | N34: FALSE | O34: FALSE | Q34: FALSE | R34: FALSE | S34: FALSE | T34: FALSE | U34: FALSE | W34: =P34+V34 -> 0 | X34: =AH18-W34 -> 0
A35: Keep selected (Cntrl + click)
A36: Keep selected (Cntrl + click) | D36: 2.3 Proposed low carbon heat solution
A37: Keep selected (Cntrl + click)
A38: Keep selected (Cntrl + click) | E38: PROPOSED - Main low carbon heat generation | K38: PROPOSED - Secondary heat generation (if required) | R38: PROPOSED - Further heat generation (e.g., local point of use, kitchen use etc.) (if required) | Y38: Total Proposed | AD38: Metrics & Checks
A39: Keep selected (Cntrl + click) | D39: Building Name | E39: Primary low carbon heat generation technology type | F39: Fuel Type | G39: Capacity installed (kW heat) | H39: Energy use input (kWh/year) | I39: Heat output (kWh/year) | J39: Expected Seasonal Coefficient of Performance (efficiency) | K39: Secondary proposed low carbon heat generation input required? | L39: Heat generation technology type | M39: Fuel Type | N39: Capacity installed (kW heat) | O39: Energy use input (kWh/year) | P39: Heat output (kWh/year) | Q39: Expected Seasonal Coefficient of Performance / Efficiency | R39: Further proposed low carbon heat generation input required? | S39: Heat generation technology type | T39: Fuel Type | U39: Capacity installed (kW heat) | V39: Energy use input (kWh/year) | W39: Heat output (kWh/year) | X39: Expected Seasonal Coefficient of Performance / Efficiency | Y39: Summary of heat production (kWh per year) | Z39: Installed capacity of heat generation (kW) | AA39: Carbon Emissions (kgCO2e/year) | AB39: Lifetime Carbon Emissions (kg CO2e) | AD39: Percentage of proposed heat production compared to existing heat demand minus enabling/fabric savings (kWh/year) | AE39: Percentage of Proposed heat capacity compared to existing heat capacity (kW) | AF39: Carbon Emissions (kgCO2e/year) [reduction] | AG39: Lifetime Carbon Emissions (kgCO2e) [reduction] | AH39: Percentage of proposed heat served by main heat generation (%) | AI39: Percentage of proposed heat served by secondary heat generation (%) | AJ39: Percentage of proposed heat served by further heat generation (%) | AK39: CO2e Emissions per kWh heat (gCO2e/kWh) | AL39: £ CAPEX per CO2 emissions saved (£/tCO2e) | AM39: Weighted average SCOP | AN39: Proposed heat demand served per floor area (kWh heat / m2) | AO39: Proposed installed capacity per floor area (kW / m2)
A40: =IF(D40="",Lookups!$E$4,Lookups!$E$5) -> Hide un-named buildings (CTRL + Click) | D40: =IF(D9<>"",D9,"") | J40: =IFERROR(I40/H40,"") | K40: FALSE | Q40: =IFERROR(P40/O40,"") | R40: FALSE | X40: =IFERROR(W40/V40,"") | Y40: =SUM(I40,IF(P40>0,P40,0),IF(W40>0,W40,0)) -> 0 | Z40: =SUM(G40,N40,U40) -> 0 | AA40: =IFERROR(H40*_xlfn.XLOOKUP(F40,Calculation_factors!$H$6:$H$13,Calculation_factors!$I$6:$I$13),)+IFERROR(O40*_xlfn.XLOOKUP(M40,Calculation_factors!$H$6:$H$13,Calculation_factors!$I$6:$I$13),)+IFERROR(V40*_xlfn.XLOOKUP(T40,Calculation_factors!$H$6:$H$13,Calculation_factors!$I$6:$I$13),) -> 0 | AB40: =IFERROR(H40*_xlfn.XLOOKUP(F40,Calculation_factors!$E$6:$E$13,Calculation_factors!$F$6:$F$13),0)+IFERROR(O40*_xlfn.XLOOKUP(M40,Calculation_factors!$E$6:$E$13,Calculation_factors!$F$6:$F$13),)+IFERROR(V40*_xlfn.XLOOKUP(T40,Calculation_factors!$E$6:$E$13,Calculation_factors!$F$6:$F$13),) -> 0 | AD40: =IFERROR(Y40/X25,"") | AE40: =IFERROR(Z40/AI9,"") | AF40: =IFERROR(AJ9-AA40,"") -> 0 | AG40: =IFERROR(AK9-AB40,"") -> 0 | AH40: =IFERROR(I40/Y40,0) -> 0 | AI40: =IFERROR(P40/Y40,0) -> 0 | AJ40: =IFERROR(W40/Y40,0) -> 0 | AK40: =IFERROR(AA40*1000/Y40,"") | AL40: =IFERROR('4. Financial Detail'!L9/(AG40/1000),"") | AM40: =AH40*IF(J40="",0,J40) + AI40*IF(Q40="",0,Q40) + AJ40*IF(X40="",0,X40) -> 0 | AN40: =IFERROR(Y40/H9,"") | AO40: =IFERROR(Z40/H9,"")
A41: =IF(D41="",Lookups!$E$4,Lookups!$E$5) -> Hide un-named buildings (CTRL + Click) | D41: =IF(D10<>"",D10,"") | J41: =IFERROR(I41/H41,"") | K41: FALSE | Q41: =IFERROR(P41/O41,"") | R41: FALSE | X41: =IFERROR(W41/V41,"") | Y41: =SUM(I41,IF(P41>0,P41,0),IF(W41>0,W41,0)) -> 0 | Z41: =SUM(G41,N41,U41) -> 0 | AA41: =IFERROR(H41*_xlfn.XLOOKUP(F41,Calculation_factors!$H$6:$H$13,Calculation_factors!$I$6:$I$13),)+IFERROR(O41*_xlfn.XLOOKUP(M41,Calculation_factors!$H$6:$H$13,Calculation_factors!$I$6:$I$13),)+IFERROR(V41*_xlfn.XLOOKUP(T41,Calculation_factors!$H$6:$H$13,Calculation_factors!$I$6:$I$13),) -> 0 | AB41: =IFERROR(H41*_xlfn.XLOOKUP(F41,Calculation_factors!$E$6:$E$13,Calculation_factors!$F$6:$F$13),0)+IFERROR(O41*_xlfn.XLOOKUP(M41,Calculation_factors!$E$6:$E$13,Calculation_factors!$F$6:$F$13),)+IFERROR(V41*_xlfn.XLOOKUP(T41,Calculation_factors!$E$6:$E$13,Calculation_factors!$F$6:$F$13),) -> 0 | AD41: =IFERROR(Y41/X26,"") | AE41: =IFERROR(Z41/AI10,"") | AF41: =IFERROR(AJ10-AA41,"") -> 0 | AG41: =IFERROR(AK10-AB41,"") -> 0 | AH41: =IFERROR(I41/Y41,0) -> 0 | AI41: =IFERROR(P41/Y41,0) -> 0 | AJ41: =IFERROR(W41/Y41,0) -> 0 | AK41: =IFERROR(AA41*1000/Y41,"") | AL41: =IFERROR('4. Financial Detail'!L10/(AG41/1000),"") | AM41: =AH41*IF(J41="",0,J41) + AI41*IF(Q41="",0,Q41) + AJ41*IF(X41="",0,X41) -> 0 | AN41: =IFERROR(Y41/H10,"") | AO41: =IFERROR(Z41/H10,"")
A42: =IF(D42="",Lookups!$E$4,Lookups!$E$5) -> Hide un-named buildings (CTRL + Click) | D42: =IF(D11<>"",D11,"") | J42: =IFERROR(I42/H42,"") | K42: FALSE | Q42: =IFERROR(P42/O42,"") | R42: FALSE | X42: =IFERROR(W42/V42,"") | Y42: =SUM(I42,IF(P42>0,P42,0),IF(W42>0,W42,0)) -> 0 | Z42: =SUM(G42,N42,U42) -> 0 | AA42: =IFERROR(H42*_xlfn.XLOOKUP(F42,Calculation_factors!$H$6:$H$13,Calculation_factors!$I$6:$I$13),)+IFERROR(O42*_xlfn.XLOOKUP(M42,Calculation_factors!$H$6:$H$13,Calculation_factors!$I$6:$I$13),)+IFERROR(V42*_xlfn.XLOOKUP(T42,Calculation_factors!$H$6:$H$13,Calculation_factors!$I$6:$I$13),) -> 0 | AB42: =IFERROR(H42*_xlfn.XLOOKUP(F42,Calculation_factors!$E$6:$E$13,Calculation_factors!$F$6:$F$13),0)+IFERROR(O42*_xlfn.XLOOKUP(M42,Calculation_factors!$E$6:$E$13,Calculation_factors!$F$6:$F$13),)+IFERROR(V42*_xlfn.XLOOKUP(T42,Calculation_factors!$E$6:$E$13,Calculation_factors!$F$6:$F$13),) -> 0 | AD42: =IFERROR(Y42/X27,"") | AE42: =IFERROR(Z42/AI11,"") | AF42: =IFERROR(AJ11-AA42,"") -> 0 | AG42: =IFERROR(AK11-AB42,"") -> 0 | AH42: =IFERROR(I42/Y42,0) -> 0 | AI42: =IFERROR(P42/Y42,0) -> 0 | AJ42: =IFERROR(W42/Y42,0) -> 0 | AK42: =IFERROR(AA42*1000/Y42,"") | AL42: =IFERROR('4. Financial Detail'!L11/(AG42/1000),"") | AM42: =AH42*IF(J42="",0,J42) + AI42*IF(Q42="",0,Q42) + AJ42*IF(X42="",0,X42) -> 0 | AN42: =IFERROR(Y42/H11,"") | AO42: =IFERROR(Z42/H11,"")
A43: =IF(D43="",Lookups!$E$4,Lookups!$E$5) -> Hide un-named buildings (CTRL + Click) | D43: =IF(D12<>"",D12,"") | J43: =IFERROR(I43/H43,"") | K43: FALSE | Q43: =IFERROR(P43/O43,"") | R43: FALSE | X43: =IFERROR(W43/V43,"") | Y43: =SUM(I43,IF(P43>0,P43,0),IF(W43>0,W43,0)) -> 0 | Z43: =SUM(G43,N43,U43) -> 0 | AA43: =IFERROR(H43*_xlfn.XLOOKUP(F43,Calculation_factors!$H$6:$H$13,Calculation_factors!$I$6:$I$13),)+IFERROR(O43*_xlfn.XLOOKUP(M43,Calculation_factors!$H$6:$H$13,Calculation_factors!$I$6:$I$13),)+IFERROR(V43*_xlfn.XLOOKUP(T43,Calculation_factors!$H$6:$H$13,Calculation_factors!$I$6:$I$13),) -> 0 | AB43: =IFERROR(H43*_xlfn.XLOOKUP(F43,Calculation_factors!$E$6:$E$13,Calculation_factors!$F$6:$F$13),0)+IFERROR(O43*_xlfn.XLOOKUP(M43,Calculation_factors!$E$6:$E$13,Calculation_factors!$F$6:$F$13),)+IFERROR(V43*_xlfn.XLOOKUP(T43,Calculation_factors!$E$6:$E$13,Calculation_factors!$F$6:$F$13),) -> 0 | AD43: =IFERROR(Y43/X28,"") | AE43: =IFERROR(Z43/AI12,"") | AF43: =IFERROR(AJ12-AA43,"") -> 0 | AG43: =IFERROR(AK12-AB43,"") -> 0 | AH43: =IFERROR(I43/Y43,0) -> 0 | AI43: =IFERROR(P43/Y43,0) -> 0 | AJ43: =IFERROR(W43/Y43,0) -> 0 | AK43: =IFERROR(AA43*1000/Y43,"") | AL43: =IFERROR('4. Financial Detail'!L12/(AG43/1000),"") | AM43: =AH43*IF(J43="",0,J43) + AI43*IF(Q43="",0,Q43) + AJ43*IF(X43="",0,X43) -> 0 | AN43: =IFERROR(Y43/H12,"") | AO43: =IFERROR(Z43/H12,"")
...

Sheet 3. Deliverability Details
D2: 3. Deliverability Details
F3: Filter button to hide unused rows (i.e. un-named buildings) > >
D5: 3.1 Design, planning, contracting and operational details
E7: Design & Planning | I7: Procurement and contracting | O7: Operation & performance
A8: hider | D8: Building Name | E8: Please indicate the project position on designs | F8: Please indicate the project position on planning permission | G8: Please indicate the project position on supplier costs | H8: Please indicate the project position on DNO upgrades / engagement | I8: Principal contractor: approach | J8: Principal contractor: status | K8: Equipment supply status | L8: Install subcontractors status | M8: DNO upgrade / grid connection status | N8: Client Engineer: status | O8: O&M contractor approach | P8: Performance Management Plan in place? | Q8: Performance management includes a Measurement & Verification (M&V) Plan to IPMVP | R8: Will all heat pump electricity and heat be metered with MID compliant meters, with future data available for sharing?
A9: =IF(D9="",Lookups!$E$4,Lookups!$E$5) -> Hide un-named buildings (CTRL + Click) | D9: =IF(ISBLANK('2. Technical Details'!D9),"",'2. Technical Details'!D9) | P9: FALSE | Q9: FALSE | R9: FALSE | S9: Scroll down for the next section
A10: =IF(D10="",Lookups!$E$4,Lookups!$E$5) -> Hide un-named buildings (CTRL + Click) | D10: =IF(ISBLANK('2. Technical Details'!D10),"",'2. Technical Details'!D10) | P10: FALSE | Q10: FALSE | R10: FALSE | S10: ↓
A11: =IF(D11="",Lookups!$E$4,Lookups!$E$5) -> Hide un-named buildings (CTRL + Click) | D11: =IF(ISBLANK('2. Technical Details'!D11),"",'2. Technical Details'!D11) | P11: FALSE | Q11: FALSE | R11: FALSE | S11: ↙
A12: =IF(D12="",Lookups!$E$4,Lookups!$E$5) -> Hide un-named buildings (CTRL + Click) | D12: =IF(ISBLANK('2. Technical Details'!D12),"",'2. Technical Details'!D12) | P12: FALSE | Q12: FALSE | R12: FALSE
A13: =IF(D13="",Lookups!$E$4,Lookups!$E$5) -> Hide un-named buildings (CTRL + Click) | D13: =IF(ISBLANK('2. Technical Details'!D13),"",'2. Technical Details'!D13) | P13: FALSE | Q13: FALSE | R13: FALSE
A14: =IF(D14="",Lookups!$E$4,Lookups!$E$5) -> Hide un-named buildings (CTRL + Click) | D14: =IF(ISBLANK('2. Technical Details'!D14),"",'2. Technical Details'!D14) | P14: FALSE | Q14: FALSE | R14: FALSE
A15: =IF(D15="",Lookups!$E$4,Lookups!$E$5) -> Hide un-named buildings (CTRL + Click) | D15: =IF(ISBLANK('2. Technical Details'!D15),"",'2. Technical Details'!D15) | P15: FALSE | Q15: FALSE | R15: FALSE
A16: =IF(D16="",Lookups!$E$4,Lookups!$E$5) -> Hide un-named buildings (CTRL + Click) | D16: =IF(ISBLANK('2. Technical Details'!D16),"",'2. Technical Details'!D16) | P16: FALSE | Q16: FALSE | R16: FALSE
A17: =IF(D17="",Lookups!$E$4,Lookups!$E$5) -> Hide un-named buildings (CTRL + Click) | D17: =IF(ISBLANK('2. Technical Details'!D17),"",'2. Technical Details'!D17) | P17: FALSE | Q17: FALSE | R17: FALSE
A18: =IF(D18="",Lookups!$E$4,Lookups!$E$5) -> Hide un-named buildings (CTRL + Click) | D18: =IF(ISBLANK('2. Technical Details'!D18),"",'2. Technical Details'!D18) | P18: FALSE | Q18: FALSE | R18: FALSE
A19: =Lookups!$E$5 -> Keep selected (CTRL + Click)
A20: =Lookups!$E$5 -> Keep selected (CTRL + Click)
A21: =Lookups!$E$5 -> Keep selected (CTRL + Click) | D21: 3.2 Timeline deliverability details
A22: =Lookups!$E$5 -> Keep selected (CTRL + Click)
A23: =Lookups!$E$5 -> Keep selected (CTRL + Click) | E23: Project Milestones
A24: =Lookups!$E$5 -> Keep selected (CTRL + Click) | D24: Building Name | E24: Tender closing for Principal Contractor date (if applicable) | F24: Principal Contractor - contract signed date | G24: Final designs in place (if not already) | H24: Equipment order date | I24: On-site works begin date | J24: Equipment installed onsite | K24: Completion and commissioning date
A25: =IF(D25="",Lookups!$E$4,Lookups!$E$5) -> Hide un-named buildings (CTRL + Click) | D25: =IF(ISBLANK('2. Technical Details'!D9),"",'2. Technical Details'!D9)
A26: =IF(D26="",Lookups!$E$4,Lookups!$E$5) -> Hide un-named buildings (CTRL + Click) | D26: =IF(ISBLANK('2. Technical Details'!D10),"",'2. Technical Details'!D10)
A27: =IF(D27="",Lookups!$E$4,Lookups!$E$5) -> Hide un-named buildings (CTRL + Click) | D27: =IF(ISBLANK('2. Technical Details'!D11),"",'2. Technical Details'!D11)
A28: =IF(D28="",Lookups!$E$4,Lookups!$E$5) -> Hide un-named buildings (CTRL + Click) | D28: =IF(ISBLANK('2. Technical Details'!D12),"",'2. Technical Details'!D12)
A29: =IF(D29="",Lookups!$E$4,Lookups!$E$5) -> Hide un-named buildings (CTRL + Click) | D29: =IF(ISBLANK('2. Technical Details'!D13),"",'2. Technical Details'!D13)
A30: =IF(D30="",Lookups!$E$4,Lookups!$E$5) -> Hide un-named buildings (CTRL + Click) | D30: =IF(ISBLANK('2. Technical Details'!D14),"",'2. Technical Details'!D14)
A31: =IF(D31="",Lookups!$E$4,Lookups!$E$5) -> Hide un-named buildings (CTRL + Click) | D31: =IF(ISBLANK('2. Technical Details'!D15),"",'2. Technical Details'!D15)
A32: =IF(D32="",Lookups!$E$4,Lookups!$E$5) -> Hide un-named buildings (CTRL + Click) | D32: =IF(ISBLANK('2. Technical Details'!D16),"",'2. Technical Details'!D16)
A33: =IF(D33="",Lookups!$E$4,Lookups!$E$5) -> Hide un-named buildings (CTRL + Click) | D33: =IF(ISBLANK('2. Technical Details'!D17),"",'2. Technical Details'!D17)
A34: =IF(D34="",Lookups!$E$4,Lookups!$E$5) -> Hide un-named buildings (CTRL + Click) | D34: =IF(ISBLANK('2. Technical Details'!D18),"",'2. Technical Details'!D18)
D36: end of sheet

Sheet 4. Financial Detail
D2: 4. Financial Detail
F3: Filter button to hide unused rows (i.e. un-named buildings) > >
D5: 4.1 Cost Breakdown
E7: Project cost breakdown (£) - costs should not include recoverable VAT (note: we expect all VAT to be recovered) | O7: Metrics & Checks
A8: hider | D8: Building | E8: Final design costs (£) | F8: Low carbon heat equipment (£) (main heat plant costs) | G8: Low carbon heat labour - install & commissioning (£) | H8: Enabling works - supply & install (£) (e.g. heat emitters or other work outside the heat plant) | I8: Fabric works - supply & install (£) | J8: DNO costs (£) | K8: Client Engineer, Project management, or other specialists (£) | L8: Total project costs exc. contingency, exc. VAT (£) Ensure this matches quote evidence | M8: Contingency costs estimated (Cannot be included in grant offer ) | O8: Final design costs % | P8: Low carbon heat equipment % | Q8: Low carbon heat labour % | R8: Enabling works - supply & install % | S8: Fabric works - supply & install % | T8: DNO costs % | U8: Client Engineer, Project management, or other specialists % | V8: £ / kW Equipment cost per capacity installed | W8: £ / kW Costs (exc. DNO and fabric) cost per capacity installed | X8: £ / tCO2e Total costs for carbon saving yr 1 | Y8: £ / tCO2e Total costs for carbon saving lifetime
A9: =IF(D9="",Lookups!$E$4,Lookups!$E$5) -> Hide un-named buildings (CTRL + Click) | D9: =IF(ISBLANK('2. Technical Details'!D9),"",'2. Technical Details'!D9) | L9: =SUM(E9:K9) -> 0 | O9: =IF($L9>0,IFERROR(E9/$L9,""),"") | P9: =IF($L9>0,IFERROR(F9/$L9,""),"") | Q9: =IF($L9>0,IFERROR(G9/$L9,""),"") | R9: =IF($L9>0,IFERROR(H9/$L9,""),"") | S9: =IF($L9>0,IFERROR(I9/$L9,""),"") | T9: =IF($L9>0,IFERROR(J9/$L9,""),"") | U9: =IF($L9>0,IFERROR(K9/$L9,""),"") | V9: =IFERROR(F9/'2. Technical Details'!Z40,"") | W9: =IFERROR(SUM(E9:H9,K9)/'2. Technical Details'!Z40,"") | X9: =IFERROR(L9/('2. Technical Details'!AF40*0.001),"") | Y9: =IFERROR(L9/('2. Technical Details'!AG40*0.001),"") | Z9: Scroll down for the next section
A10: =IF(D10="",Lookups!$E$4,Lookups!$E$5) -> Hide un-named buildings (CTRL + Click) | D10: =IF(ISBLANK('2. Technical Details'!D10),"",'2. Technical Details'!D10) | L10: =SUM(E10:K10) -> 0 | O10: =IF($L10>0,IFERROR(E10/$L10,""),"") | P10: =IF($L10>0,IFERROR(F10/$L10,""),"") | Q10: =IF($L10>0,IFERROR(G10/$L10,""),"") | R10: =IF($L10>0,IFERROR(H10/$L10,""),"") | S10: =IF($L10>0,IFERROR(I10/$L10,""),"") | T10: =IF($L10>0,IFERROR(J10/$L10,""),"") | U10: =IF($L10>0,IFERROR(K10/$L10,""),"") | V10: =IFERROR(F10/'2. Technical Details'!Z41,"") | W10: =IFERROR(SUM(E10:H10,K10)/'2. Technical Details'!Z41,"") | X10: =IFERROR(L10/('2. Technical Details'!AF41*0.001),"") | Y10: =IFERROR(L10/('2. Technical Details'!AG41*0.001),"") | Z10: ↓
A11: =IF(D11="",Lookups!$E$4,Lookups!$E$5) -> Hide un-named buildings (CTRL + Click) | D11: =IF(ISBLANK('2. Technical Details'!D11),"",'2. Technical Details'!D11) | L11: =SUM(E11:K11) -> 0 | O11: =IF($L11>0,IFERROR(E11/$L11,""),"") | P11: =IF($L11>0,IFERROR(F11/$L11,""),"") | Q11: =IF($L11>0,IFERROR(G11/$L11,""),"") | R11: =IF($L11>0,IFERROR(H11/$L11,""),"") | S11: =IF($L11>0,IFERROR(I11/$L11,""),"") | T11: =IF($L11>0,IFERROR(J11/$L11,""),"") | U11: =IF($L11>0,IFERROR(K11/$L11,""),"") | V11: =IFERROR(F11/'2. Technical Details'!Z42,"") | W11: =IFERROR(SUM(E11:H11,K11)/'2. Technical Details'!Z42,"") | X11: =IFERROR(L11/('2. Technical Details'!AF42*0.001),"") | Y11: =IFERROR(L11/('2. Technical Details'!AG42*0.001),"") | Z11: ↙
A12: =IF(D12="",Lookups!$E$4,Lookups!$E$5) -> Hide un-named buildings (CTRL + Click) | D12: =IF(ISBLANK('2. Technical Details'!D12),"",'2. Technical Details'!D12) | L12: =SUM(E12:K12) -> 0 | O12: =IF($L12>0,IFERROR(E12/$L12,""),"") | P12: =IF($L12>0,IFERROR(F12/$L12,""),"") | Q12: =IF($L12>0,IFERROR(G12/$L12,""),"") | R12: =IF($L12>0,IFERROR(H12/$L12,""),"") | S12: =IF($L12>0,IFERROR(I12/$L12,""),"") | T12: =IF($L12>0,IFERROR(J12/$L12,""),"") | U12: =IF($L12>0,IFERROR(K12/$L12,""),"") | V12: =IFERROR(F12/'2. Technical Details'!Z43,"") | W12: =IFERROR(SUM(E12:H12,K12)/'2. Technical Details'!Z43,"") | X12: =IFERROR(L12/('2. Technical Details'!AF43*0.001),"") | Y12: =IFERROR(L12/('2. Technical Details'!AG43*0.001),"")
A13: =IF(D13="",Lookups!$E$4,Lookups!$E$5) -> Hide un-named buildings (CTRL + Click) | D13: =IF(ISBLANK('2. Technical Details'!D13),"",'2. Technical Details'!D13) | L13: =SUM(E13:K13) -> 0 | O13: =IF($L13>0,IFERROR(E13/$L13,""),"") | P13: =IF($L13>0,IFERROR(F13/$L13,""),"") | Q13: =IF($L13>0,IFERROR(G13/$L13,""),"") | R13: =IF($L13>0,IFERROR(H13/$L13,""),"") | S13: =IF($L13>0,IFERROR(I13/$L13,""),"") | T13: =IF($L13>0,IFERROR(J13/$L13,""),"") | U13: =IF($L13>0,IFERROR(K13/$L13,""),"") | V13: =IFERROR(F13/'2. Technical Details'!Z44,"") | W13: =IFERROR(SUM(E13:H13,K13)/'2. Technical Details'!Z44,"") | X13: =IFERROR(L13/('2. Technical Details'!AF44*0.001),"") | Y13: =IFERROR(L13/('2. Technical Details'!AG44*0.001),"")
A14: =IF(D14="",Lookups!$E$4,Lookups!$E$5) -> Hide un-named buildings (CTRL + Click) | D14: =IF(ISBLANK('2. Technical Details'!D14),"",'2. Technical Details'!D14) | L14: =SUM(E14:K14) -> 0 | O14: =IF($L14>0,IFERROR(E14/$L14,""),"") | P14: =IF($L14>0,IFERROR(F14/$L14,""),"") | Q14: =IF($L14>0,IFERROR(G14/$L14,""),"") | R14: =IF($L14>0,IFERROR(H14/$L14,""),"") | S14: =IF($L14>0,IFERROR(I14/$L14,""),"") | T14: =IF($L14>0,IFERROR(J14/$L14,""),"") | U14: =IF($L14>0,IFERROR(K14/$L14,""),"") | V14: =IFERROR(F14/'2. Technical Details'!Z45,"") | W14: =IFERROR(SUM(E14:H14,K14)/'2. Technical Details'!Z45,"") | X14: =IFERROR(L14/('2. Technical Details'!AF45*0.001),"") | Y14: =IFERROR(L14/('2. Technical Details'!AG45*0.001),"")
A15: =IF(D15="",Lookups!$E$4,Lookups!$E$5) -> Hide un-named buildings (CTRL + Click) | D15: =IF(ISBLANK('2. Technical Details'!D15),"",'2. Technical Details'!D15) | L15: =SUM(E15:K15) -> 0 | O15: =IF($L15>0,IFERROR(E15/$L15,""),"") | P15: =IF($L15>0,IFERROR(F15/$L15,""),"") | Q15: =IF($L15>0,IFERROR(G15/$L15,""),"") | R15: =IF($L15>0,IFERROR(H15/$L15,""),"") | S15: =IF($L15>0,IFERROR(I15/$L15,""),"") | T15: =IF($L15>0,IFERROR(J15/$L15,""),"") | U15: =IF($L15>0,IFERROR(K15/$L15,""),"") | V15: =IFERROR(F15/'2. Technical Details'!Z46,"") | W15: =IFERROR(SUM(E15:H15,K15)/'2. Technical Details'!Z46,"") | X15: =IFERROR(L15/('2. Technical Details'!AF46*0.001),"") | Y15: =IFERROR(L15/('2. Technical Details'!AG46*0.001),"")
A16: =IF(D16="",Lookups!$E$4,Lookups!$E$5) -> Hide un-named buildings (CTRL + Click) | D16: =IF(ISBLANK('2. Technical Details'!D16),"",'2. Technical Details'!D16) | L16: =SUM(E16:K16) -> 0 | O16: =IF($L16>0,IFERROR(E16/$L16,""),"") | P16: =IF($L16>0,IFERROR(F16/$L16,""),"") | Q16: =IF($L16>0,IFERROR(G16/$L16,""),"") | R16: =IF($L16>0,IFERROR(H16/$L16,""),"") | S16: =IF($L16>0,IFERROR(I16/$L16,""),"") | T16: =IF($L16>0,IFERROR(J16/$L16,""),"") | U16: =IF($L16>0,IFERROR(K16/$L16,""),"") | V16: =IFERROR(F16/'2. Technical Details'!Z47,"") | W16: =IFERROR(SUM(E16:H16,K16)/'2. Technical Details'!Z47,"") | X16: =IFERROR(L16/('2. Technical Details'!AF47*0.001),"") | Y16: =IFERROR(L16/('2. Technical Details'!AG47*0.001),"")
A17: =IF(D17="",Lookups!$E$4,Lookups!$E$5) -> Hide un-named buildings (CTRL + Click) | D17: =IF(ISBLANK('2. Technical Details'!D17),"",'2. Technical Details'!D17) | L17: =SUM(E17:K17) -> 0 | O17: =IF($L17>0,IFERROR(E17/$L17,""),"") | P17: =IF($L17>0,IFERROR(F17/$L17,""),"") | Q17: =IF($L17>0,IFERROR(G17/$L17,""),"") | R17: =IF($L17>0,IFERROR(H17/$L17,""),"") | S17: =IF($L17>0,IFERROR(I17/$L17,""),"") | T17: =IF($L17>0,IFERROR(J17/$L17,""),"") | U17: =IF($L17>0,IFERROR(K17/$L17,""),"") | V17: =IFERROR(F17/'2. Technical Details'!Z48,"") | W17: =IFERROR(SUM(E17:H17,K17)/'2. Technical Details'!Z48,"") | X17: =IFERROR(L17/('2. Technical Details'!AF48*0.001),"") | Y17: =IFERROR(L17/('2. Technical Details'!AG48*0.001),"")
A18: =IF(D18="",Lookups!$E$4,Lookups!$E$5) -> Hide un-named buildings (CTRL + Click) | D18: =IF(ISBLANK('2. Technical Details'!D18),"",'2. Technical Details'!D18) | L18: =SUM(E18:K18) -> 0 | O18: =IF($L18>0,IFERROR(E18/$L18,""),"") | P18: =IF($L18>0,IFERROR(F18/$L18,""),"") | Q18: =IF($L18>0,IFERROR(G18/$L18,""),"") | R18: =IF($L18>0,IFERROR(H18/$L18,""),"") | S18: =IF($L18>0,IFERROR(I18/$L18,""),"") | T18: =IF($L18>0,IFERROR(J18/$L18,""),"") | U18: =IF($L18>0,IFERROR(K18/$L18,""),"") | V18: =IFERROR(F18/'2. Technical Details'!Z49,"") | W18: =IFERROR(SUM(E18:H18,K18)/'2. Technical Details'!Z49,"") | X18: =IFERROR(L18/('2. Technical Details'!AF49*0.001),"") | Y18: =IFERROR(L18/('2. Technical Details'!AG49*0.001),"")
A19: =Lookups!$E$5 -> Keep selected (CTRL + Click)
A20: =Lookups!$E$5 -> Keep selected (CTRL + Click) | D20: 4.2 Grant Request
A21: =Lookups!$E$5 -> Keep selected (CTRL + Click)
A22: =Lookups!$E$5 -> Keep selected (CTRL + Click) | E22: Grant request | I22: Match funding Source | M22: Retention of project costs | O22: Anticipated drawdown of grant
A23: =Lookups!$E$5 -> Keep selected (CTRL + Click) | D23: Building | E23: Maximum eligible grant value (£) (90% of project costs) | F23: Would you like the full grant available? Tick for yes. | G23: Grant amount requested (£) Input value requested, up to maximum eligible | H23: Applicant Contribution (£) | I23: Applicant contribution from own capital (£) | J23: Applicant contribution from other Welsh Government grant / capital (£) | K23: Applicant contribution from other (£) | L23: Please comment any Welsh Gov. fund source or any other finance source as applicable | M23: Does your project include a retention payment which would be paid to the contractor in FY27-28? (Y/N) | N23: If yes, what is the value of the retention payment? (£) | O23: Date Dropdown | P23: Date Dropdown | Q23: Date Dropdown | R23: Date Dropdown | S23: Total in drawdowns (£) | T23: Check
A24: =IF(D24="",Lookups!$E$4,Lookups!$E$5) -> Hide un-named buildings (CTRL + Click) | D24: =IF(ISBLANK('2. Technical Details'!D9),"",'2. Technical Details'!D9) | E24: =L9*0.9 -> 0 | F24: TRUE | G24: =IF(E24>0,(IF(F24=TRUE,E24,Lookups!$C$4)),"") | H24: =IFERROR(L9-G24,"") | S24: =_xlfn.AGGREGATE(9,4,O24,P24,Q24,R24) -> 0 | T24: =IF(G24<>"",IF(S24=G24,Lookups!$B$4,Lookups!$B$5),"")
A25: =IF(D25="",Lookups!$E$4,Lookups!$E$5) -> Hide un-named buildings (CTRL + Click) | D25: =IF(ISBLANK('2. Technical Details'!D10),"",'2. Technical Details'!D10) | E25: =L10*0.9 -> 0 | F25: TRUE | G25: =IF(E25>0,(IF(F25=TRUE,E25,Lookups!$C$4)),"") | H25: =IFERROR(L10-G25,"") | S25: =_xlfn.AGGREGATE(9,4,O25,P25,Q25,R25) -> 0 | T25: =IF(G25<>"",IF(S25=G25,Lookups!$B$4,Lookups!$B$5),"")
A26: =IF(D26="",Lookups!$E$4,Lookups!$E$5) -> Hide un-named buildings (CTRL + Click) | D26: =IF(ISBLANK('2. Technical Details'!D11),"",'2. Technical Details'!D11) | E26: =L11*0.9 -> 0 | F26: TRUE | G26: =IF(E26>0,(IF(F26=TRUE,E26,Lookups!$C$4)),"") | H26: =IFERROR(L11-G26,"") | S26: =_xlfn.AGGREGATE(9,4,O26,P26,Q26,R26) -> 0 | T26: =IF(G26<>"",IF(S26=G26,Lookups!$B$4,Lookups!$B$5),"")
A27: =IF(D27="",Lookups!$E$4,Lookups!$E$5) -> Hide un-named buildings (CTRL + Click) | D27: =IF(ISBLANK('2. Technical Details'!D12),"",'2. Technical Details'!D12) | E27: =L12*0.9 -> 0 | F27: TRUE | G27: =IF(E27>0,(IF(F27=TRUE,E27,Lookups!$C$4)),"") | H27: =IFERROR(L12-G27,"") | S27: =_xlfn.AGGREGATE(9,4,O27,P27,Q27,R27) -> 0 | T27: =IF(G27<>"",IF(S27=G27,Lookups!$B$4,Lookups!$B$5),"")
A28: =IF(D28="",Lookups!$E$4,Lookups!$E$5) -> Hide un-named buildings (CTRL + Click) | D28: =IF(ISBLANK('2. Technical Details'!D13),"",'2. Technical Details'!D13) | E28: =L13*0.9 -> 0 | F28: TRUE | G28: =IF(E28>0,(IF(F28=TRUE,E28,Lookups!$C$4)),"") | H28: =IFERROR(L13-G28,"") | S28: =_xlfn.AGGREGATE(9,4,O28,P28,Q28,R28) -> 0 | T28: =IF(G28<>"",IF(S28=G28,Lookups!$B$4,Lookups!$B$5),"")
A29: =IF(D29="",Lookups!$E$4,Lookups!$E$5) -> Hide un-named buildings (CTRL + Click) | D29: =IF(ISBLANK('2. Technical Details'!D14),"",'2. Technical Details'!D14) | E29: =L14*0.9 -> 0 | F29: TRUE | G29: =IF(E29>0,(IF(F29=TRUE,E29,Lookups!$C$4)),"") | H29: =IFERROR(L14-G29,"") | S29: =_xlfn.AGGREGATE(9,4,O29,P29,Q29,R29) -> 0 | T29: =IF(G29<>"",IF(S29=G29,Lookups!$B$4,Lookups!$B$5),"")
A30: =IF(D30="",Lookups!$E$4,Lookups!$E$5) -> Hide un-named buildings (CTRL + Click) | D30: =IF(ISBLANK('2. Technical Details'!D15),"",'2. Technical Details'!D15) | E30: =L15*0.9 -> 0 | F30: TRUE | G30: =IF(E30>0,(IF(F30=TRUE,E30,Lookups!$C$4)),"") | H30: =IFERROR(L15-G30,"") | S30: =_xlfn.AGGREGATE(9,4,O30,P30,Q30,R30) -> 0 | T30: =IF(G30<>"",IF(S30=G30,Lookups!$B$4,Lookups!$B$5),"")
A31: =IF(D31="",Lookups!$E$4,Lookups!$E$5) -> Hide un-named buildings (CTRL + Click) | D31: =IF(ISBLANK('2. Technical Details'!D16),"",'2. Technical Details'!D16) | E31: =L16*0.9 -> 0 | F31: TRUE | G31: =IF(E31>0,(IF(F31=TRUE,E31,Lookups!$C$4)),"") | H31: =IFERROR(L16-G31,"") | S31: =_xlfn.AGGREGATE(9,4,O31,P31,Q31,R31) -> 0 | T31: =IF(G31<>"",IF(S31=G31,Lookups!$B$4,Lookups!$B$5),"")
A32: =IF(D32="",Lookups!$E$4,Lookups!$E$5) -> Hide un-named buildings (CTRL + Click) | D32: =IF(ISBLANK('2. Technical Details'!D17),"",'2. Technical Details'!D17) | E32: =L17*0.9 -> 0 | F32: TRUE | G32: =IF(E32>0,(IF(F32=TRUE,E32,Lookups!$C$4)),"") | H32: =IFERROR(L17-G32,"") | S32: =_xlfn.AGGREGATE(9,4,O32,P32,Q32,R32) -> 0 | T32: =IF(G32<>"",IF(S32=G32,Lookups!$B$4,Lookups!$B$5),"")
A33: =IF(D33="",Lookups!$E$4,Lookups!$E$5) -> Hide un-named buildings (CTRL + Click) | D33: =IF(ISBLANK('2. Technical Details'!D18),"",'2. Technical Details'!D18) | E33: =L18*0.9 -> 0 | F33: TRUE | G33: =IF(E33>0,(IF(F33=TRUE,E33,Lookups!$C$4)),"") | H33: =IFERROR(L18-G33,"") | S33: =_xlfn.AGGREGATE(9,4,O33,P33,Q33,R33) -> 0 | T33: =IF(G33<>"",IF(S33=G33,Lookups!$B$4,Lookups!$B$5),"")
D35: end of sheet

Sheet 5. Risks
C2: 5. Risk Assessment
C4: Description of Risk to Project Delivery | D4: Potential Impact (1: Low 5: High) | E4: Likelihood (1: Low 5: High) | F4: Risk Rating (unmitigated) | G4: Proposed Mitigation (if any) | H4: Post mitigation Potential Impact (1: Low 5: High) | I4: Post mitigation Likelihood (1: Low 5: High) | J4: Risk Rating (mitigated)
F5: =D5*E5 -> 0 | J5: =H5*I5 -> 0
F6: =D6*E6 -> 0 | J6: =H6*I6 -> 0
F7: =D7*E7 -> 0 | J7: =H7*I7 -> 0
F8: =D8*E8 -> 0 | J8: =H8*I8 -> 0
F9: =D9*E9 -> 0 | J9: =H9*I9 -> 0
F10: =D10*E10 -> 0 | J10: =H10*I10 -> 0
F11: =D11*E11 -> 0 | J11: =H11*I11 -> 0
F12: =D12*E12 -> 0 | J12: =H12*I12 -> 0
F13: =D13*E13 -> 0 | J13: =H13*I13 -> 0
F14: =D14*E14 -> 0 | J14: =H14*I14 -> 0
B16: End of Sheet

Sheet 6. Summary & Declaration
C2: 6. Summary & Declaration
C5: 6.1 Completeness Check
G7: Complete?
E8: 1. Questions | G8: FALSE
E10: 2. Technical Details | G10: FALSE
E12: 3. Deliverability Details | G12: FALSE
E14: 4. Financial Details | G14: FALSE
E16: 5. Risks | G16: FALSE
E18: 6. Summary & Declaration | G18: FALSE
G20: =IF(G8*G10*G12*G14*G16*G18=0,Lookups!D4,"") -> Not all checkboxes checked
C21: 6.2 Applicant Details
C23: Organisation | E23: Applicant Organisation
E24: Applicant Postal Address
C26: Key Contact / Applicant | E26: Key Contact Name
E27: Key Contact Job Title
E28: Key Contact Email Address
E29: Key Contact Phone Number
C31: Sponsoring Director | E31: Sponsoring Director Name
E32: Sponsoring Director Job Title
E33: Sponsoring Director Email Address
E34: Sponsoring Director Phone Number
C36: Finance Director | E36: Finance Director Name
E37: Finance Director Job Title
E38: Finance Director Email Address
E39: Finance Director Phone Number
C41: Finance Administration Contact | E41: Finance Contact Name
E42: Finance Contact Job Title
E43: Finance Contact Email Address
E44: Finance Contact Phone Number
C46: Additional Contact 1 (optional) | E46: Role on the Project
E47: Name
E48: Job Title
E49: Email Address
E50: Phone Number
C53: 6.3 Supporting Information
G55: Attached? | J55: Document name(s) including three letter file type
C56: Design documents or Investment Grade Proposal demonstrating that project is technically feasible sizing calculations etc. | G56: FALSE
C58: Drawings (plan and elevation) illustrating the location of the heat source and the scale (optional) | G58: FALSE
C60: Specification sheets for the heat pump / low carbon heat plant proposed | G60: FALSE
C62: Modelling and sizing calculations - the energy model to show appropriate sizing and expected seasonal coefficient of performance of the heat pump | G62: FALSE
...

Sheet All data export
D3: Building details | L3: EXISTING - Main heat generation plant | S3: EXISTING - Secondary heat generation (optional) | Z3: EXISTING - Further heat generation (e.g., hot water production, kitchen use etc.) (optional) | AG3: Total of existing | AK3: Flow temperatures | AO3: Enabling measures - heat emitters, heat infrastructure, and controls | AX3: Enabling measures - fabric improvement | BD3: Summary Totals | BF3: PROPOSED - Main low carbon heat generation | BL3: PROPOSED - Secondary heat generation (if required) | BS3: PROPOSED - Further heat generation (e.g., local point of use, kitchen use etc.) (if required) | BZ3: Total Proposed | CE3: Metrics & Checks | CQ3: Design & Planning | CU3: Procurement and contracting | DA3: Operation & performance | DE3: Project Milestones | DL3: Project cost breakdown (£) - costs should not include recoverable VAT (note: we expect all VAT to be recovered) | DV3: Metrics & Checks | EG3: Grant request | EK3: Match funding Source | EO3: Retention of project costs | EQ3: Anticipated drawdown of grant
