Workbook
Name _tab1: Transfer!$A$1:$F$101
Name Addresses: Details!$I$3:$U$25
Name Authority: Details!$A$3:$C$26
Name Certification: 'Guidance Notes - English'!$B$142
Name Charity_relief: 'Guidance Notes - English'!$B$121
Name Costs_of_collection: 'Guidance Notes - English'!$B$136
Name Discretionary_reliefs: 'Guidance Notes - English'!$B$119
Name Introduction: 'Guidance Notes - English'!$B$39
Name Lang: FrontPage!$P$8
Name letter: Transfer!$L$1:$M$100
Name Losses_in_collection: 'Guidance Notes - English'!$B$133
Name Mandatory_reliefs: 'Guidance Notes - English'!$B$75
Name Mult: Page1!$J$12
Name Net_rate_yield: 'Guidance Notes - English'!$B$130
Name Non_profit_making_bodies: 'Guidance Notes - English'!$B$127
Name Page1: Page1!$C$8:$U$44
Name Provisional_calculation_of_contribution_to_the_pool: 'Guidance Notes - English'!$B$139
Name Registered_community_amateur_sports_clubs_relief: 'Guidance Notes - English'!$B$124
Name Rhagymadrodd: 'Nodiadau Cyfarwyddyd - Cymraeg'!$B$39
Name Rhyddhad_gorfodol: 'Nodiadau Cyfarwyddyd - Cymraeg'!$B$75
Name Rhyddhad_yn_ôl_disgresiwn: 'Nodiadau Cyfarwyddyd - Cymraeg'!$B$119
Name Small_business_rate_relief: 'Guidance Notes - English'!#REF!
Name Summary: Page1!$C$8:$U$36
Name UANumber: Details!$B$29
Name year: FrontPage!$P$1
Name Year_Less_1: #REF!
Name YearCode: #REF!
Name YearMain: #REF!

Sheet FrontPage
P1: 202627
C2: =Language!G9 -> Non-domestic rates provisional contributions return | M2: ="NDR1 20"&MID(year,3,2)&"-"&RIGHT(year,2) -> NDR1 2026-27 | N2: v2.0
L5: =Language!G3 -> Billing Authorities only
C7: Dewiswch eich iaith benodol / Choose your preferred language: | P7: 2 | Q7: Cymraeg/Welsh
P8: =IF(P7=1,"Cym",IF(P7=2,"Eng")) -> Eng | Q8: Saesneg/English
C9: =Language!G4 -> E-mail:
C11: =IF(UANumber=0,"",VLOOKUP(UANumber,Addresses,3,FALSE))
C12: 1
C13: =IF(UANumber=0,"",VLOOKUP(UANumber,Addresses,4,FALSE))
C14: =IF(UANumber=0,"",VLOOKUP(UANumber,Addresses,5,FALSE))
C15: =IF(UANumber=0,"",VLOOKUP(UANumber,Addresses,6,FALSE))
C16: =IF(UANumber=0,"",VLOOKUP(UANumber,Addresses,7,FALSE))
C17: =IF(UANumber=0,"",VLOOKUP(UANumber,Addresses,8,FALSE))
C19: =Language!G14 -> Please give the name and telephone number of the person who we may contact in case of queries:-
C20: =Language!G7 -> Name: | D20: =IF(UANumber=0,"",VLOOKUP(UANumber,Addresses,10,FALSE))
C21: =Language!G4 -> E-mail: | D21: =IF(UANumber=0,"",VLOOKUP(UANumber,Addresses,13,FALSE))
C22: =Language!G16 -> Telephone: | D22: =IF(UANumber=0,"",VLOOKUP(UANumber,Addresses,11,FALSE))&" "&IF(UANumber=0,"",VLOOKUP(UANumber,Addresses,12,FALSE))
C24: =Language!G17 -> The information on this form must be submitted to the Welsh Government under Schedule 8 of the Local Government Finance Act 1988
C28: =Language!G6 -> FOR RETURN BY | I28: =Language!G2 -> 23 FEBRUARY 2026
D31: =Language!G12 -> Please email a completed spreadsheet to:
D32: Richard Hagg
D33: =Language!G8 -> ndrforms@gov.wales

Sheet Page1
C2: 1 | D2: 2 | E2: 3 | F2: 4 | G2: 5 | H2: 6 | I2: 7 | J2: 8 | K2: 9 | L2: 10 | M2: 11 | N2: 12 | O2: 13 | P2: 14 | Q2: 15 | R2: 16 | S2: 17 | T2: 18 | U2: 19
C3: =+FrontPage!C2 -> Non-domestic rates provisional contributions return | U3: =+FrontPage!M2 -> NDR1 2026-27 | V3: V2.0
D5: =Language!G18&IF(Details!B29=0,"",Details!B29) -> Authority code: | I5: =Language!G19&Details!C29 -> Authority: | R5: =Language!G21 -> Column 1 | S5: =Language!G22 -> Column 2 | T5: =Language!G23 -> Column 3 | U5: =Language!G24 -> Column 4
D7: =Language!G25 -> Preliminary information (lines 210 and 220) | R7: =Language!G57 -> Retail | S7: =Language!G58 -> Standard | T7: =Language!G59 -> Higher | U7: =Language!G60 -> Summary
C8: 210 | D8: =Language!G26 -> Number of hereditaments on the rating list as at 31 December | U8: =SUM(R8:T8) -> 0
R9: =Language!G62&" £" -> Please enter all amounts to the nearest pound £
C10: 220 | D10: =Language!G27 -> Aggregate rateable value on the rating list as at 31 December | U10: =SUM(R10:T10) -> 0
Q11: =Language!G20 -> Multipliers | R11: 0.35 | S11: 0.502 | T11: 0.515
C12: 230 | D12: =Language!G28 -> Gross calculated rate yield | R12: =ROUND(R11*R10,0) -> 0 | S12: =ROUND(S11*S10,0) -> 0 | T12: =ROUND(T11*T10,0) -> 0 | U12: =SUM(R12:T12) -> 0
D13: =Language!G29 -> Mandatory reliefs (show estimated lost yield as positive)
C14: 240 | D14: =Language!G30 -> Schedule 4ZA para 2(2)(a) (charitable occupations) | U14: =SUM(R14:T14) -> 0
C15: 250 | D15: =Language!G31 -> Schedule 4ZA para 2(2)(b) (community amateur sports clubs) | U15: =SUM(R15:T15) -> 0
C16: 260 | D16: =Language!G32 -> Schedule 4ZA para 4 (small business rates relief post office element) | U16: =SUM(R16:T16) -> 0
C17: 270 | D17: =Language!G33 -> Schedule 4ZA para 4 (small business rates relief childcare element) | U17: =SUM(R17:T17) -> 0
C18: 280 | D18: =Language!G34 -> Schedule 4ZA para 4 (small business rates relief excluding childcare/post office) | U18: =SUM(R18:T18) -> 0
C19: 290 | D19: =Language!G35 -> Total small business rates relief (sum of lines 260 to 280) | R19: =ROUND(SUM(R16:R18),0) -> 0 | S19: =ROUND(SUM(S16:S18),0) -> 0 | T19: =ROUND(SUM(T16:T18),0) -> 0 | U19: =SUM(R19:T19) -> 0
C20: 300 | D20: =Language!G36 -> section 44A (partly occupied properties) | U20: =SUM(R20:T20) -> 0
C21: 310 | D21: =Language!G37 -> section 45(1)(d) (empty premises) | U21: =SUM(R21:T21) -> 0
C22: 320 | D22: =Language!G38 -> Schedule 4ZB para 2 (charitable relief for empty premises) | U22: =SUM(R22:T22) -> 0
C23: 330 | D23: =Language!G39 -> section 58 (revaluation transitional relief) | U23: =SUM(R23:T23) -> 0
C24: 340 | D24: =Language!G40 -> Schedule 4ZA para 7 (public lavatories relief) | U24: =SUM(R24:T24) -> 0
C25: 350 | D25: =Language!G41 -> Schedule 4ZA para 6 (heat networks relief) | U25: =SUM(R25:T25) -> 0
C26: 360 | D26: =Language!G42 -> Schedule 4ZA para 3 (improvement relief) | U26: =SUM(R26:T26) -> 0
C27: 370 | D27: =Language!G43 -> Gross yield (sum of rows 230 to 360) | R27: =ROUND(R12-SUM(R14:R26)+R19,0) -> 0 | S27: =ROUND(S12-SUM(S14:S26)+S19,0) -> 0 | T27: =ROUND(T12-SUM(T14:T26)+T19,0) -> 0 | U27: =SUM(R27:T27) -> 0
C28: 380 | D28: =Language!G44 -> Gross amount - gross yield adjusted by 'buoyancy' in rateable value | Q28: 1.002 | R28: =ROUND(R27*$Q$28,0) -> 0 | S28: =ROUND(S27*$Q$28,0) -> 0 | T28: =ROUND(T27*$Q$28,0) -> 0 | U28: =SUM(R28:T28) -> 0
D29: =Language!G45 -> Discretionary reliefs (show estimated lost yield as positive)
C30: 390 | D30: =Language!G46 -> reductions under section 47 (charitable occupations) | U30: =SUM(R30:T30) -> 0
C31: 400 | D31: =Language!G47 -> reductions under section 47 (community amateur sports clubs) | U31: =SUM(R31:T31) -> 0
C32: 410 | D32: =Language!G48 -> reductions under section 47 (non-profit making bodies) | U32: =SUM(R32:T32) -> 0
C33: 420 | D33: =Language!G49 -> Net rate yield (sum of rows 380 to 410) | R33: =ROUND(R28-SUM(R30:R32),0) -> 0 | S33: =ROUND(S28-SUM(S30:S32),0) -> 0 | T33: =ROUND(T28-SUM(T30:T32),0) -> 0 | U33: =SUM(R33:T33) -> 0
C34: 430 | D34: =Language!G50 -> Allowance for losses in collection (row 420 x -1.0%) | R34: =ROUND(R33*0.01,0) -> 0 | S34: =ROUND(S33*0.01,0) -> 0 | T34: =ROUND(T33*0.01,0) -> 0 | U34: =SUM(R34:T34) -> 0
C35: 440 | D35: =Language!G51 -> Costs of collection allowance (row 210 x -£39.50 + row 220 x -0.00087) | R35: =ROUND((R8*39.5)+(R10*0.00087),0) -> 0 | S35: =ROUND((S8*39.5)+(S10*0.00087),0) -> 0 | T35: =ROUND((T8*39.5)+(T10*0.00087),0) -> 0 | U35: =SUM(R35:T35) -> 0
C36: 450 | D36: =Language!G52 -> Provisional contribution to the pool (sum of rows 420 to 440) | R36: =ROUND(R33-R34-R35,0) -> 0 | S36: =ROUND(S33-S34-S35,0) -> 0 | T36: =ROUND(T33-T34-T35,0) -> 0 | U36: =SUM(R36:T36) -> 0
C38: =Language!G64 -> Certificate of Chief Financial Officer
C39: =Language!G65 -> I certify the information given in this form is the most accurate I can give. I also certify that the figures used are those shown in the rating list for my authority as at 31 December 2025. Furthermore, I certify that the authority has made proper arrangements for securing economy, efficiency, and effectiveness in relation to the collection of non-domestic rates.
I41: =Language!G66 -> Signature of Chief Financial Officer: | P41: =Language!G67 -> Date:
D43: =Language!G68 -> For Welsh Government Administration use only | J43: =+Transfer!N13 -> ZZZZZZZZZZZZZZ

Sheet Transfer
A1: YearCode | B1: FormRef | C1: RowRef | D1: ColumnRef | E1: AuthCode | F1: Data | L1: 1 | M1: A
A2: 202627 | B2: NNDR1 | C2: 210 | D2: 1 | E2: =UANumber -> 0 | F2: =VLOOKUP(C2,Page1,(15+D2),FALSE) -> 0 | J2: 0.00503 | K2: =+F2*J2 -> 0 | L2: 2 | M2: B | N2: Page 1
A3: 202627 | B3: NNDR1 | C3: 220 | D3: 1 | E3: =UANumber -> 0 | F3: =VLOOKUP(C3,Page1,(15+D3),FALSE) -> 0 | J3: 0.43581 | K3: =+F3*J3 -> 0 | L3: 3 | M3: C | N3: =SUM(K2:K76) -> 0
A4: 202627 | B4: NNDR1 | C4: 230 | D4: 1 | E4: =UANumber -> 0 | F4: =VLOOKUP(C4,Page1,(15+D4),FALSE) -> 0 | J4: 0.91448 | K4: =+F4*J4 -> 0 | L4: 4 | M4: D | N4: =ABS(FIXED((N3*10000000),0,1)) -> 0
A5: 202627 | B5: NNDR1 | C5: 240 | D5: 1 | E5: =UANumber -> 0 | F5: =VLOOKUP(C5,Page1,(15+D5),FALSE) -> 0 | J5: 0.90026 | K5: =+F5*J5 -> 0 | L5: 5 | M5: E | N5: =VALUE(LEFT(N$4,2)) -> 0
A6: 202627 | B6: NNDR1 | C6: 250 | D6: 1 | E6: =UANumber -> 0 | F6: =VLOOKUP(C6,Page1,(15+D6),FALSE) -> 0 | J6: 0.71712 | K6: =+F6*J6 -> 0 | L6: 6 | M6: F | N6: =VALUE(RIGHT(LEFT(N$4,4),2)) -> 0
A7: 202627 | B7: NNDR1 | C7: 260 | D7: 1 | E7: =UANumber -> 0 | F7: =VLOOKUP(C7,Page1,(15+D7),FALSE) -> 0 | J7: 0.08921 | K7: =+F7*J7 -> 0 | L7: 7 | M7: G | N7: =VALUE(RIGHT(LEFT(N$4,6),2)) -> 0
A8: 202627 | B8: NNDR1 | C8: 270 | D8: 1 | E8: =UANumber -> 0 | F8: =VLOOKUP(C8,Page1,(15+D8),FALSE) -> 0 | J8: 0.11462 | K8: =+F8*J8 -> 0 | L8: 8 | M8: H | N8: =VALUE(RIGHT(LEFT(N$4,8),2)) -> 0
A9: 202627 | B9: NNDR1 | C9: 280 | D9: 1 | E9: =UANumber -> 0 | F9: =VLOOKUP(C9,Page1,(15+D9),FALSE) -> 0 | J9: 0.55797 | K9: =+F9*J9 -> 0 | L9: 9 | M9: I | N9: =VALUE(RIGHT(LEFT(N$4,10),2)) -> 0
A10: 202627 | B10: NNDR1 | C10: 290 | D10: 1 | E10: =UANumber -> 0 | F10: =VLOOKUP(C10,Page1,(15+D10),FALSE) -> 0 | J10: 0.06549 | K10: =+F10*J10 -> 0 | L10: 10 | M10: J | N10: =VALUE(RIGHT(LEFT(N$4,12),2)) -> 0
A11: 202627 | B11: NNDR1 | C11: 300 | D11: 1 | E11: =UANumber -> 0 | F11: =VLOOKUP(C11,Page1,(15+D11),FALSE) -> 0 | J11: 0.42699 | K11: =+F11*J11 -> 0 | L11: 11 | M11: K | N11: =VALUE(RIGHT(LEFT(N$4,14),2)) -> 0
A12: 202627 | B12: NNDR1 | C12: 310 | D12: 1 | E12: =UANumber -> 0 | F12: =VLOOKUP(C12,Page1,(15+D12),FALSE) -> 0 | J12: 0.44879 | K12: =+F12*J12 -> 0 | L12: 12 | M12: L
A13: 202627 | B13: NNDR1 | C13: 320 | D13: 1 | E13: =UANumber -> 0 | F13: =VLOOKUP(C13,Page1,(15+D13),FALSE) -> 0 | J13: 0.42998 | K13: =+F13*J13 -> 0 | L13: 13 | M13: M | N13: =VLOOKUP(N5,letter,2,FALSE)&VLOOKUP(N6,letter,2,FALSE)&VLOOKUP(N7,letter,2,FALSE)&VLOOKUP(N8,letter,2,FALSE)&VLOOKUP(N9,letter,2,FALSE)&VLOOKUP(N10,letter,2,FALSE)&VLOOKUP(N11,letter,2,FALSE) -> ZZZZZZZZZZZZZZ
A14: 202627 | B14: NNDR1 | C14: 330 | D14: 1 | E14: =UANumber -> 0 | F14: =VLOOKUP(C14,Page1,(15+D14),FALSE) -> 0 | J14: 0.87517 | K14: =+F14*J14 -> 0 | L14: 14 | M14: N
A15: 202627 | B15: NNDR1 | C15: 340 | D15: 1 | E15: =UANumber -> 0 | F15: =VLOOKUP(C15,Page1,(15+D15),FALSE) -> 0 | J15: 0.55192 | K15: =+F15*J15 -> 0 | L15: 15 | M15: O
A16: 202627 | B16: NNDR1 | C16: 350 | D16: 1 | E16: =UANumber -> 0 | F16: =VLOOKUP(C16,Page1,(15+D16),FALSE) -> 0 | J16: 0.51603 | K16: =+F16*J16 -> 0 | L16: 16 | M16: P
A17: 202627 | B17: NNDR1 | C17: 360 | D17: 1 | E17: =UANumber -> 0 | F17: =VLOOKUP(C17,Page1,(15+D17),FALSE) -> 0 | J17: 0.38324 | K17: =+F17*J17 -> 0 | L17: 17 | M17: Q
A18: 202627 | B18: NNDR1 | C18: 370 | D18: 1 | E18: =UANumber -> 0 | F18: =VLOOKUP(C18,Page1,(15+D18),FALSE) -> 0 | J18: 0.95936 | K18: =+F18*J18 -> 0 | L18: 18 | M18: R
A19: 202627 | B19: NNDR1 | C19: 380 | D19: 1 | E19: =UANumber -> 0 | F19: =VLOOKUP(C19,Page1,(15+D19),FALSE) -> 0 | J19: 0.85262 | K19: =+F19*J19 -> 0 | L19: 19 | M19: S
A20: 202627 | B20: NNDR1 | C20: 390 | D20: 1 | E20: =UANumber -> 0 | F20: =VLOOKUP(C20,Page1,(15+D20),FALSE) -> 0 | J20: 0.62391 | K20: =+F20*J20 -> 0 | L20: 20 | M20: T
A21: 202627 | B21: NNDR1 | C21: 400 | D21: 1 | E21: =UANumber -> 0 | F21: =VLOOKUP(C21,Page1,(15+D21),FALSE) -> 0 | J21: 0.67191 | K21: =+F21*J21 -> 0 | L21: 21 | M21: U
A22: 202627 | B22: NNDR1 | C22: 410 | D22: 1 | E22: =UANumber -> 0 | F22: =VLOOKUP(C22,Page1,(15+D22),FALSE) -> 0 | J22: 0.53019 | K22: =+F22*J22 -> 0 | L22: 22 | M22: V
A23: 202627 | B23: NNDR1 | C23: 420 | D23: 1 | E23: =UANumber -> 0 | F23: =VLOOKUP(C23,Page1,(15+D23),FALSE) -> 0 | J23: 0.97768 | K23: =+F23*J23 -> 0 | L23: 23 | M23: W
A24: 202627 | B24: NNDR1 | C24: 430 | D24: 1 | E24: =UANumber -> 0 | F24: =VLOOKUP(C24,Page1,(15+D24),FALSE) -> 0 | J24: 0.25224 | K24: =+F24*J24 -> 0 | L24: 24 | M24: X
A25: 202627 | B25: NNDR1 | C25: 440 | D25: 1 | E25: =UANumber -> 0 | F25: =VLOOKUP(C25,Page1,(15+D25),FALSE) -> 0 | J25: 0.77742 | K25: =+F25*J25 -> 0 | L25: 25 | M25: Y
... A76: 202627 | B76: NNDR1 | C76: 450 | D76: 3 | E76: =UANumber -> 0 | F76: =VLOOKUP(C76,Page1,(15+D76),FALSE) -> 0 | J76: 0.00488 | K76: =+F76*J76 -> 0 | L76: 76 | M76: BX
A77: 202627 | B77: NNDR1 | C77: 210 | D77: 4 | E77: =UANumber -> 0 | F77: =VLOOKUP(C77,Page1,(15+D77),FALSE) -> 0 | L77: 77 | M77: BY
A78: 202627 | B78: NNDR1 | C78: 220 | D78: 4 | E78: =UANumber -> 0 | F78: =VLOOKUP(C78,Page1,(15+D78),FALSE) -> 0 | L78: 78 | M78: BZ
A79: 202627 | B79: NNDR1 | C79: 230 | D79: 4 | E79: =UANumber -> 0 | F79: =VLOOKUP(C79,Page1,(15+D79),FALSE) -> 0 | L79: 79 | M79: CA
A80: 202627 | B80: NNDR1 | C80: 240 | D80: 4 | E80: =UANumber -> 0 | F80: =VLOOKUP(C80,Page1,(15+D80),FALSE) -> 0 | L80: 80 | M80: CB
A81: 202627 | B81: NNDR1 | C81: 250 | D81: 4 | E81: =UANumber -> 0 | F81: =VLOOKUP(C81,Page1,(15+D81),FALSE) -> 0 | L81: 81 | M81: CC
A82: 202627 | B82: NNDR1 | C82: 260 | D82: 4 | E82: =UANumber -> 0 | F82: =VLOOKUP(C82,Page1,(15+D82),FALSE) -> 0 | L82: 82 | M82: CD
A83: 202627 | B83: NNDR1 | C83: 270 | D83: 4 | E83: =UANumber -> 0 | F83: =VLOOKUP(C83,Page1,(15+D83),FALSE) -> 0 | L83: 83 | M83: CE
A84: 202627 | B84: NNDR1 | C84: 280 | D84: 4 | E84: =UANumber -> 0 | F84: =VLOOKUP(C84,Page1,(15+D84),FALSE) -> 0 | L84: 84 | M84: CF
A85: 202627 | B85: NNDR1 | C85: 290 | D85: 4 | E85: =UANumber -> 0 | F85: =VLOOKUP(C85,Page1,(15+D85),FALSE) -> 0 | L85: 85 | M85: CG
A86: 202627 | B86: NNDR1 | C86: 300 | D86: 4 | E86: =UANumber -> 0 | F86: =VLOOKUP(C86,Page1,(15+D86),FALSE) -> 0 | L86: 86 | M86: CH
A87: 202627 | B87: NNDR1 | C87: 310 | D87: 4 | E87: =UANumber -> 0 | F87: =VLOOKUP(C87,Page1,(15+D87),FALSE) -> 0 | L87: 87 | M87: CI
A88: 202627 | B88: NNDR1 | C88: 320 | D88: 4 | E88: =UANumber -> 0 | F88: =VLOOKUP(C88,Page1,(15+D88),FALSE) -> 0 | L88: 88 | M88: CJ
... A100: 202627 | B100: NNDR1 | C100: 440 | D100: 4 | E100: =UANumber -> 0 | F100: =VLOOKUP(C100,Page1,(15+D100),FALSE) -> 0 | L100: 0 | M100: ZZ
A101: 202627 | B101: NNDR1 | C101: 450 | D101: 4 | E101: =UANumber -> 0 | F101: =VLOOKUP(C101,Page1,(15+D101),FALSE) -> 0

Sheet Details
I1: 1 | J1: 2 | K1: 3 | L1: 4 | M1: 5 | N1: 6 | O1: 7 | P1: 8 | Q1: 9 | R1: 10 | S1: 11 | T1: 12 | U1: 13
A2: Authority Details | I2: Contacts updated 13 January 2025
A3: Index | B3: UACode | C3: UAName | E3: to be updated! | H3: EnglishWelsh | I3: AuthCode | J3: Authority name | K3: Column1 | L3: CFO Name | M3: address 1 | N3: address 2 | O3: address 3 | P3: address 4 | Q3: Post Code | R3: NDRName | S3: NDRSTDCode | T3: NDRNumber | U3: NDREmail
A4: 1 | B4: 0 | C4: =IF(Lang="Eng",D4,IF(Lang="Cym",E4,"")) -> Please select your authority here | D4: Please select your authority here | E4: Dewiswch eich awdurdod | F4: SQL | G4: Welsh | H4: TRUE | I4: 512 | J4: Isle of Anglesey | K4: Ynys Môn | L4: R Marc Jones | M4: Y Swyddfa Addysg | N4: Ffordd Glanhwfa | O4: Llangefni | P4: Ynys Mon | Q4: LL77 7EY | R4: Llinos Roberts & Meirion Jones | S4: 01248 | T4: 752048 | U4: LlinosRoberts5@ynysmon.gov.uk; MeirionJones2@ynysmon.llyw.cymru
A5: 2 | B5: 512 | C5: =IF(Lang="Eng",D5,IF(Lang="Cym",E5,"")) -> Cyngor Sir Ynys Môn | D5: Cyngor Sir Ynys Môn | E5: Cyngor Sir Ynys Môn | H5: TRUE | I5: 514 | J5: Gwynedd | K5: Gwynedd | L5: Dewi A Morgan | M5: Council Offices | N5: Shirehall Street | O5: Caernarfon | P5: Gwynedd | Q5: LL55 1SH | R5: Bleddyn Jones | S5: 01286 | T5: 682841 | U5: edwardbleddynjones@gwynedd.llyw.cymru
A6: 3 | B6: 514 | C6: =IF(Lang="Eng",D6,IF(Lang="Cym",E6,"")) -> Cyngor Gwynedd | D6: Cyngor Gwynedd | E6: Cyngor Sir Gwynedd | F6: SQL | G6: English | H6: 662 | I6: 516 | J6: Conwy | K6: Conwy | L6: Amanda Hughes | M6: Bodlondeb | N6: (blank) | O6: Conwy | P6: (blank) | Q6: LL32 8DU | R6: Susan Plumb & Alyson Miliziano & Jessica Simmons | S6: 01492 | T6: 576447 | U6: susan.plumb@conwy.gov.uk; alyson.miliziano@conwy.gov.uk; Jessica.simmons@conwy.gov.uk
A7: 4 | B7: 516 | C7: =IF(Lang="Eng",D7,IF(Lang="Cym",E7,"")) -> Conwy County Borough Council | D7: Conwy County Borough Council | E7: Cyngor Bwrdeistref Sirol Conwy | H7: 663 | I7: 518 | J7: Denbighshire | K7: Sir Ddinbych | L7: Steve Gadd | M7: Council Offices | N7: Wynnstay Rd | O7: Ruthin | P7: Denbighshire | Q7: LL15 1YN | R7: Paul Barnes & Leah Gray | S7: 01824 | T7: 712660 | U7: paul.barnes@denbighshire.gov.uk; leah.gray@denbighshire.gov.uk
A8: 5 | B8: 518 | C8: =IF(Lang="Eng",D8,IF(Lang="Cym",E8,"")) -> Denbighshire County Council | D8: Denbighshire County Council | E8: Cyngor Sir Ddinbych | H8: 664 | I8: 520 | J8: Flintshire | K8: Sir y Fflint | L8: Gary Ferguson | M8: County Hall | N8: (blank) | O8: Mold | P8: Flintshire | Q8: CH7 6NB | R8: Vicki Hankin & David Barnes | S8: 01352 | T8: 704833 | U8: vicki.j.hankin@flintshire.gov.uk; david.barnes@flintshire.gov.uk
A9: 6 | B9: 520 | C9: =IF(Lang="Eng",D9,IF(Lang="Cym",E9,"")) -> Flintshire County Council | D9: Flintshire County Council | E9: Cyngor Sir y Fflint | H9: 665 | I9: 522 | J9: Wrexham | K9: Wrecsam | L9: Richard Weigh | M9: The Guildhall | N9: (blank) | O9: Wrexham | P9: (blank) | Q9: LL11 1AY | R9: Lisa Case & Andrew Bolton | S9: 01978 | T9: 292803 | U9: andrew.bolton@wrexham.gov.uk; lisa.case@wrexham.gov.uk
A10: 7 | B10: 522 | C10: =IF(Lang="Eng",D10,IF(Lang="Cym",E10,"")) -> Wrexham County Borough Council | D10: Wrexham County Borough Council | E10: Cyngor Bwrdeistref Sirol Wrecsam | H10: 666 | I10: 524 | J10: Powys | K10: Powys | L10: Jane Thomas | M10: County Hall | N10: (blank) | O10: Llandrindod Wells | P10: (blank) | Q10: LD1 5LG | R10: Andrew Griffiths | S10: 01597 | T10: 827463 | U10: andrew.griffiths@powys.gov.uk
A11: 8 | B11: 524 | C11: =IF(Lang="Eng",D11,IF(Lang="Cym",E11,"")) -> Powys County Council | D11: Powys County Council | E11: Cyngor Sir Powys | H11: 667 | I11: 526 | J11: Ceredigion | K11: Ceredigion | L11: Duncan Hall | M11: Neuadd Cyngor Ceredigion | N11: Penmorfa | O11: Aberaeron | P11: Ceredigion | Q11: SA46 0PA | R11: Rhodri Morris & Ann Ireland | S11: 01970 | T11: 633163 | U11: rhodrim@ceredigion.gov.uk; Ann.Ireland@ceredigion.gov.uk
A12: 9 | B12: 526 | C12: =IF(Lang="Eng",D12,IF(Lang="Cym",E12,"")) -> Ceredigion County Council | D12: Ceredigion County Council | E12: Cyngor Sir Ceredigion | H12: 668 | I12: 528 | J12: Pembrokeshire | K12: Sir Benfro | L12: Jonathan Haswell | M12: County Hall | N12: (blank) | O12: Haverfordwest | P12: (blank) | Q12: SA61 1TP | R12: Heidi Morrison | S12: 01437 | T12: 764551 | U12: heidi.morrison@pembrokeshire.gov.uk
A13: 10 | B13: 528 | C13: =IF(Lang="Eng",D13,IF(Lang="Cym",E13,"")) -> Pembrokeshire County Council | D13: Pembrokeshire County Council | E13: Cyngor Sir Penfro | H13: 669 | I13: 530 | J13: Carmarthenshire | K13: Sir Gaerfyrddin | L13: Chris Moore | M13: County Hall | N13: (blank) | O13: Carmarthen | P13: (blank) | Q13: SA31 1JP | R13: Ann Thomas & Steffan Thomas | S13: 01544 | T13: 228740 | U13: AnThomas@Carmarthenshire.gov.uk; SWThomas@carmarthenshire.gov.uk
A14: 11 | B14: 530 | C14: =IF(Lang="Eng",D14,IF(Lang="Cym",E14,"")) -> Carmarthenshire County Council | D14: Carmarthenshire County Council | E14: Cyngor Sir Gaerfyrddin | H14: 670 | I14: 532 | J14: Swansea | K14: Abertawe | L14: Ben Smith | M14: Civic Centre | N14: Oystermouth Road | O14: Swansea | P14: (blank) | Q14: SA1 3SN | R14: Julian Morgans & Paula Lewis | S14: 01792 | T14: 635890 | U14: julian.morgans@swansea.gov.uk; paula.lewis@swansea.gov.uk
A15: 12 | B15: 532 | C15: =IF(Lang="Eng",D15,IF(Lang="Cym",E15,"")) -> City and County of Swansea | D15: City and County of Swansea | E15: Cyngor Sir a Dinas Abertawe | H15: 671 | I15: 534 | J15: Neath Port Talbot | K15: Castell-nedd Port Talbot | L15: Huw Jones | M15: Civic Centre | N15: (blank) | O15: Port Talbot | P15: (blank) | Q15: SA13 1PJ | R15: Huw Jones & Ann Hinder | S15: 01639 | T15: 763634 | U15: h.jones@npt.gov.uk; a.hinder@npt.gov.uk
A16: 13 | B16: 534 | C16: =IF(Lang="Eng",D16,IF(Lang="Cym",E16,"")) -> Neath Port Talbot County Borough Council | D16: Neath Port Talbot County Borough Council | E16: Cyngor Bwrdeistref Sirol Castell-nedd Port Talbot | H16: 672 | I16: 536 | J16: Bridgend | K16: Pen-y-bont ar Ogwr | L16: Carys Lord | M16: Civic Offices | N16: Angel Street | O16: Bridgend | P16: (blank) | Q16: CF31 4WB | R16: Helen Rodgers | S16: 01656 | T16: 643349 | U16: helen.rodgers@bridgend.gov.uk; ctaxen@bridgend.gov.uk
A17: 14 | B17: 536 | C17: =IF(Lang="Eng",D17,IF(Lang="Cym",E17,"")) -> Bridgend County Borough Council | D17: Bridgend County Borough Council | E17: Cyngor Bwrdeistref Sirol Pen-y-bont ar Ogwr | H17: 673 | I17: 538 | J17: Vale of Glamorgan | K17: Bro Morgannwg | L17: Matt Bowmer | M17: Civic Offices | N17: Holton Road | O17: Barry | P17: Vale of Glamorgan | Q17: CF63 4RU | R17: Suzanne Jones & Andrew Saunders | S17: 01446 | T17: 709310 | U17: spjones@valeofglamorgan.gov.uk; nndr@valeofglamorgan.gov.uk; ajsaunders@valeofglamorgan.gov.uk
A18: 15 | B18: 538 | C18: =IF(Lang="Eng",D18,IF(Lang="Cym",E18,"")) -> The Vale of Glamorgan Council | D18: The Vale of Glamorgan Council | E18: Cyngor Bwrdeistref Sirol Bro Morgannwg | H18: 674 | I18: 540 | J18: Rhondda Cynon Taf | K18: Rhondda Cynon Taf | L18: Barrie J Davies | M18: The Pavilions | N18: Cambrian Park | O18: Clydach Vale | P18: Tonypandy | Q18: CF40 2XX | R18: Matthew Phillips | S18: 01443 | T18: 680746 | U18: matthew.d.phillips@rhondda-cynon-taff.gov.uk
... A25: 22 | B25: 550 | C25: =IF(Lang="Eng",D25,IF(Lang="Cym",E25,"")) -> Newport City Borough Council | D25: Newport City Borough Council | E25: Cyngor Dinas Casnewydd | H25: 681 | I25: 552 | J25: Cardiff | K25: Caerdydd | L25: Christopher Lee | M25: County Hall | N25: Atlantic Wharf | O25: Cardiff | P25: (blank) | Q25: CF10 4UW | R25: Sally Ormiston & Caroline Dulson | S25: 029 | T25: 20871320 | U25: sormiston@cardiff.gov.uk; c.dulson@cardiff.gov.uk
A26: 23 | B26: 552 | C26: =IF(Lang="Eng",D26,IF(Lang="Cym",E26,"")) -> Cardiff County Council | D26: Cardiff County Council | E26: Cyngor Caerdydd
B29: =VLOOKUP(FrontPage!$C$12,Authority,2,FALSE) -> 0 | C29: =IF(UANumber=0,"",IF(FrontPage!P7=2,VLOOKUP(UANumber,Addresses,2,FALSE),VLOOKUP(UANumber,Addresses,3,FALSE)))
D33: AuthCode | E33: Authority name | F33: Authority name Welsh | G33: NUTSCode | H33: Vendor-Payments | I33: Customer-Receipts
D34: 512 | E34: Isle of Anglesey | F34: Ynys Môn | G34: 1.1.01.512 | H34: 20000299 | I34: 20000198
D35: 514 | E35: Gwynedd | F35: Gwynedd | G35: 1.1.02.514 | H35: 20000253 | I35: 20000406
D36: 516 | E36: Conwy | F36: Conwy | G36: 1.1.03.516 | H36: 20000255 | I36: 20000387
D37: 518 | E37: Denbighshire | F37: Sir Ddinbych | G37: 1.1.03.518 | H37: 20000309 | I37: 20000118
D38: 520 | E38: Flintshire | F38: Sir y Fflint | G38: 1.2.09.520 | H38: 20000308 | I38: 20000580
D39: 522 | E39: Wrexham | F39: Wrecsam | G39: 1.2.09.522 | H39: 20000311 | I39: 20000370
D40: 524 | E40: Powys | F40: Powys | G40: 1.2.10.524 | H40: 20000298 | I40: 20000420
D41: 526 | E41: Ceredigion | F41: Ceredigion | G41: 1.1.04.526 | H41: 20000370 | I41: 20000075
D42: 528 | E42: Pembrokeshire | F42: Sir Benfro | G42: 1.1.04.528 | H42: 20000295 | I42: 20000446
D43: 530 | E43: Carmarthenshire | F43: Sir Gaerfyrddin | G43: 1.1.04.530 | H43: 20000328 | I43: 20000384
D44: 532 | E44: Swansea | F44: Abertawe | G44: 1.1.05.532 | H44: 20000304 | I44: 20000081
D45: 534 | E45: Neath Port Talbot | F45: Castell-nedd Port Talbot | G45: 1.1.06.534 | H45: 20000326 | I45: 20000242
... D55: 552 | E55: Cardiff | F55: Caerdydd | G55: 1.2.11.552 | H55: 20000115 | I55: 20000047

Sheet Language
A1: Form | B1: Where | C1: CurrentNo | D1: newNo | E1: Eng | F1: Cym | G1: Use | H1: .
A2: ALL | B2: Front | E2: ="23 FEBRUARY "&LEFT(year,4) -> 23 FEBRUARY 2026 | F2: ="23 CHWEFROR "&LEFT(year,4) -> 23 CHWEFROR 2026 | G2: =IF(Lang="Eng",E2,IF(Lang="Cym",F2,"")) -> 23 FEBRUARY 2026 | H2: .
A3: ALL | B3: Front | E3: Billing Authorities only | F3: Awdurdodau bilio un unig | G3: =IF(Lang="Eng",E3,IF(Lang="Cym",F3,"")) -> Billing Authorities only | H3: .
A4: ALL | B4: Front | E4: E-mail: | F4: E-bost: | G4: =IF(Lang="Eng",E4,IF(Lang="Cym",F4,"")) -> E-mail: | H4: .
A5: ALL | B5: Front | E5: For any enquiries please contact: | F5: Dylid cyfeirio unrhyw ymholiadau am y rheoliadau at: | G5: =IF(Lang="Eng",E5,IF(Lang="Cym",F5,"")) -> For any enquiries please contact: | H5: .
A6: ALL | B6: Front | E6: FOR RETURN BY | F6: I'W DYCHWELYD ERBYN | G6: =IF(Lang="Eng",E6,IF(Lang="Cym",F6,"")) -> FOR RETURN BY | H6: .
A7: ALL | B7: Front | E7: Name: | F7: Enw: | G7: =IF(Lang="Eng",E7,IF(Lang="Cym",F7,"")) -> Name: | H7: .
A8: ALL | B8: Front | E8: ndrforms@gov.wales | F8: FfurflenniNDR@llyw.cymru | G8: =IF(Lang="Eng",E8,IF(Lang="Cym",F8,"")) -> ndrforms@gov.wales | H8: .
A9: ALL | B9: Front | E9: Non-domestic rates provisional contributions return | F9: Ffurflen cyfraniadau dros dro trethi annomestig cenedlaethol | G9: =IF(Lang="Eng",E9,IF(Lang="Cym",F9,"")) -> Non-domestic rates provisional contributions return | H9: .
A10: ALL | B10: Front | E10: Number and extension: | F10: Rhif ac estyniad: | G10: =IF(Lang="Eng",E10,IF(Lang="Cym",F10,"")) -> Number and extension: | H10: .
A11: ALL | B11: Front | E11: Please amend the details for your authority below if necessary: | F11: Diwygiwch fanylion eich awdurdod isod os oes angen: | G11: =IF(Lang="Eng",E11,IF(Lang="Cym",F11,"")) -> Please amend the details for your authority below if necessary: | H11: .
A12: ALL | B12: Front | E12: Please email a completed spreadsheet to: | F12: Ar ôl ei chwblhau, dylai'r daenlen NDR1 ei e-bostio i: | G12: =IF(Lang="Eng",E12,IF(Lang="Cym",F12,"")) -> Please email a completed spreadsheet to: | H12: .
A13: ALL | B13: Front | E13: PLEASE ENSURE THAT ALL BLANK CELLS ARE POPULATED WITH ZEROS. | F13: DYLECH ROI SERO YM MHOB CELL WAG. | G13: =IF(Lang="Eng",E13,IF(Lang="Cym",F13,"")) -> PLEASE ENSURE THAT ALL BLANK CELLS ARE POPULATED WITH ZEROS. | H13: .
A14: ALL | B14: Front | E14: Please give the name and telephone number of the person who we may contact in case of queries:- | F14: Rhowch enw a rhif ffôn y person y gallwn gysylltu ag ef os bydd gennym unrhyw ymholiadau. | G14: =IF(Lang="Eng",E14,IF(Lang="Cym",F14,"")) -> Please give the name and telephone number of the person who we may contact in case of queries:- | H14: .
... A25: ALL | B25: Page1 | E25: Preliminary information (lines 210 and 220) | F25: Gwybodaeth ragarweiniol (llinellau 1 a 2) | G25: =IF(Lang="Eng",E25,IF(Lang="Cym",F25,"")) -> Preliminary information (lines 210 and 220) | H25: .
A26: ALL | B26: Page1 | C26: 1 | D26: 210 | E26: ="Number of hereditaments on the rating list as at 31 December " -> Number of hereditaments on the rating list as at 31 December | F26: ="Nifer yr hereditementau ar y rhestr ardrethu ar 31 Rhagfyr " -> Nifer yr hereditementau ar y rhestr ardrethu ar 31 Rhagfyr | G26: =IF(Lang="Eng",E26,IF(Lang="Cym",F26,"")) -> Number of hereditaments on the rating list as at 31 December | H26: .
A27: NDR1 | B27: Page1 | C27: 2 | D27: 220 | E27: ="Aggregate rateable value on the rating list as at 31 December" -> Aggregate rateable value on the rating list as at 31 December | F27: ="Cyfanswm gwerth ardrethol ar y rhestr ardrethu ar 31 Rhagfyr " -> Cyfanswm gwerth ardrethol ar y rhestr ardrethu ar 31 Rhagfyr | G27: =IF(Lang="Eng",E27,IF(Lang="Cym",F27,"")) -> Aggregate rateable value on the rating list as at 31 December | H27: .
A28: NDR1 | B28: Page1 | C28: 3 | D28: 230 | E28: Gross calculated rate yield | F28: Cynnyrch cyfradd gros wedi'i gyfrifo | G28: =IF(Lang="Eng",E28,IF(Lang="Cym",F28,"")) -> Gross calculated rate yield | H28: .
A29: NDR1 | B29: Page1 | E29: Mandatory reliefs (show estimated lost yield as positive) | F29: Rhyddhad gorfodol (defnyddiwch ffigur positif i nodi’ch amcangyfrif o’r arenillion a gollwyd) | G29: =IF(Lang="Eng",E29,IF(Lang="Cym",F29,"")) -> Mandatory reliefs (show estimated lost yield as positive) | H29: .
A30: NDR1 | B30: Page1 | C30: 4 | D30: 240 | E30: Schedule 4ZA para 2(2)(a) (charitable occupations) | F30: Atodlen 4ZA para 2(2)(a) (galwedigaethau elusennol) | G30: =IF(Lang="Eng",E30,IF(Lang="Cym",F30,"")) -> Schedule 4ZA para 2(2)(a) (charitable occupations) | H30: .
A31: NDR1 | B31: Page1 | C31: 5 | D31: 250 | E31: Schedule 4ZA para 2(2)(b) (community amateur sports clubs) | F31: Atodlen 4ZA para 2(2)(b) (clybiau chwaraeon amatur cymunedol) | G31: =IF(Lang="Eng",E31,IF(Lang="Cym",F31,"")) -> Schedule 4ZA para 2(2)(b) (community amateur sports clubs) | H31: .
A32: NDR1 | B32: Page1 | C32: 6.2 | D32: 260 | E32: Schedule 4ZA para 4 (small business rates relief post office element) | F32: Atodlen 4ZA para 4 (elfen swyddfa bost rhyddhad ardrethi busnesau bach) | G32: =IF(Lang="Eng",E32,IF(Lang="Cym",F32,"")) -> Schedule 4ZA para 4 (small business rates relief post office element) | H32: .
A33: NDR1 | B33: Page1 | C33: 6.3 | D33: 270 | E33: Schedule 4ZA para 4 (small business rates relief childcare element) | F33: Atodlen 4ZA para 4 (elfen gofal plant rhyddhad ardrethi busnesau bach) | G33: =IF(Lang="Eng",E33,IF(Lang="Cym",F33,"")) -> Schedule 4ZA para 4 (small business rates relief childcare element) | H33: .
A34: NDR1 | B34: Page1 | C34: 6.4 | D34: 280 | E34: Schedule 4ZA para 4 (small business rates relief excluding childcare/post office) | F34: Atodlen 4ZA para 4 (rhyddhad ardrethi busnesau bach heb gynnwys elfennau gofal plant/swyddfa bost) | G34: =IF(Lang="Eng",E34,IF(Lang="Cym",F34,"")) -> Schedule 4ZA para 4 (small business rates relief excluding childcare/post office) | H34: .
A35: NDR1 | B35: Page1 | C35: 6.9 | D35: 290 | E35: Total small business rates relief (sum of lines 260 to 280) | F35: Rhyddhad ardrethi busnesau bach (swm llinellau 260 i 280) | G35: =IF(Lang="Eng",E35,IF(Lang="Cym",F35,"")) -> Total small business rates relief (sum of lines 260 to 280) | H35: .
A36: NDR1 | B36: Page1 | C36: 7 | D36: 300 | E36: section 44A (partly occupied properties) | F36: adran 44A (eiddo a feddiannir yn rhannol) | G36: =IF(Lang="Eng",E36,IF(Lang="Cym",F36,"")) -> section 44A (partly occupied properties) | H36: .
A37: NDR1 | B37: Page1 | C37: 8 | D37: 310 | E37: section 45(1)(d) (empty premises) | F37: adran 45(1)(d) (eiddo wag) | G37: =IF(Lang="Eng",E37,IF(Lang="Cym",F37,"")) -> section 45(1)(d) (empty premises) | H37: .
A38: NDR1 | B38: Page1 | C38: 8.4 | D38: 320 | E38: Schedule 4ZB para 2 (charitable relief for empty premises) | F38: Atodlen 4ZB para 2 (galwedigaethau elusennol eiddo gwag) | G38: =IF(Lang="Eng",E38,IF(Lang="Cym",F38,"")) -> Schedule 4ZB para 2 (charitable relief for empty premises) | H38: .
A39: NDR1 | B39: Page1 | C39: 8.5 | D39: 330 | E39: section 58 (revaluation transitional relief) | F39: adran 58 (rhyddhad trosiannol ailbrisio) | G39: =IF(Lang="Eng",E39,IF(Lang="Cym",F39,"")) -> section 58 (revaluation transitional relief) | H39: .
A40: NDR1 | B40: Page1 | C40: 8.6 | D40: 340 | E40: Schedule 4ZA para 7 (public lavatories relief) | F40: Atodlen 4ZA para 7 (rhyddhad toiledau cyhoeddus) | G40: =IF(Lang="Eng",E40,IF(Lang="Cym",F40,"")) -> Schedule 4ZA para 7 (public lavatories relief) | H40: .
A41: NDR1 | B41: Page1 | C41: 8.8 | D41: 350 | E41: Schedule 4ZA para 6 (heat networks relief) | F41: Atodlen 4ZA para 6 (rhyddhad rhwydweithiau gwresogi) | G41: =IF(Lang="Eng",E41,IF(Lang="Cym",F41,"")) -> Schedule 4ZA para 6 (heat networks relief) | H41: .
... A44: NDR1 | B44: Page1 | C44: 10 | D44: 380 | E44: Gross amount - gross yield adjusted by 'buoyancy' in rateable value | F44: Swm gros – arenillion gros wedi’u haddasu ar gyfer ‘hydwythedd’ rhagamcanol mewn gwerthoedd ardrethol | G44: =IF(Lang="Eng",E44,IF(Lang="Cym",F44,"")) -> Gross amount - gross yield adjusted by 'buoyancy' in rateable value | H44: .
A45: ALL | B45: Page1 | E45: Discretionary reliefs (show estimated lost yield as positive) | F45: Rhyddhad dewisol (defnyddiwch ffigur positif wrth nodi’ch amcangyfrif o’r arenillion a gollwyd) | G45: =IF(Lang="Eng",E45,IF(Lang="Cym",F45,"")) -> Discretionary reliefs (show estimated lost yield as positive) | H45: .
A46: NDR1 | B46: Page1 | C46: 11 | D46: 390 | E46: reductions under section 47 (charitable occupations) | F46: Rhyddhad yn ôl disgresiwn - gostyngiadau o dan adran 47 (galwedigaethau elusennol) | G46: =IF(Lang="Eng",E46,IF(Lang="Cym",F46,"")) -> reductions under section 47 (charitable occupations) | H46: .
A47: NDR1 | B47: Page1 | C47: 12 | D47: 400 | E47: reductions under section 47 (community amateur sports clubs) | F47: Rhyddhad dewisol - gostyngiadau o dan adran 47 (clybiau chwaraeon amatur cymunedol) | G47: =IF(Lang="Eng",E47,IF(Lang="Cym",F47,"")) -> reductions under section 47 (community amateur sports clubs) | H47: .
A48: NDR1 | B48: Page1 | C48: 13 | D48: 410 | E48: reductions under section 47 (non-profit making bodies) | F48: Rhyddhad yn ôl disgresiwn - gostyngiadau o dan adran 47 (cyrff nad ydynt yn gwneud elw) | G48: =IF(Lang="Eng",E48,IF(Lang="Cym",F48,"")) -> reductions under section 47 (non-profit making bodies) | H48: .
A49: NDR1 | B49: Page1 | C49: 15 | D49: 420 | E49: Net rate yield (sum of rows 380 to 410) | F49: Cynnyrch cyfradd net (swm rhesi 10 i 13) | G49: =IF(Lang="Eng",E49,IF(Lang="Cym",F49,"")) -> Net rate yield (sum of rows 380 to 410) | H49: .
A50: NDR1 | B50: Page1 | C50: 16 | D50: 430 | E50: Allowance for losses in collection (row 420 x -1.0%) | F50: Darpariaeth ar gyfer colledion wrth gasglu (llinell 15 x -1.0%) | G50: =IF(Lang="Eng",E50,IF(Lang="Cym",F50,"")) -> Allowance for losses in collection (row 420 x -1.0%) | H50: .
A51: NDR1 | B51: Page1 | C51: 17 | D51: 440 | E51: Costs of collection allowance (row 210 x -£39.50 + row 220 x -0.00087) | F51: Costau lwfans casglu (rhes 1 x -£39.50 + rhes 2 x -0.00087) | G51: =IF(Lang="Eng",E51,IF(Lang="Cym",F51,"")) -> Costs of collection allowance (row 210 x -£39.50 + row 220 x -0.00087) | H51: .
A52: NDR1 | B52: Page1 | C52: 18 | D52: 450 | E52: Provisional contribution to the pool (sum of rows 420 to 440) | F52: Cyfraniad dros dro i'r gronfa (swm rhesi 15 i 17) | G52: =IF(Lang="Eng",E52,IF(Lang="Cym",F52,"")) -> Provisional contribution to the pool (sum of rows 420 to 440) | H52: .
...

Sheet Guidance Notes - English
B2: Non_x0002_domestic rates data collection provisional figures NDR1
B3: ="guidance 20"&MID(year,3,2)&" - 20"&RIGHT(year,2) -> guidance 2026 - 2027
B5: Guidance for local authorities on how to calculate and submit their provisional non-domestic rating contribution.
B6: Contents
B8: Introduction
B9: Preliminary information
B10: Multipliers
B11: Gross calculated rate yield
B13: Mandatory reliefs
B14: Charities
B15: Registered community amateur sports clubs
B16: Small business rate relief
B17: Partly occupied premises
B18: Empty property
... B145: The Chief Finance Officer must further certify that they are satisfied that the authority has made proper arrangements for securing economy, efficiency and effectiveness in relation to the collection of non‑domestic rates in order that it can claim the losses in collection allowance under paragraph 6 of Schedule 1 of the Regulations. Once the form has been certified it must be returned by 23 February 2026 in accordance with the instructions provided.

Sheet Nodiadau Cyfarwyddyd - Cymraeg
B2: Ardrethi annomestig ffigurau dros dro NDR1
B3: ="canllawiau 20"&MID(year,3,2)&" - 20"&RIGHT(year,2) -> canllawiau 2026 - 2027
B5: Canllawiau i awdurdodau lleol ar sut i gyfrifo a chyflwyno eu cyfraniad ardrethi annomestig dros dro.
B6: Cynnwys
B8: Rhagymadrodd
B9: Gwybodaeth ragarweiniol
B10: Lluosyddion
B11: Arenillion ardrethu gros a gyfrifwyd
B13: Rhyddhad gorfodol
B14: Elusennau
B15: Clybiau chwaraeon amatur cymunedol cofrestredig
B16: Rhyddhad Ardrethi Busnesau Bach
B17: Eiddo a feddiannir yn rhannol
B18: Eiddo gwag
... B145: Hyd eithaf ei wybodaeth a’i gred. Mae’n rhaid i’r Prif Swyddog Cyllid ardystio ymhellach ei fod yn fodlon bod yr awdurdod wedi gwneud trefniadau priodol ar gyfer sicrhau economi, effeithlonrwydd ac effeithiolrwydd o ran casglu ardrethi annomestig er mwyn iddo allu hawlio’r colledion yn y lwfans casglu dan baragraff 6 o Atodlen 1 y Rheoliadau. Ar ôl i’r ffurflen gael ei hardystio, mae’n rhaid ei dychwelyd erbyn 23 Chwefror 2026 yn unol â’r cyfarwyddiadau a roddwyd.
