Workbook

Sheet INTRODUCTION
B1: Annex 05: Options appraisal template (blank)
B3: Option Appraisal Template
B5: Background: The spreasheets included in this file are for general use in calculating Net Present Costs in economic appraisals. The file assumes that users have a basic knowledge and understanding of the HM Treasury Green Book and Microsoft Excel. The spreadsheets are only intended as a guide and can be adapted to the needs of the specific project in hand. The quality of the spreadsheets' outputs are ultimately dependent upon the quality of the information that is inputted by users. Therefore, in order to maintain transparency, it is crucial that the sources and assumptions underlying each cost and benefit line included in the economic appraisals are explained in full. A table marked 'Assumptions' is included at the end of each cost and benefit line for this purpose. Further information can also be provided in an appendix to the business case that supports the project that is under appraisal. As noted in the HM Treasury Green Book, the effort applied at each step of the appraisal should be proportionate to the funds involved, outcomes at stake and the time available. And as the stages of a business case progress, data must be refined to become more specific and accurate.
B16: How to Use the Spreadsheets: The first step is to save this file under another name so that the original may be kept blank for future use. The new file may then be adapted to the needs of the specific project in hand. For example, users may wish to create a new sheet for additional options that require appraisal or separate spreadsheets for performing sensitivty analyses.
B22: Inserting Values into the Spreadsheets: The spreadsheets contain all the formulae required to complete the required calculations (e.g. discounting, Net Present Costs and Equivalent Annual Values). All the user has to do is insert the relevant costs and benefits in the appropriate blank white cells for each option. All the required totals and sub-totals should then update automatically. Users can add extra rows if there are a large number of cost or benefit items to include - but will need to check that the relevant totals and sub-totals still compute. Users are required to manually input an adjustment for optimism bias for each option. This adjustment is applied to the initial capital costs of an option. Users will also have to select an appropriate time period for each option that is under appraisal. Specific guidance on this issue is provided where the user is required to input an appropriate time period for the appraisal.
B32: Please Note: Cells that display a red triangle in the top right hand corner contain further information and guidance for users on what to include. The information and guidance can be accessed by hovering the cursor over the cell of interest. Users are strongly encouraged to read the additional guidance provided. If spreadsheets users are still unsure of what to include after reading the additional guidance provided, specific questions can be emailed to the Sustainable Communities for Learning Mailbox: sustainablecommunitiesforlearning@gov.wales

Sheet DCF SUMMARY SHEET
C2: DISCOUNTED CASHFLOW (DCF) SUMMARY SHEET
C5: Discounted Cashflow (DCF) Summary Sheet | H5: Inc. Optimism Bias | K5: Excl. Optimism Bias
C8: Option No. | D8: Option Name/Description | H8: NPC (£m) | I8: EAC (£m) | K8: NPC (£m) | L8: EAC (£m)
C11: Option 1: | D11: Do Nothing (or Do Minimum) | H11: ='OPTION 1 - DO MINIMUM'!$C$43 -> 0 | I11: ='OPTION 1 - DO MINIMUM'!$C$44 -> 0 | K11: ='OPTION 1 - DO MINIMUM'!$C$55 -> 0 | L11: ='OPTION 1 - DO MINIMUM'!$C$56 -> 0
C14: Option 2: | D14: Option description … | H14: ='OPTION 2'!$C$43 -> 0 | I14: ='OPTION 2'!$C$44 -> 0 | K14: ='OPTION 2'!$C$55 -> 0 | L14: ='OPTION 2'!$C$56 -> 0
C17: Option 3: | D17: Option description … | H17: ='OPTION 3'!$C$43 -> 0 | I17: ='OPTION 3'!$C$44 -> 0 | K17: ='OPTION 3'!$C$55 -> 0 | L17: ='OPTION 3'!$C$56 -> 0
C20: Option (...) | D20: Add options as necessary … | H20: … | I20: … | K20: … | L20: …
C24: DCF = Discounted Cashflow
C25: NPC = Net Present Cost
C26: EAC = Equivalent Annual Cost

Sheet OPTION 1 - DO MINIMUM
B2: OPTION 1: | C2: Do Nothing (or Do Minimum) Please read comment | K2: For any inputs entered into the template, please add a note or comment in the relevant cell explaining the context, rationale and source of the figures used. Where a formula is used within an input cell, please also include a short comment describing what the formula is doing and why it has been applied. This will help ensure clarity, transparency and accuracy in the NPV calculation.
B3: Option Description: | C3: Add description ….
B7: Appraisal Period | C7: 0 | E7: Year '0' must be counted as a valid year (eg, 0-29 years = 30 years)
C9: Sum of | E9: 1st year | I9: 5th year | N9: 10th year | S9: 15th year | X9: 20th year | AC9: 25th year | AH9: 30th year | AM9: 35th year | AR9: 40th year | AW9: 45th year | BB9: 50th year | BG9: 55th year | BL9: 60th year
C10: Cashflows | E10: 2013 | F10: =E10+1 -> 2014 | G10: =F10+1 -> 2015 | H10: =G10+1 -> 2016 | I10: =H10+1 -> 2017 | J10: =I10+1 -> 2018 | K10: =J10+1 -> 2019 | L10: =K10+1 -> 2020 | M10: =L10+1 -> 2021 | ... BL10: =BK10+1 -> 2072
E11: 0 | F11: =E11+1 -> 1 | G11: =F11+1 -> 2 | H11: =G11+1 -> 3 | I11: =H11+1 -> 4 | J11: =I11+1 -> 5 | K11: =J11+1 -> 6 | L11: =K11+1 -> 7 | M11: =L11+1 -> 8 | ... BL11: =BK11+1 -> 59
C12: £m | E12: £m | F12: £m | G12: £m | H12: £m | I12: £m | J12: £m | K12: £m | L12: £m | M12: £m | N12: £m | O12: £m | P12: £m | Q12: £m | R12: £m | S12: £m | T12: £m | U12: £m | V12: £m | W12: £m | X12: £m | Y12: £m | Z12: £m | AA12: £m | AB12: £m | AC12: £m | AD12: £m | AE12: £m | AF12: £m | AG12: £m | AH12: £m | AI12: £m | AJ12: £m | AK12: £m | AL12: £m | AM12: £m | AN12: £m | AO12: £m | AP12: £m | AQ12: £m | AR12: £m | AS12: £m | AT12: £m | AU12: £m | AV12: £m | AW12: £m | AX12: £m | AY12: £m | AZ12: £m | BA12: £m | BB12: £m | BC12: £m | BD12: £m | BE12: £m | BF12: £m | BG12: £m | BH12: £m | BI12: £m | BJ12: £m | BK12: £m | BL12: £m
BO13: ASSUMPTIONS
B14: CASHFLOWS (Please read comments) | BO14: The basic assumptions underlying each cost line in the economic appraisals should be recorded below:
B16: PROPERTY & OPPORTUNITY COST
B17: Opening Value | C17: =SUM(E17:BL17) -> 0 | BO17: e.g. based on recent property valuation and estimated value of surrounding land
B18: Transactions | C18: =SUM(E18:BL18) -> 0 | BO18: …
B19: Residual Value | C19: =SUM(E19:BL19) -> 0 | BO19: …
BO20: -
B21: TOTAL PROPERTY & OPP. COSTS | C21: =SUM(C17:C19) -> 0 | E21: =SUM(E17:E19) -> 0 | F21: =SUM(F17:F19) -> 0 | G21: =SUM(G17:G19) -> 0 | H21: =SUM(H17:H19) -> 0 | I21: =SUM(I17:I19) -> 0 | J21: =SUM(J17:J19) -> 0 | K21: =SUM(K17:K19) -> 0 | L21: =SUM(L17:L19) -> 0 | ... BL21: =SUM(BL17:BL19) -> 0 | BO21: -
BO22: -
B23: CAPITAL COST (examples provided - not exhaustive) | BO23: -
B24: Initial Capital Costs | C24: =SUM(E24:BL24) -> 0
B25: Optimism bias | C25: =SUM(E25:BL25) -> 0 | BO25: …
B26: Lifecycle Costs | C26: =SUM(E26:BL26) -> 0 | BO26: …
B27: Other Capital Costs | C27: =SUM(E27:BL27) -> 0 | BO27: …
BO28: -
B29: TOTAL CAPITAL | C29: =SUM(C24:C27) -> 0 | E29: =SUM(E24:E27) -> 0 | F29: =SUM(F24:F27) -> 0 | G29: =SUM(G24:G27) -> 0 | H29: =SUM(H24:H27) -> 0 | I29: =SUM(I24:I27) -> 0 | J29: =SUM(J24:J27) -> 0 | K29: =SUM(K24:K27) -> 0 | L29: =SUM(L24:L27) -> 0 | ... BL29: =SUM(BL24:BL27) -> 0 | BO29: -
B32: REVENUE COST (examples provided - not exhaustive)
B33: Salaries | C33: =SUM(E33:BL33) -> 0 | BO33: …
B34: Building Running Costs | C34: =SUM(E34:BL34) -> 0 | BO34: …
B35: Other Revenue Costs | C35: =SUM(E35:BL35) -> 0 | BO35: …
BO36: -
B37: TOTAL REVENUE | C37: =SUM(C33:C35) -> 0 | E37: =SUM(E33:E35) -> 0 | F37: =SUM(F33:F35) -> 0 | G37: =SUM(G33:G35) -> 0 | H37: =SUM(H33:H35) -> 0 | I37: =SUM(I33:I35) -> 0 | J37: =SUM(J33:J35) -> 0 | K37: =SUM(K33:K35) -> 0 | L37: =SUM(L33:L35) -> 0 | ... BL37: =SUM(BL33:BL35) -> 0 | BO37: -
BO38: -
B39: TOTAL COST (Cap & Rev) | C39: =SUM(C21,C29,C37) -> 0 | E39: =SUM(E21,E29,E37) -> 0 | F39: =SUM(F21,F29,F37) -> 0 | G39: =SUM(G21,G29,G37) -> 0 | H39: =SUM(H21,H29,H37) -> 0 | I39: =SUM(I21,I29,I37) -> 0 | J39: =SUM(J21,J29,J37) -> 0 | K39: =SUM(K21,K29,K37) -> 0 | L39: =SUM(L21,L29,L37) -> 0 | ... BL39: =SUM(BL21,BL29,BL37) -> 0 | BO39: -
BO40: -
B41: Discounted Cashflow | C41: =SUM(E41:BL41) -> 0 | E41: =E39*E48 -> 0 | F41: =F39*F48 -> 0 | G41: =G39*G48 -> 0 | H41: =H39*H48 -> 0 | I41: =I39*I48 -> 0 | J41: =J39*J48 -> 0 | K41: =K39*K48 -> 0 | L41: =L39*L48 -> 0 | ... BL41: =BL39*BL48 -> 0 | BO41: -
B43: Net Present Cost (NPC) | C43: =SUM(E41:BL41) -> 0
B44: Equivalent Annual Cost (EAC) | C44: =$C$43/$C$52 -> 0
E46: =E11 -> 0 | F46: =F11 -> 1 | G46: =G11 -> 2 | H46: =H11 -> 3 | I46: =I11 -> 4 | J46: =J11 -> 5 | K46: =K11 -> 6 | L46: =L11 -> 7 | ... BL46: =BL11 -> 59
B47: Disount Rate | E47: 0.035 | F47: 0.035 | G47: 0.035 | H47: 0.035 | I47: 0.035 | J47: 0.035 | K47: 0.035 | L47: 0.035 | M47: 0.035 | N47: 0.035 | O47: 0.035 | P47: 0.035 | Q47: 0.035 | R47: 0.035 | S47: 0.035 | T47: 0.035 | U47: 0.035 | V47: 0.035 | W47: 0.035 | X47: 0.035 | Y47: 0.035 | Z47: 0.035 | AA47: 0.035 | AB47: 0.035 | AC47: 0.035 | AD47: 0.035 | AE47: 0.035 | AF47: 0.035 | AG47: 0.035 | AH47: 0.035 | AI47: 0.035 | AJ47: 0.03 | AK47: 0.03 | AL47: 0.03 | AM47: 0.03 | AN47: 0.03 | AO47: 0.03 | AP47: 0.03 | AQ47: 0.03 | AR47: 0.03 | AS47: 0.03 | AT47: 0.03 | AU47: 0.03 | AV47: 0.03 | AW47: 0.03 | AX47: 0.03 | AY47: 0.03 | AZ47: 0.03 | BA47: 0.03 | BB47: 0.03 | BC47: 0.03 | BD47: 0.03 | BE47: 0.03 | BF47: 0.03 | BG47: 0.03 | BH47: 0.03 | BI47: 0.03 | BJ47: 0.03 | BK47: 0.03 | BL47: 0.03
B48: Discount Factor | E48: =1/((1+E47)^E11) -> 1 | F48: =1/((1+F47)^F11) -> 0.96618357 | G48: =1/((1+G47)^G11) -> 0.9335107 | H48: =1/((1+H47)^H11) -> 0.90194271 | I48: =1/((1+I47)^I11) -> 0.87144223 | J48: =1/((1+J47)^J11) -> 0.84197317 | K48: =1/((1+K47)^K11) -> 0.81350064 | L48: =1/((1+L47)^L11) -> 0.78599096 | ... AI48: =1/((1+AI47)^AI11) -> 0.35627841 | AJ48: =+AI48/(1+AJ47) -> 0.34590137 | AK48: =+AJ48/(1+AK47) -> 0.33582657 | AL48: =+AK48/(1+AL47) -> 0.32604522 | AM48: =+AL48/(1+AM47) -> 0.31654875 | AN48: =+AM48/(1+AN47) -> 0.30732889 | AO48: =+AN48/(1+AO47) -> 0.29837756 | AP48: =+AO48/(1+AP47) -> 0.28968695 | AQ48: =+AP48/(1+AQ47) -> 0.28124947 | ... BL48: =+BK48/(1+BL47) -> 0.15118545
B49: Annuity Factor | E49: =E48 -> 1 | F49: =+F48+E49 -> 1.9661836 | G49: =+G48+F49 -> 2.8996943 | H49: =+H48+G49 -> 3.801637 | I49: =+I48+H49 -> 4.6730792 | J49: =+J48+I49 -> 5.5150524 | K49: =+K48+J49 -> 6.328553 | L49: =+L48+K49 -> 7.114544 | M49: =+M48+L49 -> 7.8739555 | ... BL49: =+BL48+BK49 -> 26.228478
B50: Years | C50: =$C$7 -> 0
...

Sheet OPTION 2
B2: OPTION 2: | C2: Option name … | K2: For any inputs entered into the template, please add a note or comment in the relevant cell explaining the context, rationale and source of the figures used. Where a formula is used within an input cell, please also include a short comment describing what the formula is doing and why it has been applied. This will help ensure clarity, transparency and accuracy in the NPV calculation.
B3: Option Description: | C3: Add description …
B7: Appraisal Period | C7: 0 | E7: Year '0' must be counted as a valid year (eg, 0-29 years = 30 years)
C9: Sum of | E9: 1st year | I9: 5th year | N9: 10th year | S9: 15th year | X9: 20th year | AC9: 25th year | AH9: 30th year | AM9: 35th year | AR9: 40th year | AW9: 45th year | BB9: 50th year | BG9: 55th year | BL9: 60th year
C10: Cashflows | E10: 2013 | F10: =E10+1 -> 2014 | G10: =F10+1 -> 2015 | H10: =G10+1 -> 2016 | I10: =H10+1 -> 2017 | J10: =I10+1 -> 2018 | K10: =J10+1 -> 2019 | L10: =K10+1 -> 2020 | M10: =L10+1 -> 2021 | ... BL10: =BK10+1 -> 2072
E11: 0 | F11: =E11+1 -> 1 | G11: =F11+1 -> 2 | H11: =G11+1 -> 3 | I11: =H11+1 -> 4 | J11: =I11+1 -> 5 | K11: =J11+1 -> 6 | L11: =K11+1 -> 7 | M11: =L11+1 -> 8 | ... BL11: =BK11+1 -> 59
C12: £m | E12: £m | F12: £m | G12: £m | H12: £m | I12: £m | J12: £m | K12: £m | L12: £m | M12: £m | N12: £m | O12: £m | P12: £m | Q12: £m | R12: £m | S12: £m | T12: £m | U12: £m | V12: £m | W12: £m | X12: £m | Y12: £m | Z12: £m | AA12: £m | AB12: £m | AC12: £m | AD12: £m | AE12: £m | AF12: £m | AG12: £m | AH12: £m | AI12: £m | AJ12: £m | AK12: £m | AL12: £m | AM12: £m | AN12: £m | AO12: £m | AP12: £m | AQ12: £m | AR12: £m | AS12: £m | AT12: £m | AU12: £m | AV12: £m | AW12: £m | AX12: £m | AY12: £m | AZ12: £m | BA12: £m | BB12: £m | BC12: £m | BD12: £m | BE12: £m | BF12: £m | BG12: £m | BH12: £m | BI12: £m | BJ12: £m | BK12: £m | BL12: £m
BO13: ASSUMPTIONS
B14: CASHFLOWS (Please read comments) | BO14: The basic assumptions underlying each cost line in the economic appraisals should be recorded below:
B16: PROPERTY & OPPORTUNITY COST
B17: Opening Value | C17: =SUM(E17:BL17) -> 0 | BO17: e.g. based on recent property valuation and estimated value of surrounding land
B18: Transactions | C18: =SUM(E18:BL18) -> 0 | BO18: …
B19: Residual Value | C19: =SUM(E19:BL19) -> 0 | BO19: …
BO20: -
B21: TOTAL PROPERTY & OPP. COSTS | C21: =SUM(C17:C19) -> 0 | E21: =SUM(E17:E19) -> 0 | F21: =SUM(F17:F19) -> 0 | G21: =SUM(G17:G19) -> 0 | H21: =SUM(H17:H19) -> 0 | I21: =SUM(I17:I19) -> 0 | J21: =SUM(J17:J19) -> 0 | K21: =SUM(K17:K19) -> 0 | L21: =SUM(L17:L19) -> 0 | ... BL21: =SUM(BL17:BL19) -> 0 | BO21: -
BO22: -
B23: CAPITAL COST (examples provided - not exhaustive) | BO23: -
B24: Initial Capital Costs | C24: =SUM(E24:BL24) -> 0
B25: Optimism bias | C25: =SUM(E25:BL25) -> 0 | BO25: …
B26: Lifecycle Costs | C26: =SUM(E26:BL26) -> 0 | BO26: …
B27: Other Capital Costs | C27: =SUM(E27:BL27) -> 0 | BO27: …
BO28: -
B29: TOTAL CAPITAL | C29: =SUM(C24:C27) -> 0 | E29: =SUM(E24:E27) -> 0 | F29: =SUM(F24:F27) -> 0 | G29: =SUM(G24:G27) -> 0 | H29: =SUM(H24:H27) -> 0 | I29: =SUM(I24:I27) -> 0 | J29: =SUM(J24:J27) -> 0 | K29: =SUM(K24:K27) -> 0 | L29: =SUM(L24:L27) -> 0 | ... BL29: =SUM(BL24:BL27) -> 0 | BO29: -
B32: REVENUE COST (examples provided - not exhaustive)
B33: Salaries | C33: =SUM(E33:BL33) -> 0 | BO33: …
B34: Building Running Costs | C34: =SUM(E34:BL34) -> 0 | BO34: …
B35: Other Revenue Costs | C35: =SUM(E35:BL35) -> 0 | BO35: …
BO36: -
B37: TOTAL REVENUE | C37: =SUM(C33:C35) -> 0 | E37: =SUM(E33:E35) -> 0 | F37: =SUM(F33:F35) -> 0 | G37: =SUM(G33:G35) -> 0 | H37: =SUM(H33:H35) -> 0 | I37: =SUM(I33:I35) -> 0 | J37: =SUM(J33:J35) -> 0 | K37: =SUM(K33:K35) -> 0 | L37: =SUM(L33:L35) -> 0 | ... BL37: =SUM(BL33:BL35) -> 0 | BO37: -
BO38: -
B39: TOTAL COST (Cap & Rev) | C39: =SUM(C21,C29,C37) -> 0 | E39: =SUM(E21,E29,E37) -> 0 | F39: =SUM(F21,F29,F37) -> 0 | G39: =SUM(G21,G29,G37) -> 0 | H39: =SUM(H21,H29,H37) -> 0 | I39: =SUM(I21,I29,I37) -> 0 | J39: =SUM(J21,J29,J37) -> 0 | K39: =SUM(K21,K29,K37) -> 0 | L39: =SUM(L21,L29,L37) -> 0 | ... BL39: =SUM(BL21,BL29,BL37) -> 0 | BO39: -
BO40: -
B41: Discounted Cashflow | C41: =SUM(E41:BL41) -> 0 | E41: =E39*E48 -> 0 | F41: =F39*F48 -> 0 | G41: =G39*G48 -> 0 | H41: =H39*H48 -> 0 | I41: =I39*I48 -> 0 | J41: =J39*J48 -> 0 | K41: =K39*K48 -> 0 | L41: =L39*L48 -> 0 | ... BL41: =BL39*BL48 -> 0 | BO41: -
B43: Net Present Cost (NPC) | C43: =SUM(E41:BL41) -> 0
B44: Equivalent Annual Cost (EAC) | C44: =$C$43/$C$52 -> 0
E46: =E11 -> 0 | F46: =F11 -> 1 | G46: =G11 -> 2 | H46: =H11 -> 3 | I46: =I11 -> 4 | J46: =J11 -> 5 | K46: =K11 -> 6 | L46: =L11 -> 7 | ... BL46: =BL11 -> 59
B47: Disount Rate | E47: 0.035 | F47: 0.035 | G47: 0.035 | H47: 0.035 | I47: 0.035 | J47: 0.035 | K47: 0.035 | L47: 0.035 | M47: 0.035 | N47: 0.035 | O47: 0.035 | P47: 0.035 | Q47: 0.035 | R47: 0.035 | S47: 0.035 | T47: 0.035 | U47: 0.035 | V47: 0.035 | W47: 0.035 | X47: 0.035 | Y47: 0.035 | Z47: 0.035 | AA47: 0.035 | AB47: 0.035 | AC47: 0.035 | AD47: 0.035 | AE47: 0.035 | AF47: 0.035 | AG47: 0.035 | AH47: 0.035 | AI47: 0.035 | AJ47: 0.03 | AK47: 0.03 | AL47: 0.03 | AM47: 0.03 | AN47: 0.03 | AO47: 0.03 | AP47: 0.03 | AQ47: 0.03 | AR47: 0.03 | AS47: 0.03 | AT47: 0.03 | AU47: 0.03 | AV47: 0.03 | AW47: 0.03 | AX47: 0.03 | AY47: 0.03 | AZ47: 0.03 | BA47: 0.03 | BB47: 0.03 | BC47: 0.03 | BD47: 0.03 | BE47: 0.03 | BF47: 0.03 | BG47: 0.03 | BH47: 0.03 | BI47: 0.03 | BJ47: 0.03 | BK47: 0.03 | BL47: 0.03
B48: Discount Factor | E48: =1/((1+E47)^E11) -> 1 | F48: =1/((1+F47)^F11) -> 0.96618357 | G48: =1/((1+G47)^G11) -> 0.9335107 | H48: =1/((1+H47)^H11) -> 0.90194271 | I48: =1/((1+I47)^I11) -> 0.87144223 | J48: =1/((1+J47)^J11) -> 0.84197317 | K48: =1/((1+K47)^K11) -> 0.81350064 | L48: =1/((1+L47)^L11) -> 0.78599096 | ... AI48: =1/((1+AI47)^AI11) -> 0.35627841 | AJ48: =+AI48/(1+AJ47) -> 0.34590137 | AK48: =+AJ48/(1+AK47) -> 0.33582657 | AL48: =+AK48/(1+AL47) -> 0.32604522 | AM48: =+AL48/(1+AM47) -> 0.31654875 | AN48: =+AM48/(1+AN47) -> 0.30732889 | AO48: =+AN48/(1+AO47) -> 0.29837756 | AP48: =+AO48/(1+AP47) -> 0.28968695 | AQ48: =+AP48/(1+AQ47) -> 0.28124947 | ... BL48: =+BK48/(1+BL47) -> 0.15118545
B49: Annuity Factor | E49: =E48 -> 1 | F49: =+F48+E49 -> 1.9661836 | G49: =+G48+F49 -> 2.8996943 | H49: =+H48+G49 -> 3.801637 | I49: =+I48+H49 -> 4.6730792 | J49: =+J48+I49 -> 5.5150524 | K49: =+K48+J49 -> 6.328553 | L49: =+L48+K49 -> 7.114544 | M49: =+M48+L49 -> 7.8739555 | ... BL49: =+BL48+BK49 -> 26.228478
B50: Years | C50: =$C$7 -> 0
...

Sheet OPTION 3
B2: OPTION 3: | C2: Option name … | K2: For any inputs entered into the template, please add a note or comment in the relevant cell explaining the context, rationale and source of the figures used. Where a formula is used within an input cell, please also include a short comment describing what the formula is doing and why it has been applied. This will help ensure clarity, transparency and accuracy in the NPV calculation.
B3: Option Description: | C3: Add description …
B7: Appraisal Period | C7: 0 | E7: Year '0' must be counted as a valid year (eg, 0-29 years = 30 years)
C9: Sum of | E9: 1st year | I9: 5th year | N9: 10th year | S9: 15th year | X9: 20th year | AC9: 25th year | AH9: 30th year | AM9: 35th year | AR9: 40th year | AW9: 45th year | BB9: 50th year | BG9: 55th year | BL9: 60th year
C10: Cashflows | E10: 2013 | F10: =E10+1 -> 2014 | G10: =F10+1 -> 2015 | H10: =G10+1 -> 2016 | I10: =H10+1 -> 2017 | J10: =I10+1 -> 2018 | K10: =J10+1 -> 2019 | L10: =K10+1 -> 2020 | M10: =L10+1 -> 2021 | ... BL10: =BK10+1 -> 2072
E11: 0 | F11: =E11+1 -> 1 | G11: =F11+1 -> 2 | H11: =G11+1 -> 3 | I11: =H11+1 -> 4 | J11: =I11+1 -> 5 | K11: =J11+1 -> 6 | L11: =K11+1 -> 7 | M11: =L11+1 -> 8 | ... BL11: =BK11+1 -> 59
C12: £m | E12: £m | F12: £m | G12: £m | H12: £m | I12: £m | J12: £m | K12: £m | L12: £m | M12: £m | N12: £m | O12: £m | P12: £m | Q12: £m | R12: £m | S12: £m | T12: £m | U12: £m | V12: £m | W12: £m | X12: £m | Y12: £m | Z12: £m | AA12: £m | AB12: £m | AC12: £m | AD12: £m | AE12: £m | AF12: £m | AG12: £m | AH12: £m | AI12: £m | AJ12: £m | AK12: £m | AL12: £m | AM12: £m | AN12: £m | AO12: £m | AP12: £m | AQ12: £m | AR12: £m | AS12: £m | AT12: £m | AU12: £m | AV12: £m | AW12: £m | AX12: £m | AY12: £m | AZ12: £m | BA12: £m | BB12: £m | BC12: £m | BD12: £m | BE12: £m | BF12: £m | BG12: £m | BH12: £m | BI12: £m | BJ12: £m | BK12: £m | BL12: £m
BO13: ASSUMPTIONS
B14: CASHFLOWS (Please read comments) | BO14: The basic assumptions underlying each cost line in the economic appraisals should be recorded below:
B16: PROPERTY & OPPORTUNITY COST
B17: Opening Value | C17: =SUM(E17:BL17) -> 0 | BO17: e.g. based on recent property valuation and estimated value of surrounding land
B18: Transactions | C18: =SUM(E18:BL18) -> 0 | BO18: …
B19: Residual Value | C19: =SUM(E19:BL19) -> 0 | BO19: …
BO20: -
B21: TOTAL PROPERTY & OPP. COSTS | C21: =SUM(C17:C19) -> 0 | E21: =SUM(E17:E19) -> 0 | F21: =SUM(F17:F19) -> 0 | G21: =SUM(G17:G19) -> 0 | H21: =SUM(H17:H19) -> 0 | I21: =SUM(I17:I19) -> 0 | J21: =SUM(J17:J19) -> 0 | K21: =SUM(K17:K19) -> 0 | L21: =SUM(L17:L19) -> 0 | ... BL21: =SUM(BL17:BL19) -> 0 | BO21: -
BO22: -
B23: CAPITAL COST (examples provided - not exhaustive) | BO23: -
B24: Initial Capital Costs | C24: =SUM(E24:BL24) -> 0
B25: Optimism bias | C25: =SUM(E25:BL25) -> 0 | BO25: …
B26: Lifecycle Costs | C26: =SUM(E26:BL26) -> 0 | BO26: …
B27: Other Capital Costs | C27: =SUM(E27:BL27) -> 0 | BO27: …
BO28: -
B29: TOTAL CAPITAL | C29: =SUM(C24:C27) -> 0 | E29: =SUM(E24:E27) -> 0 | F29: =SUM(F24:F27) -> 0 | G29: =SUM(G24:G27) -> 0 | H29: =SUM(H24:H27) -> 0 | I29: =SUM(I24:I27) -> 0 | J29: =SUM(J24:J27) -> 0 | K29: =SUM(K24:K27) -> 0 | L29: =SUM(L24:L27) -> 0 | ... BL29: =SUM(BL24:BL27) -> 0 | BO29: -
B32: REVENUE COST (examples provided - not exhaustive)
B33: Salaries | C33: =SUM(E33:BL33) -> 0 | BO33: …
B34: Building Running Costs | C34: =SUM(E34:BL34) -> 0 | BO34: …
B35: Other Revenue Costs | C35: =SUM(E35:BL35) -> 0 | BO35: …
BO36: -
B37: TOTAL REVENUE | C37: =SUM(C33:C35) -> 0 | E37: =SUM(E33:E35) -> 0 | F37: =SUM(F33:F35) -> 0 | G37: =SUM(G33:G35) -> 0 | H37: =SUM(H33:H35) -> 0 | I37: =SUM(I33:I35) -> 0 | J37: =SUM(J33:J35) -> 0 | K37: =SUM(K33:K35) -> 0 | L37: =SUM(L33:L35) -> 0 | ... BL37: =SUM(BL33:BL35) -> 0 | BO37: -
BO38: -
B39: TOTAL COST (Cap & Rev) | C39: =SUM(C21,C29,C37) -> 0 | E39: =SUM(E21,E29,E37) -> 0 | F39: =SUM(F21,F29,F37) -> 0 | G39: =SUM(G21,G29,G37) -> 0 | H39: =SUM(H21,H29,H37) -> 0 | I39: =SUM(I21,I29,I37) -> 0 | J39: =SUM(J21,J29,J37) -> 0 | K39: =SUM(K21,K29,K37) -> 0 | L39: =SUM(L21,L29,L37) -> 0 | ... BL39: =SUM(BL21,BL29,BL37) -> 0 | BO39: -
BO40: -
B41: Discounted Cashflow | C41: =SUM(E41:BL41) -> 0 | E41: =E39*E48 -> 0 | F41: =F39*F48 -> 0 | G41: =G39*G48 -> 0 | H41: =H39*H48 -> 0 | I41: =I39*I48 -> 0 | J41: =J39*J48 -> 0 | K41: =K39*K48 -> 0 | L41: =L39*L48 -> 0 | ... BL41: =BL39*BL48 -> 0 | BO41: -
B43: Net Present Cost (NPC) | C43: =SUM(E41:BL41) -> 0
B44: Equivalent Annual Cost (EAC) | C44: =$C$43/$C$52 -> 0
E46: =E11 -> 0 | F46: =F11 -> 1 | G46: =G11 -> 2 | H46: =H11 -> 3 | I46: =I11 -> 4 | J46: =J11 -> 5 | K46: =K11 -> 6 | L46: =L11 -> 7 | ... BL46: =BL11 -> 59
B47: Disount Rate | E47: 0.035 | F47: 0.035 | G47: 0.035 | H47: 0.035 | I47: 0.035 | J47: 0.035 | K47: 0.035 | L47: 0.035 | M47: 0.035 | N47: 0.035 | O47: 0.035 | P47: 0.035 | Q47: 0.035 | R47: 0.035 | S47: 0.035 | T47: 0.035 | U47: 0.035 | V47: 0.035 | W47: 0.035 | X47: 0.035 | Y47: 0.035 | Z47: 0.035 | AA47: 0.035 | AB47: 0.035 | AC47: 0.035 | AD47: 0.035 | AE47: 0.035 | AF47: 0.035 | AG47: 0.035 | AH47: 0.035 | AI47: 0.035 | AJ47: 0.03 | AK47: 0.03 | AL47: 0.03 | AM47: 0.03 | AN47: 0.03 | AO47: 0.03 | AP47: 0.03 | AQ47: 0.03 | AR47: 0.03 | AS47: 0.03 | AT47: 0.03 | AU47: 0.03 | AV47: 0.03 | AW47: 0.03 | AX47: 0.03 | AY47: 0.03 | AZ47: 0.03 | BA47: 0.03 | BB47: 0.03 | BC47: 0.03 | BD47: 0.03 | BE47: 0.03 | BF47: 0.03 | BG47: 0.03 | BH47: 0.03 | BI47: 0.03 | BJ47: 0.03 | BK47: 0.03 | BL47: 0.03
B48: Discount Factor | E48: =1/((1+E47)^E11) -> 1 | F48: =1/((1+F47)^F11) -> 0.96618357 | G48: =1/((1+G47)^G11) -> 0.9335107 | H48: =1/((1+H47)^H11) -> 0.90194271 | I48: =1/((1+I47)^I11) -> 0.87144223 | J48: =1/((1+J47)^J11) -> 0.84197317 | K48: =1/((1+K47)^K11) -> 0.81350064 | L48: =1/((1+L47)^L11) -> 0.78599096 | ... AI48: =1/((1+AI47)^AI11) -> 0.35627841 | AJ48: =+AI48/(1+AJ47) -> 0.34590137 | AK48: =+AJ48/(1+AK47) -> 0.33582657 | AL48: =+AK48/(1+AL47) -> 0.32604522 | AM48: =+AL48/(1+AM47) -> 0.31654875 | AN48: =+AM48/(1+AN47) -> 0.30732889 | AO48: =+AN48/(1+AO47) -> 0.29837756 | AP48: =+AO48/(1+AP47) -> 0.28968695 | AQ48: =+AP48/(1+AQ47) -> 0.28124947 | ... BL48: =+BK48/(1+BL47) -> 0.15118545
B49: Annuity Factor | E49: =E48 -> 1 | F49: =+F48+E49 -> 1.9661836 | G49: =+G48+F49 -> 2.8996943 | H49: =+H48+G49 -> 3.801637 | I49: =+I48+H49 -> 4.6730792 | J49: =+J48+I49 -> 5.5150524 | K49: =+K48+J49 -> 6.328553 | L49: =+L48+K49 -> 7.114544 | M49: =+M48+L49 -> 7.8739555 | ... BL49: =+BL48+BK49 -> 26.228478
B50: Years | C50: =$C$7 -> 0
...

Sheet BLANK OPTION
B2: OPTION X: | C2: Option name … | K2: For any inputs entered into the template, please add a note or comment in the relevant cell explaining the context, rationale and source of the figures used. Where a formula is used within an input cell, please also include a short comment describing what the formula is doing and why it has been applied. This will help ensure clarity, transparency and accuracy in the NPV calculation.
B3: Option Description: | C3: Add description …
B7: Appraisal Period | C7: 0 | E7: Year '0' must be counted as a valid year (eg, 0-29 years = 30 years)
C9: Sum of | E9: 1st year | I9: 5th year | N9: 10th year | S9: 15th year | X9: 20th year | AC9: 25th year | AH9: 30th year | AM9: 35th year | AR9: 40th year | AW9: 45th year | BB9: 50th year | BG9: 55th year | BL9: 60th year
C10: Cashflows | E10: 2013 | F10: =E10+1 -> 2014 | G10: =F10+1 -> 2015 | H10: =G10+1 -> 2016 | I10: =H10+1 -> 2017 | J10: =I10+1 -> 2018 | K10: =J10+1 -> 2019 | L10: =K10+1 -> 2020 | M10: =L10+1 -> 2021 | ... BL10: =BK10+1 -> 2072
E11: 0 | F11: =E11+1 -> 1 | G11: =F11+1 -> 2 | H11: =G11+1 -> 3 | I11: =H11+1 -> 4 | J11: =I11+1 -> 5 | K11: =J11+1 -> 6 | L11: =K11+1 -> 7 | M11: =L11+1 -> 8 | ... BL11: =BK11+1 -> 59
C12: £m | E12: £m | F12: £m | G12: £m | H12: £m | I12: £m | J12: £m | K12: £m | L12: £m | M12: £m | N12: £m | O12: £m | P12: £m | Q12: £m | R12: £m | S12: £m | T12: £m | U12: £m | V12: £m | W12: £m | X12: £m | Y12: £m | Z12: £m | AA12: £m | AB12: £m | AC12: £m | AD12: £m | AE12: £m | AF12: £m | AG12: £m | AH12: £m | AI12: £m | AJ12: £m | AK12: £m | AL12: £m | AM12: £m | AN12: £m | AO12: £m | AP12: £m | AQ12: £m | AR12: £m | AS12: £m | AT12: £m | AU12: £m | AV12: £m | AW12: £m | AX12: £m | AY12: £m | AZ12: £m | BA12: £m | BB12: £m | BC12: £m | BD12: £m | BE12: £m | BF12: £m | BG12: £m | BH12: £m | BI12: £m | BJ12: £m | BK12: £m | BL12: £m
BO13: ASSUMPTIONS
B14: CASHFLOWS (Please read comments) | BO14: The basic assumptions underlying each cost line in the economic appraisals should be recorded below:
B16: PROPERTY & OPPORTUNITY COST
B17: Opening Value | C17: =SUM(E17:BL17) -> 0 | BO17: e.g. based on recent property valuation and estimated value of surrounding land
B18: Transactions | C18: =SUM(E18:BL18) -> 0 | BO18: …
B19: Residual Value | C19: =SUM(E19:BL19) -> 0 | BO19: …
BO20: -
B21: TOTAL PROPERTY & OPP. COSTS | C21: =SUM(C17:C19) -> 0 | E21: =SUM(E17:E19) -> 0 | F21: =SUM(F17:F19) -> 0 | G21: =SUM(G17:G19) -> 0 | H21: =SUM(H17:H19) -> 0 | I21: =SUM(I17:I19) -> 0 | J21: =SUM(J17:J19) -> 0 | K21: =SUM(K17:K19) -> 0 | L21: =SUM(L17:L19) -> 0 | ... BL21: =SUM(BL17:BL19) -> 0 | BO21: -
BO22: -
B23: CAPITAL COST (examples provided - not exhaustive) | BO23: -
B24: Initial Capital Costs | C24: =SUM(E24:BL24) -> 0
B25: Optimism bias | C25: =SUM(E25:BL25) -> 0 | BO25: …
B26: Lifecycle Costs | C26: =SUM(E26:BL26) -> 0 | BO26: …
B27: Other Capital Costs | C27: =SUM(E27:BL27) -> 0 | BO27: …
BO28: -
B29: TOTAL CAPITAL | C29: =SUM(C24:C27) -> 0 | E29: =SUM(E24:E27) -> 0 | F29: =SUM(F24:F27) -> 0 | G29: =SUM(G24:G27) -> 0 | H29: =SUM(H24:H27) -> 0 | I29: =SUM(I24:I27) -> 0 | J29: =SUM(J24:J27) -> 0 | K29: =SUM(K24:K27) -> 0 | L29: =SUM(L24:L27) -> 0 | ... BL29: =SUM(BL24:BL27) -> 0 | BO29: -
B32: REVENUE COST (examples provided - not exhaustive)
B33: Salaries | C33: =SUM(E33:BL33) -> 0 | BO33: …
B34: Building Running Costs | C34: =SUM(E34:BL34) -> 0 | BO34: …
B35: Other Revenue Costs | C35: =SUM(E35:BL35) -> 0 | BO35: …
BO36: -
B37: TOTAL REVENUE | C37: =SUM(C33:C35) -> 0 | E37: =SUM(E33:E35) -> 0 | F37: =SUM(F33:F35) -> 0 | G37: =SUM(G33:G35) -> 0 | H37: =SUM(H33:H35) -> 0 | I37: =SUM(I33:I35) -> 0 | J37: =SUM(J33:J35) -> 0 | K37: =SUM(K33:K35) -> 0 | L37: =SUM(L33:L35) -> 0 | ... BL37: =SUM(BL33:BL35) -> 0 | BO37: -
BO38: -
B39: TOTAL COST (Cap & Rev) | C39: =SUM(C21,C29,C37) -> 0 | E39: =SUM(E21,E29,E37) -> 0 | F39: =SUM(F21,F29,F37) -> 0 | G39: =SUM(G21,G29,G37) -> 0 | H39: =SUM(H21,H29,H37) -> 0 | I39: =SUM(I21,I29,I37) -> 0 | J39: =SUM(J21,J29,J37) -> 0 | K39: =SUM(K21,K29,K37) -> 0 | L39: =SUM(L21,L29,L37) -> 0 | ... BL39: =SUM(BL21,BL29,BL37) -> 0 | BO39: -
BO40: -
B41: Discounted Cashflow | C41: =SUM(E41:BL41) -> 0 | E41: =E39*E48 -> 0 | F41: =F39*F48 -> 0 | G41: =G39*G48 -> 0 | H41: =H39*H48 -> 0 | I41: =I39*I48 -> 0 | J41: =J39*J48 -> 0 | K41: =K39*K48 -> 0 | L41: =L39*L48 -> 0 | ... BL41: =BL39*BL48 -> 0 | BO41: -
B43: Net Present Cost (NPC) | C43: =SUM(E41:BL41) -> 0
B44: Equivalent Annual Cost (EAC) | C44: =$C$43/$C$52 -> 0
E46: =E11 -> 0 | F46: =F11 -> 1 | G46: =G11 -> 2 | H46: =H11 -> 3 | I46: =I11 -> 4 | J46: =J11 -> 5 | K46: =K11 -> 6 | L46: =L11 -> 7 | ... BL46: =BL11 -> 59
B47: Disount Rate | E47: 0.035 | F47: 0.035 | G47: 0.035 | H47: 0.035 | I47: 0.035 | J47: 0.035 | K47: 0.035 | L47: 0.035 | M47: 0.035 | N47: 0.035 | O47: 0.035 | P47: 0.035 | Q47: 0.035 | R47: 0.035 | S47: 0.035 | T47: 0.035 | U47: 0.035 | V47: 0.035 | W47: 0.035 | X47: 0.035 | Y47: 0.035 | Z47: 0.035 | AA47: 0.035 | AB47: 0.035 | AC47: 0.035 | AD47: 0.035 | AE47: 0.035 | AF47: 0.035 | AG47: 0.035 | AH47: 0.035 | AI47: 0.035 | AJ47: 0.03 | AK47: 0.03 | AL47: 0.03 | AM47: 0.03 | AN47: 0.03 | AO47: 0.03 | AP47: 0.03 | AQ47: 0.03 | AR47: 0.03 | AS47: 0.03 | AT47: 0.03 | AU47: 0.03 | AV47: 0.03 | AW47: 0.03 | AX47: 0.03 | AY47: 0.03 | AZ47: 0.03 | BA47: 0.03 | BB47: 0.03 | BC47: 0.03 | BD47: 0.03 | BE47: 0.03 | BF47: 0.03 | BG47: 0.03 | BH47: 0.03 | BI47: 0.03 | BJ47: 0.03 | BK47: 0.03 | BL47: 0.03
B48: Discount Factor | E48: =1/((1+E47)^E11) -> 1 | F48: =1/((1+F47)^F11) -> 0.96618357 | G48: =1/((1+G47)^G11) -> 0.9335107 | H48: =1/((1+H47)^H11) -> 0.90194271 | I48: =1/((1+I47)^I11) -> 0.87144223 | J48: =1/((1+J47)^J11) -> 0.84197317 | K48: =1/((1+K47)^K11) -> 0.81350064 | L48: =1/((1+L47)^L11) -> 0.78599096 | ... AI48: =1/((1+AI47)^AI11) -> 0.35627841 | AJ48: =+AI48/(1+AJ47) -> 0.34590137 | AK48: =+AJ48/(1+AK47) -> 0.33582657 | AL48: =+AK48/(1+AL47) -> 0.32604522 | AM48: =+AL48/(1+AM47) -> 0.31654875 | AN48: =+AM48/(1+AN47) -> 0.30732889 | AO48: =+AN48/(1+AO47) -> 0.29837756 | AP48: =+AO48/(1+AP47) -> 0.28968695 | AQ48: =+AP48/(1+AQ47) -> 0.28124947 | ... BL48: =+BK48/(1+BL47) -> 0.15118545
B49: Annuity Factor | E49: =E48 -> 1 | F49: =+F48+E49 -> 1.9661836 | G49: =+G48+F49 -> 2.8996943 | H49: =+H48+G49 -> 3.801637 | I49: =+I48+H49 -> 4.6730792 | J49: =+J48+I49 -> 5.5150524 | K49: =+K48+J49 -> 6.328553 | L49: =+L48+K49 -> 7.114544 | M49: =+M48+L49 -> 7.8739555 | ... BL49: =+BL48+BK49 -> 26.228478
B50: Years | C50: =$C$7 -> 0
...

Sheet OPTIMISM BIAS
C2: OPTIMISM BIAS There is a demonstrated, systematic, tendency for project appraisers to be overly optimistic. To redress this tendency appraisers should make explicit, empirically based adjustments to the estimate of a project’s costs, benefits, and duration. It is recommended that these adjustments should be based on data from past projects or similar projects elsewhere, and adjusted for the unique characteristics of the project in hand. This spreadsheet provides an example of how to calculate an adjustment for optimism bias, which is then applied to the initial capital expenditure of a specific option that is under appraisal. A separate and disctinct assessment of optimism bias should be completed for each indiviudal option. Spreadsheet users are strongly encouraged to refer to the HM Treasury’s supplementary guidance on optimism bias; available at: https://www.gov.uk/government/publications/green-book-supplementary-guidance-optimism-bias Appraisers must determine the extent to which factors contrbuting to optimism bias have been mitigtated. For guidance on how to do this, please read the comment attached to the 'MITIGATION FACTOR' cell below.
C8: Optimism Bias - Upper Bound Guidance for Building Projects
E9: CAPITAL EXPENDITURE
E10: Non-standard Buildings | F10: Standard Buildings
D11: Upper Bound optimism Bias (%) (1) | E11: 0.51 | F11: 0.24 | H11: MITIGATION FACTOR | L11: Managed Optimism Bias | P11: Rationale Behind Chosen Degree of Mitigation (or reason for exclusion of contributory factor)
L12: Non-Standard Building | M12: Standard Building
D13: Contributory Factors to Upper Bound Optimism Bias (%) (2) (3)
C14: Procurement | D14: Complexity of Contract Structure | E14: 0.01 | H14: 0 | L14: =E14*H14 -> 0 | M14: =F14*H14 -> 0
D15: Late Contractor Involvement in Design | E15: 0.02 | F15: 0.02 | H15: 0 | L15: =E15*H15 -> 0 | M15: =F15*H15 -> 0
D16: Poor Contractor Capabilities | E16: 0.05 | F16: 0.09 | H16: 0 | L16: =E16*H16 -> 0 | M16: =F16*H16 -> 0
D17: Government Guidelines | L17: =E17*H17 -> 0 | M17: =F17*H17 -> 0
D18: Dispute and Claims Occurred | E18: 0.11 | F18: 0.29 | H18: 0 | L18: =E18*H18 -> 0 | M18: =F18*H18 -> 0
D19: Information Management | L19: =E19*H19 -> 0 | M19: =F19*H19 -> 0
D20: Other (Specify) | L20: =E20*H20 -> 0 | M20: =F20*H20 -> 0
C21: Project Specific | D21: Design Complexity | E21: 0.03 | F21: 0.01 | H21: 0 | L21: =E21*H21 -> 0 | M21: =F21*H21 -> 0
D22: Degree of Innovation | E22: 0.09 | F22: 0.04 | H22: 0 | L22: =E22*H22 -> 0 | M22: =F22*H22 -> 0
D23: Environmental Impact | L23: =E23*H23 -> 0 | M23: =F23*H23 -> 0
D24: Other (Specify) | E24: 0.05 | H24: 0 | L24: =E24*H24 -> 0 | M24: =F24*H24 -> 0
D25: Inadequacy of the Business Case | E25: 0.23 | F25: 0.34 | H25: 0 | L25: =E25*H25 -> 0 | M25: =F25*H25 -> 0
D26: Large No. of Stakeholders | L26: =E26*H26 -> 0 | M26: =F26*H26 -> 0
C27: Client Specific | D27: Funding Availability | L27: =E27*H27 -> 0 | M27: =F27*H27 -> 0
D28: Project Management Team | E28: 0.02 | F28: 0.01 | H28: 0 | L28: =E28*H28 -> 0 | M28: =F28*H28 -> 0
D29: Poor Project Intelligence | E29: 0.06 | F29: 0.02 | H29: 0 | L29: =E29*H29 -> 0 | M29: =F29*H29 -> 0
D30: Other (Specify) | E30: 0.02 | F30: 0.01 | H30: 0 | L30: =E30*H30 -> 0 | M30: =F30*H30 -> 0
C31: Environment | D31: Public Relations | F31: 0.02 | H31: 0 | L31: =E31*H31 -> 0 | M31: =F31*H31 -> 0
D32: Site Characteristics | E32: 0.01 | F32: 0.02 | H32: 0 | L32: =E32*H32 -> 0 | M32: =F32*H32 -> 0
D33: Permits / Consents / Approvals | E33: 0.01 | L33: =E33*H33 -> 0 | M33: =F33*H33 -> 0
D34: Other (Specify) | E34: 0.03 | L34: =E34*H34 -> 0 | M34: =F34*H34 -> 0
C35: External Influences | D35: Political | L35: =E35*H35 -> 0 | M35: =F35*H35 -> 0
D36: Economic | E36: 0.13 | F36: 0.11 | H36: 0 | L36: =E36*H36 -> 0 | M36: =F36*H36 -> 0
D37: Legislation / Regulations | E37: 0.07 | F37: 0.03 | H37: 0 | L37: =E37*H37 -> 0 | M37: =F37*H37 -> 0
D38: Technology | E38: 0.05 | L38: =E38*H38 -> 0 | M38: =F38*H38 -> 0
D39: Other (Specify) | E39: 0.02 | L39: =E39*H39 -> 0 | M39: =F39*H39 -> 0
D41: Remaining Optimism Bias | E41: =$E$11*(SUM($E$14:$E$39)-$L$41) -> 0.5151 | F41: =$F$11*(SUM($F$14:$F$39)-$M$41) -> 0.2424 | L41: =SUM($L$14:$L$39) -> 0 | M41: =SUM($M$14:$M$40) -> 0
C44: (1) Note that these are only indicative starting values for calculating optimism bias contributions, because a project’s optimism bias profile will change during its project life cycle.
C45: (2) Contributions from each area are expressed as a % of the recorded optimism bias. Note: The sum of individual percentages contributions in each column may not add up to 100% due to rounding errors.
C46: (3) As noted above, see the Appendix in the HM Treasury's Supplementary Guidance for more detail on the issues surrounding these contributory factors in order to help you assess the level to which they have been mitigated .
C47: (4) A more advanced optimism bias calculator is available as part of the Northern Ireland Guide to Expenditure Appraisal and Evaluation [see: http://www.dfpni.gov.uk/index/finance/eag/eag_resources/eag-optimism-bias-calculator.htm]

Sheet QUICK REFERENCE
B2: GENERAL PRINICIPLES OF AN ECONOMIC APPRAISAL - QUICK REFERENCE
B6: PRINCIPLES | C6: INCLUDE / EXCLUDE | D6: TREATMENT
B8: GENERAL:
B9: Price/cost base | C9: - | D9: - Common for all elements of costs
D10: - Current prices
D11: - Where there is sound evidence of variations from CPI, the difference will be reflected in the base costings (e.g. % adjustments to MIPS), otherwise the impact of inflation is considered in risk analysis
B12: Sunk costs | C12: Exclude | D12: -
B13: Opportunity costs | C13: Include | D13: Most commonly reflected in property values
B14: Transfer payments:
B15: · Taxes | C15: Exclude | D15: -
B16: · Redundancy payments | C16: Exclude | D16: -
B17: · Capital charges | C17: Exclude | D17: -
B18: Avoided costs | C18: Include | D18: Reflect in “do minimum” option only
B19: Scope of costs | C19: - | D19: - All direct and indirect implications of the investment
D20: - Total (as opposed to change) property, capital and revenue costs
B21: Optimism bias | C21: Include
B22: Sign convention | C22: - | D22: Costs positive, benefits negative
B23: PROPERTY VALUES / OPPORTUNITY COSTS:
B24: Property in Local Authority use | C24: Include
B25: Property bought and sold by Local Authority | C25: Include
B26: Other property transactions (transfers between public sector bodies) | C26: Include
B27: Property rented | C27: Include | D27: Include in revenue costs
B28: CAPITAL COSTS:
B29: Initial capital costs | C29: Include | D29: - Exclude VAT, inflation (subject to guidance on cost/price base above) and contingency allowance if reflected in the risk analysis
D30: - Include adjustment for optimism bias
D31: -Timing as per timing of implementation and expenditure cash flows
B32: Life-cycle costs | C32: Include | D32: - Exclude VAT, inflation (subject to guidance on cost/price base above) and contingency allowance if reflected in the risk analysis
D33: - Consistent with initial capital costs and on-going buildings related running costs
B34: Transition period capital | C34: Include | D34: - Exclude VAT, inflation (subject to guidance on cost/price base above) and contingency if reflected in the risk analysis
D35: - Timing as per timing of implementation and expenditure cash flows
B36: Equipment | C36: Include | D36: - Where purchased, include in life-cycle costs
D37: - Where leased or less than £5,000, include in revenue costs
B38: ANNUAL REVENUE COSTS:
B39: General | C39: Varies | D39: Include:
D40: · All relevant revenue costs
D41: · Annual savings attributable to the investment (see forecast savings below)
D42: · Net income contribution from non-public sector bodies (see net (income) contribution below)
D43: Exclude:
D44: · VAT
D45: · Net income contribution from public sector bodies (see net (income) contribution below)
...

Sheet USEFUL LINKS
C2: USEFUL LINKS:
B4: * | C4: HM Treasury Green Book
C6: https://www.gov.uk/government/publications/the-green-book-appraisal-and-evaluation-in-central-governent
B8: * | C8: Five Case Model Guidance
C10: https://www.gov.uk/government/publications/the-green-book-appraisal-and-evaluation-in-central-governent
B12: * | C12: Capital Investment Manual: Business Case Guide (written for hospital buildings but the principles are common to all capital investment projects)
C14: http://webarchive.nationalarchives.gov.uk/20130107105354/http://www.dh.gov.uk/en/Publicationsandstatistics/Publications/PublicationsPolicyAndGuidance/DH_4119896
B16: * | C16: The Generic Economic Model for Capital Investment in Health (see in particular the principles guide to the model at Outline Business Case stage)
C18: http://webarchive.nationalarchives.gov.uk/+/www.dh.gov.uk/en/Aboutus/Procurementandproposals/Publicprivatepartnership/Privatefinanceinitiative/GenericeconomicmodelPFIschemes/DH_4016193
B20: * | C20: HM Treasury Supplementary Guidance on Optimism Bias
C22: https://www.gov.uk/government/publications/green-book-supplementary-guidance-optimism-bias
B24: * | C24: Calculating the Adjustment for Optimism Bias for Health Projects (provides a useful explanation of the relationship between optimism bias, contingencies and risk)
C26: http://webarchive.nationalarchives.gov.uk/+/www.dh.gov.uk/en/Aboutus/Procurementandproposals/Publicprivatepartnership/Privatefinanceinitiative/GenericeconomicmodelPFIschemes/DH_4016193
B28: * | C28: Option Appraisal - Building Our Future: Scotland's School Estate
C30: http://www.scotland.gov.uk/Publications/2004/05/19436/38224
B32: * | C32: Northern Ireland Guide to Expenditure Appraisal and Evaluation
C34: http://www.dfpni.gov.uk/eag
B36: * | C36: Good Practice Guide: Learning Lessons from Post-Project Evaluation (written for health projects but general principles apply)
C38: http://webarchive.nationalarchives.gov.uk/+/www.dh.gov.uk/en/Aboutus/Procurementandproposals/Publicprivatepartnership/Privatefinanceinitiative/Learninglessonsfrompostprojectevaluation/DH_4016498
