Workbook
Name _MSQ1: #REF!
Name _MSQ2: #REF!
Name MSQT1: #REF!
Name MSQT2: #REF!
Name MSQT3: #REF!
Name MSQT4: #REF!
Name MSQT4_qtr: #REF!
Name Tenure: #REF!

Sheet Contents
A1: Warm Homes Nest scheme: annual report 2025 to 2026 tables | B1: #REF! | C1: #N/A | D1: #N/A | E1: #REF! | F1: #N/A | G1: #REF! | H1: #N/A | I1: #N/A | J1: #REF! | K1: #N/A
A2: For information
A3: Source | B3: Welsh Government
A4: Notes
A5: The new Nest Scheme contract began in March 2024.
A6: This report uses installation data provided by the delivery agent, British Gas (part of the Centrica plc group),
A7: and advice service data provided by the Energy Saving Trust (EST).
A8: Both datasets cover the period from 1 April 2025 to 31 March 2026
A9: Useful links
A10: Warm Homes Nest scheme: annual reports
A11: Nest eligibility criteria
A12: Date published: October 2026
G13: Contents
A15: Advice and support
A16: Table 1: Number of households who received Nest advice and support, April 2025 to March 2026
A17: Table 2: Type of third-party referrals made, April 2025 to March 2026
A19: Home improvement packages
A20: Table 3: Household referrals for an income assessment under the health criteria, by vulnerable household category, April 2025 to March 2026
A21: Table 4: Nest installations by types of measure, April 2025 to March 2026
A22: Table 5: Home energy improvement package installations by local authority, April 2025 to March 2026
A24: Home improvement packages by household characteristics
A25: Table 6: Home energy efficiency improvement packages by fuel poverty profile
A26: Table 7: Home energy efficiency improvement packages by age profile of recipient
A27: Table 8: Home energy efficiency improvement packages by tenure
A28: Table 9: Home energy efficiency improvement packages by household net income (£s)
... A50: stats.housing@gov.wales

Sheet Notes
A1: Notes
A2: Back to contents
A3: Note number | B3: Note text
A4: Note 1 | B4: This report uses installation data provided by the delivery agent, British Gas (part of the Centrica plc group), and advice service data provided by the Energy Saving Trust (EST). Both datasets cover the period from 1 April 2025 to 31 March 2026.
A5: Note 2 | B5: Detail on the income thresholds and the health criteria can be found on the Nest eligibility criteria
A6: Note 3 | B6: When there is an eligible health condition, a home must have an EPC rating of 68 (D) or less. Health conditions include a respiratory disease (respiratory infections, broncho-constriction in asthma, and chronic obstructive pulmonary disease), circulatory disease (including cardio-vascular disease, strokes and heart attacks) mental health (including depression, anxiety, psychosis and bipolar disorders) dementia intellectual and development disorders.
A7: Note 4 | B7: Central heating systems include: Boiler systems with radiators, warm air and ‘other’ systems such as underfloor heating, and communal systems. Households which do not have central heating systems have higher average fuel costs per year than those that have central heating systems.
A8: Note 5 | B8: Includes: Solar Photovoltaic (Solar PV) Installation of solar panels that generate electricity from sunlight. Solar Photovoltaic (Solar PV) with Battery Storage System Installation of solar panels alongside a battery system that stores excess electricity for use later.
A9: Note 6 | B9: A home energy efficiency package can include more than one improvement measure installed in the same household.
A10: Note 7 | B10: Includes room heaters, storage heaters, heat pumps and warm air.
A11: Note 8 | B11: For Nest reporting purposes, local authority areas are grouped into two categories based on a classification established by the Welsh Government at the start of the Nest 2 scheme in 2011. Urban: All local authority areas excluding Anglesey, Ceredigion, Gwynedd, Pembrokeshire and Powys. Rural: Anglesey, Ceredigion, Gwynedd, Pembrokeshire and Powys.
A12: Note 9 | B12: PAS (Publicly Available Specification) refers to the quality standards that installers must follow when delivering government‑funded energy‑efficiency improvements. Under PAS 2030, installers carrying out measures such as insulation or heating upgrades must meet strict requirements to ensure safe, consistent and high‑quality installation across schemes such as Nest.
A13: Note 10 | B13: The crisis‑referral route supports households facing urgent heating issues, such as having no heating or hot water, allowing Nest to provide emergency boiler repair or replacement at no cost. This ensures vulnerable households can stay safe and warm during critical periods.

Sheet Table 1
A1: =Contents!A1 -> Warm Homes Nest scheme: annual report 2025 to 2026 tables
A2: Back to contents
A3: Table 1: Number of households who received Nest advice and support, April 2025 to March 2026 [Note 1]
A4: This worksheet contains one table.
A5: Source: NEST management reports
A6: Local authority | B6: Number of households who received tailored advice and support
A7: Blaenau Gwent | B7: 260
A8: Bridgend | B8: 601
A9: Caerphilly | B9: 571
A10: Cardiff | B10: 836
A11: Carmarthenshire | B11: 909
A12: Ceredigion | B12: 352
A13: Conwy | B13: 461
A14: Denbighshire | B14: 399
A15: Flintshire | B15: 389
A16: Gwynedd | B16: 660
A17: Isle of Anglesey | B17: 269
A18: Merthyr Tydfil | B18: 267
... A28: Wrexham | B28: 301
A29: Total | B29: =SUM(B7:B28) -> 11113

Sheet Table 2 
A1: =Contents!A1 -> Warm Homes Nest scheme: annual report 2025 to 2026 tables
A2: Back to contents
A3: =Contents!A17 -> Table 2: Type of third-party referrals made, April 2025 to March 2026
A4: This worksheet contains one table.
A5: Source: NEST management reports
A6: Third party referral | B6: Number of referrals | C6: Percentage of referrals
A7: Benefit Entitlement Check | B7: 506 | C7: =B7/$B$12 -> 0.55665567
A8: Priority Service Registered | B8: 224 | C8: =B8/$B$12 -> 0.24642464
A9: Care and Repair | B9: 176 | C9: =B9/$B$12 -> 0.19361936
A10: Fuel bank vouchers | B10: 3 | C10: =B10/$B$12 -> 0.00330033
A11: ECO Pilot with Cardiff Council | B11: 0 | C11: =B11/$B$12 -> 0
A12: Total | B12: =SUM(B7:B11) -> 909 | C12: =B12/$B$12 -> 1

Sheet Table 3
A1: =Contents!A1 -> Warm Homes Nest scheme: annual report 2025 to 2026 tables
A2: Back to contents
A3: Table 3: Household referrals for an income assessment under the health criteria, by vulnerable household category, April 2025 to March 2026 [Note 2]
A4: This worksheet contains one table.
A5: Source: NEST management reports
A6: Health criteria referrals for an income assessment [Note 3] | B6: Number of referrals | C6: Percentage of referrals
A7: less than 50% of the income threshold | B7: 206 | C7: =B7/$B$14 -> 0.19252336
A8: in two adult households aged 60 years old or more | B8: 235 | C8: =B8/$B$14 -> 0.21962617
A9: living in a property with an energy efficiency rating of E, F or G | B9: 510 | C9: =B9/$B$14 -> 0.47663551
A10: in single income households aged 60 years old or more | B10: 356 | C10: =B10/$B$14 -> 0.33271028
A11: living in a property with an energy efficiency rating of D | B11: 451 | C11: =B11/$B$14 -> 0.42149533
A12: income below 80% of the income thresholds | B12: 495 | C12: =B12/$B$14 -> 0.46261682
A13: aged 60 years old or more | B13: 611 | C13: =B13/$B$14 -> 0.57102804
A14: Total Referrals for an income assessment under the health criteria | B14: 1070

Sheet Table 4
A1: =Contents!A1 -> Warm Homes Nest scheme: annual report 2025 to 2026 tables
A2: Back to contents
A3: Table 4: Nest installations by types of measure, April 2025 to March 2026
A4: This worksheet contains one table.
A5: Source: NEST management reports
A6: Measure | B6: Number of measures [Note 6] | C6: Percentage of measures
A7: Heating systems [Note 4] | B7: 1157 | C7: =B7/$B$12 -> 0.31655267
A8: Solar and renewable energy [Note 5] | B8: 1370 | C8: =B8/$B$12 -> 0.374829
A9: Insulation | B9: 646 | C9: =B9/$B$12 -> 0.17674419
A10: Ventilation | B10: 471 | C10: =B10/$B$12 -> 0.12886457
A11: ASHP & Cylinder | B11: 11 | C11: =B11/$B$12 -> 0.0030095759
A12: Total | B12: =SUM(B7:B11) -> 3655 | C12: =B12/$B$12 -> 1

Sheet Table 5
A1: =Contents!A1 -> Warm Homes Nest scheme: annual report 2025 to 2026 tables
A2: Back to contents
A3: Table 5: Home energy improvement packages by local authority, April 2025 to March 2026 [Note 1]
A4: This worksheet contains one table.
A5: Source: NEST management reports
A6: Local authority | B6: Number | C6: Percentage
A7: Blaenau Gwent | B7: 48 | C7: =B7/$B$29 -> 0.033426184
A8: Bridgend | B8: 76 | C8: =B8/$B$29 -> 0.052924791
A9: Caerphilly | B9: 104 | C9: =B9/$B$29 -> 0.072423398
A10: Cardiff | B10: 106 | C10: =B10/$B$29 -> 0.073816156
A11: Carmarthenshire | B11: 96 | C11: =B11/$B$29 -> 0.066852368
A12: Ceredigion | B12: 29 | C12: =B12/$B$29 -> 0.020194986
A13: Conwy | B13: 58 | C13: =B13/$B$29 -> 0.040389972
A14: Denbighshire | B14: 46 | C14: =B14/$B$29 -> 0.032033426
A15: Flintshire | B15: 40 | C15: =B15/$B$29 -> 0.027855153
A16: Gwynedd | B16: 39 | C16: =B16/$B$29 -> 0.027158774
A17: Isle of Anglesey | B17: 26 | C17: =B17/$B$29 -> 0.01810585
A18: Merthyr Tydfil | B18: 50 | C18: =B18/$B$29 -> 0.034818942
... A28: Wrexham | B28: 30 | C28: =B28/$B$29 -> 0.020891365
A29: Total | B29: =SUM(B7:B28) -> 1436 | C29: =B29/$B$29 -> 1

Sheet Table 6
A1: =Contents!A1 -> Warm Homes Nest scheme: annual report 2025 to 2026 tables
A2: Back to contents
A3: Table 6: Home energy efficiency improvement packages of households by fuel poverty profile
A4: This worksheet contains one table.
A5: Source: NEST management reports
A6: Fuel poverty profile | C6: Number | D6: Percentage
A7: In fuel poverty | C7: 456 | D7: =C7/$C$11 -> 0.31754875
A8: In severe fuel poverty | C8: 667 | D8: =C8/$C$11 -> 0.46448468
A9: Not in fuel poverty | C9: 201 | D9: =C9/$C$11 -> 0.13997214
A10: Unknown | C10: 112 | D10: =C10/$C$11 -> 0.077994429
A11: Total | C11: =SUM(C7:C10) -> 1436 | D11: =C11/$C$11 -> 1

Sheet Table 7
A1: =Contents!A1 -> Warm Homes Nest scheme: annual report 2025 to 2026 tables
A2: Back to contents
A3: Table 7: Home energy efficiency improvement packages by age profile of recipient
A4: This worksheet contains one table.
A5: Source: NEST management reports
A6: Age profile years | B6: Number | C6: Percentage
A7: 16 to 34 | B7: 151 | C7: =B7/$B$13 -> 0.1051532
A8: 35 to 44 | B8: 225 | C8: =B8/$B$13 -> 0.15668524
A9: 45 to 54 | B9: 245 | C9: =B9/$B$13 -> 0.17061281
A10: 55 to 64 | B10: 294 | C10: =B10/$B$13 -> 0.20473538
A11: 65 to 74 | B11: 220 | C11: =B11/$B$13 -> 0.15320334
A12: 75 and over | B12: 301 | C12: =B12/$B$13 -> 0.20961003
A13: Total | B13: =SUM(B7:B12) -> 1436 | C13: =B13/$B$13 -> 1

Sheet Table 8
A1: =Contents!A1 -> Warm Homes Nest scheme: annual report 2025 to 2026 tables
A2: Back to contents
A3: Table 8: Home energy efficiency improvement packages by tenure
A4: This worksheet contains one table.
A5: Source: NEST management reports
A6: Tenure | B6: Number | C6: Percentage
A7: Owner-occupied | B7: 1155 | C7: =B7/$B$10 -> 0.80431755
A8: Private rented | B8: 198 | C8: =B8/$B$10 -> 0.13788301
A9: Unknown (either owner‑occupied or private rented) | B9: 83 | C9: =B9/$B$10 -> 0.057799443
A10: Total | B10: =SUM(B7:B9) -> 1436 | C10: =B10/$B$10 -> 1

Sheet Table 9
A1: =Contents!A1 -> Warm Homes Nest scheme: annual report 2025 to 2026 tables
A2: Back to contents
A3: Table 9: Home energy efficiency improvement packages by household net income (£s)
A4: This worksheet contains one table.
A5: Source: NEST management reports
A6: Net income band (£s) | B6: Number | C6: Percentage
A7: Under 15,000 | B7: 705 | C7: =B7/$B$11 -> 0.49094708
A8: 15,000 to 24,999 | B8: 470 | C8: =B8/$B$11 -> 0.32729805
A9: 25,000 to 34,999 | B9: 180 | C9: =B9/$B$11 -> 0.12534819
A10: 35,000 and above | B10: 81 | C10: =B10/$B$11 -> 0.056406685
A11: Total | B11: =SUM(B7:B10) -> 1436 | C11: =B11/$B$11 -> 1

Sheet Table 10
A1: =Contents!A1 -> Warm Homes Nest scheme: annual report 2025 to 2026 tables
A2: Back to contents
A3: Table 10: Home energy efficiency improvement packages by property type
A4: This worksheet contains one table.
A5: Source: NEST management reports
A6: Property type | B6: Number | C6: Percentage
A7: Detached house | B7: 154 | C7: =B7/$B$13 -> 0.10724234
A8: Semi-detached house | B8: 431 | C8: =B8/$B$13 -> 0.30013928
A9: Mid-terrace house | B9: 464 | C9: =B9/$B$13 -> 0.32311978
A10: End-terrace house | B10: 178 | C10: =B10/$B$13 -> 0.12395543
A11: Bungalow | B11: 176 | C11: =B11/$B$13 -> 0.12256267
A12: Flat | B12: 33 | C12: =B12/$B$13 -> 0.022980501
A13: Total | B13: =SUM(B7:B12) -> 1436 | C13: =B13/$B$13 -> 1

Sheet Table 11
A1: =Contents!A1 -> Warm Homes Nest scheme: annual report 2025 to 2026 tables
A2: Back to contents
A3: Table 11: Homes receiving energy efficiency improvement packages by number of bedrooms
A4: This worksheet contains one table.
A5: Source: NEST management reports
A6: Number of bedrooms | B6: Number | C6: Percentage
A7: 1 bedroom or less | B7: 491 | C7: =B7/$B$11 -> 0.34192201
A8: 2 bedrooms | B8: 209 | C8: =B8/$B$11 -> 0.14554318
A9: 3 bedrooms | B9: 595 | C9: =B9/$B$11 -> 0.4143454
A10: 4 bedrooms or more | B10: 141 | C10: =B10/$B$11 -> 0.098189415
A11: Total | B11: =SUM(B7:B10) -> 1436 | C11: =B11/$B$11 -> 1

Sheet Table 12
A1: =Contents!A1 -> Warm Homes Nest scheme: annual report 2025 to 2026 tables
A2: Back to contents
A3: Table 12: Home energy efficiency improvement packages by property age
A4: This worksheet contains one table.
A5: Source: NEST management reports
A6: Dwelling Age | B6: Number | C6: Percentage
A7: Pre 1930 | B7: 637 | C7: =B7/$B$12 -> 0.44359331
A8: 1930 to 1949 | B8: 145 | C8: =B8/$B$12 -> 0.10097493
A9: 1950 to 1966 | B9: 300 | C9: =B9/$B$12 -> 0.20891365
A10: 1967 to 1982 | B10: 209 | C10: =B10/$B$12 -> 0.14554318
A11: Post 1982 | B11: 145 | C11: =B11/$B$12 -> 0.10097493
A12: Total | B12: =SUM(B7:B11) -> 1436 | C12: =B12/$B$12 -> 1

Sheet Table 13
A1: =Contents!A1 -> Warm Homes Nest scheme: annual report 2025 to 2026 tables
A2: Back to contents
A3: Table 13: Home energy efficiency improvement packages by current heating system
A4: This worksheet contains one table.
A5: Source: NEST management reports
A6: Heating system | B6: Number | C6: Percentage
A7: Boiler | B7: 1329 | C7: =B7/$B$10 -> 0.92548747
A8: Other heating system [Note 7] | B8: 49 | C8: =B8/$B$10 -> 0.034122563
A9: Unknown | B9: 58 | C9: =B9/$B$10 -> 0.040389972
A10: Total | B10: =SUM(B7:B9) -> 1436 | C10: =B10/$B$10 -> 1

Sheet Table 14
A1: =Contents!A1 -> Warm Homes Nest scheme: annual report 2025 to 2026 tables
A2: Back to contents
A3: Table 14: Home energy efficiency improvement packages by main fuel type at property
A4: This worksheet contains one table.
A5: Source: NEST management reports
A6: Fuel type | B6: Number | C6: Percentage
A7: Mains gas | B7: 1198 | C7: =B7/$B$17 -> 0.83426184
A8: Oil | B8: 90 | C8: =B8/$B$17 -> 0.062674095
A9: Electricity | B9: 46 | C9: =B9/$B$17 -> 0.032033426
A10: LPG | B10: 20 | C10: =B10/$B$17 -> 0.013927577
A11: Coal | B11: 7 | C11: =B11/$B$17 -> 0.0048746518
A12: Bottled Gas | B12: 1 | C12: =B12/$B$17 -> 0.00069637883
A13: Heat pump | B13: 1 | C13: =B13/$B$17 -> 0.00069637883
A14: Smokeless Fuel | B14: 1 | C14: =B14/$B$17 -> 0.00069637883
A15: Other | B15: 6 | C15: =B15/$B$17 -> 0.004178273
A16: Unknown | B16: 66 | C16: =B16/$B$17 -> 0.045961003
A17: Total | B17: =SUM(B7:B16) -> 1436 | C17: =B17/$B$17 -> 1

Sheet Table 15
A1: =Contents!A1 -> Warm Homes Nest scheme: annual report 2025 to 2026 tables
A2: Back to contents
A3: Table 15: Home energy efficiency improvement packages by wall type and insulation
A4: This worksheet contains one table.
A5: Source: NEST management reports
A6: Wall type and insulation | B6: Number | C6: Percentage
A7: Cavity walls | B7: 673 | C7: =B7/$B$12 -> 0.46866295
A8: Solid walls | B8: 598 | C8: =B8/$B$12 -> 0.41643454
A9: Insulated solid walls | B9: 41 | C9: =B9/$B$12 -> 0.028551532
A10: System built | B10: 58 | C10: =B10/$B$12 -> 0.040389972
A11: Unknown | B11: 66 | C11: =B11/$B$12 -> 0.045961003
A12: Total | B12: =SUM(B7:B11) -> 1436 | C12: =B12/$B$12 -> 1

Sheet Table 16
A1: =Contents!A1 -> Warm Homes Nest scheme: annual report 2025 to 2026 tables
A2: Back to contents
A3: Table 16: Homes receiving energy efficiency improvement package by urban and rural classification [Note 8]
A4: This worksheet contains one table.
A5: Source: NEST management reports
A6: Urban/Rural | B6: Number | C6: Percentage
A7: Urban | B7: 1242 | C7: =B7/$B$9 -> 0.86490251
A8: Rural | B8: 194 | C8: =B8/$B$9 -> 0.13509749
A9: Total | B9: =SUM(B7:B8) -> 1436 | C9: =B9/$B$9 -> 1

Sheet Table 17
A1: =Contents!A1 -> Warm Homes Nest scheme: annual report 2025 to 2026 tables
A2: Back to contents
A3: Table 17: Energy efficiency Rating (EER) before and after installation of home energy efficiency improvement packages
A4: This worksheet contains one table.
A5: Source: NEST management reports
A6: SAP Rating | B6: Before installation | C6: Before installation (%) | D6: After installation | E6: After installation (%)
A7: A | B7: 0 | C7: =$B7/$B$15 -> 0 | D7: 6 | E7: =$D7/$D$15 -> 0.0078431373
A8: B | B8: 0 | C8: =$B8/$B$15 -> 0 | D8: 121 | E8: =$D8/$D$15 -> 0.15816993
A9: C | B9: 0 | C9: =$B9/$B$15 -> 0 | D9: 363 | E9: =$D9/$D$15 -> 0.4745098
A10: D | B10: 442 | C10: =$B10/$B$15 -> 0.30779944 | D10: 243 | E10: =$D10/$D$15 -> 0.31764706
A11: E | B11: 285 | C11: =$B11/$B$15 -> 0.19846797 | D11: 28 | E11: =$D11/$D$15 -> 0.036601307
A12: F | B12: 448 | C12: =$B12/$B$15 -> 0.31197772 | D12: 3 | E12: =$D12/$D$15 -> 0.0039215686
A13: G | B13: 261 | C13: =$B13/$B$15 -> 0.18175487 | D13: 1 | E13: =$D13/$D$15 -> 0.0013071895
A14: Missing data | B14: 0 | C14: =$B14/$B$15 -> 0 | D14: 671 | E14: =D14/B15 -> 0.46727019
A15: Total | B15: =SUM(B7:B14) -> 1436 | C15: =$B15/$B$15 -> 1 | D15: =SUM(D7:D13) -> 765 | E15: =$D15/$D$15 -> 1

Sheet Table 18
A1: =Contents!A1 -> Warm Homes Nest scheme: annual report 2025 to 2026 tables
A2: Back to contents
A3: Table 18: Household savings cost energy and carbon dioxide emisions (Standard route) [note 9]
A4: This worksheet contains one table.
A5: Source: NEST management reports
A6: Local authority | B6: Average of Fuel Cost Annual Saving (£s) | C6: Sum of CO2 Lifetime Saving (tCO) | D6: Average of Energy Use Saving (megajoules)
A7: Blaenau Gwent | B7: 460.01 | C7: 178.51 | D7: 81210.731
A8: Bridgend | B8: 598.27036 | C8: 421.71 | D8: 93668.056
A9: Caerphilly | B9: 575.07846 | C9: 566.8 | D9: 101880.81
A10: Cardiff | B10: 552.89759 | C10: 441.38 | D10: 92505.184
A11: Carmarthenshire | B11: 617.75375 | C11: 316.69 | D11: 81992.653
A12: Ceredigion | B12: 1004.2518 | C12: 169.29 | D12: 88922.153
A13: Conwy | B13: 535.45938 | C13: 234.23 | D13: 88176.299
A14: Denbighshire | B14: 581.48071 | C14: 263.21 | D14: 108026.26
A15: Flintshire | B15: 678.1375 | C15: 134.14 | D15: 100807.22
A16: Gwynedd | B16: 678.86714 | C16: 89.19 | D16: 91081.856
A17: Isle of Anglesey | B17: 588.86091 | C17: 96.76 | D17: 62163.722
A18: Merthyr Tydfil | B18: 515.61308 | C18: 271.82 | D18: 68483.285
... A29: Wales | B29: 573.39105 | C29: 6607.25 | D29: 85945.717

Sheet Table 19
A1: =Contents!A1 -> Warm Homes Nest scheme: annual report 2025 to 2026 tables
A2: Back to contents
A3: Table 19: Household savings cost energy and carbon dioxide emisions (Crisis route) [Note 10]
A4: This worksheet contains one table.
A5: Source: NEST management reports
A6: Local authority | B6: Average of Fuel Cost Annual Saving (£s) | C6: Sum of CO2 Lifetime Saving (tCO) | D6: Average of Energy Use Saving (megajoules)
A7: Blaenau Gwent | B7: 616.08057 | C7: 822.28 | D7: 21632.257
A8: Bridgend | B8: 601.76875 | C8: 1128.83 | D8: 21414.208
A9: Caerphilly | B9: 636.87431 | C9: 1623.21 | D9: 21379.754
A10: Cardiff | B10: 664.85974 | C10: 2104.12 | D10: 20777.364
A11: Carmarthenshire | B11: 653.90403 | C11: 1868.88 | D11: 21590.403
A12: Ceredigion | B12: 508.94722 | C12: 354.9 | D12: 21048.056
A13: Conwy | B13: 558.405 | C13: 886.68 | D13: 20728.452
A14: Denbighshire | B14: 509.74094 | C14: 599.73 | D14: 20275.062
A15: Flintshire | B15: 584.74562 | C15: 726.58 | D15: 20043.75
A16: Gwynedd | B16: 442.11469 | C16: 458.33 | D16: 20290.812
A17: Isle of Anglesey | B17: 516.536 | C17: 282.34 | D17: 21371.267
A18: Merthyr Tydfil | B18: 674.86167 | C18: 657.75 | D18: 21814.5
... A29: Wales | B29: 605.0424 | C29: 22515.48 | D29: 21207.915

Sheet Table 20
A1: =Contents!A1 -> Warm Homes Nest scheme: annual report 2025 to 2026 tables
A2: Back to contents
A3: Table 20: Average spend (£s) per household on home energy efficiency improvements by local authority
A4: This worksheet contains one table.
A5: Source: NEST management reports
A6: Local authority | B6: Average spend (£s)
A7: Vale of Glamorgan | B7: 17699.427
A8: Merthyr Tydfil | B8: 16538.747
A9: Ceredigion | B9: 15426.881
A10: Monmouthshire | B10: 15027.779
A11: Powys | B11: 14884.06
A12: Caerphilly | B12: 14515.027
A13: Torfaen | B13: 14460.99
A14: Isle of Anglesey | B14: 14304.912
A15: Bridgend | B15: 14240.114
A16: Pembrokeshire | B16: 14238.814
A17: Swansea | B17: 14090.143
A18: Carmarthenshire | B18: 14075.453
... A29: Wales | B29: 13761.9
